BEGIN:VCALENDAR
VERSION:2.0
PRODID:-//Play Pittsburgh - ECPv6.15.20//NONSGML v1.0//EN
CALSCALE:GREGORIAN
METHOD:PUBLISH
X-WR-CALNAME:Play Pittsburgh
X-ORIGINAL-URL:https://playpittsburgh.com
X-WR-CALDESC:Events for Play Pittsburgh
REFRESH-INTERVAL;VALUE=DURATION:PT1H
X-Robots-Tag:noindex
X-PUBLISHED-TTL:PT1H
BEGIN:VTIMEZONE
TZID:America/New_York
BEGIN:DAYLIGHT
TZOFFSETFROM:-0500
TZOFFSETTO:-0400
TZNAME:EDT
DTSTART:20140309T070000
END:DAYLIGHT
BEGIN:STANDARD
TZOFFSETFROM:-0400
TZOFFSETTO:-0500
TZNAME:EST
DTSTART:20141102T060000
END:STANDARD
BEGIN:DAYLIGHT
TZOFFSETFROM:-0500
TZOFFSETTO:-0400
TZNAME:EDT
DTSTART:20150308T070000
END:DAYLIGHT
BEGIN:STANDARD
TZOFFSETFROM:-0400
TZOFFSETTO:-0500
TZNAME:EST
DTSTART:20151101T060000
END:STANDARD
BEGIN:DAYLIGHT
TZOFFSETFROM:-0500
TZOFFSETTO:-0400
TZNAME:EDT
DTSTART:20160313T070000
END:DAYLIGHT
BEGIN:STANDARD
TZOFFSETFROM:-0400
TZOFFSETTO:-0500
TZNAME:EST
DTSTART:20161106T060000
END:STANDARD
BEGIN:DAYLIGHT
TZOFFSETFROM:-0500
TZOFFSETTO:-0400
TZNAME:EDT
DTSTART:20170312T070000
END:DAYLIGHT
BEGIN:STANDARD
TZOFFSETFROM:-0400
TZOFFSETTO:-0500
TZNAME:EST
DTSTART:20171105T060000
END:STANDARD
END:VTIMEZONE
BEGIN:VEVENT
DTSTART;VALUE=DATE:20160806
DTEND;VALUE=DATE:20160807
DTSTAMP:20260421T190759
CREATED:20160729T172417Z
LAST-MODIFIED:20160729T172417Z
UID:10084-1470441600-1470527999@playpittsburgh.com
SUMMARY:Fayette County Fair
DESCRIPTION:Join the fun at Fayette County Fair. Events from July 28th through August 6th – check the schedule for updates on carnival rides\, livestock\, shows\, concerts and pageants.
URL:https://playpittsburgh.com/event/fayette-county-fair/2016-08-06/
LOCATION:Fayette County Fairgrounds\, 132 Pechin Rd\,  Dunbar\, PA\, 15431\, United States
GEO:39.967288;-79.638864
X-APPLE-STRUCTURED-LOCATION;VALUE=URI;X-ADDRESS=Fayette County Fairgrounds 132 Pechin Rd  Dunbar PA 15431 United States;X-APPLE-RADIUS=500;X-TITLE=132 Pechin Rd:geo:-79.638864,39.967288
END:VEVENT
BEGIN:VEVENT
DTSTART;VALUE=DATE:20160805
DTEND;VALUE=DATE:20160806
DTSTAMP:20260421T190759
CREATED:20160729T172417Z
LAST-MODIFIED:20160729T172417Z
UID:10083-1470355200-1470441599@playpittsburgh.com
SUMMARY:Fayette County Fair
DESCRIPTION:Join the fun at Fayette County Fair. Events from July 28th through August 6th – check the schedule for updates on carnival rides\, livestock\, shows\, concerts and pageants.
URL:https://playpittsburgh.com/event/fayette-county-fair/2016-08-05/
LOCATION:Fayette County Fairgrounds\, 132 Pechin Rd\,  Dunbar\, PA\, 15431\, United States
GEO:39.967288;-79.638864
X-APPLE-STRUCTURED-LOCATION;VALUE=URI;X-ADDRESS=Fayette County Fairgrounds 132 Pechin Rd  Dunbar PA 15431 United States;X-APPLE-RADIUS=500;X-TITLE=132 Pechin Rd:geo:-79.638864,39.967288
END:VEVENT
BEGIN:VEVENT
DTSTART;VALUE=DATE:20160804
DTEND;VALUE=DATE:20160805
DTSTAMP:20260421T190759
CREATED:20160729T172417Z
LAST-MODIFIED:20160729T172417Z
UID:10082-1470268800-1470355199@playpittsburgh.com
SUMMARY:Fayette County Fair
DESCRIPTION:Join the fun at Fayette County Fair. Events from July 28th through August 6th – check the schedule for updates on carnival rides\, livestock\, shows\, concerts and pageants.
URL:https://playpittsburgh.com/event/fayette-county-fair/2016-08-04/
LOCATION:Fayette County Fairgrounds\, 132 Pechin Rd\,  Dunbar\, PA\, 15431\, United States
GEO:39.967288;-79.638864
X-APPLE-STRUCTURED-LOCATION;VALUE=URI;X-ADDRESS=Fayette County Fairgrounds 132 Pechin Rd  Dunbar PA 15431 United States;X-APPLE-RADIUS=500;X-TITLE=132 Pechin Rd:geo:-79.638864,39.967288
END:VEVENT
BEGIN:VEVENT
DTSTART;VALUE=DATE:20160803
DTEND;VALUE=DATE:20160804
DTSTAMP:20260421T190759
CREATED:20160729T172417Z
LAST-MODIFIED:20160729T172417Z
UID:10081-1470182400-1470268799@playpittsburgh.com
SUMMARY:Fayette County Fair
DESCRIPTION:Join the fun at Fayette County Fair. Events from July 28th through August 6th – check the schedule for updates on carnival rides\, livestock\, shows\, concerts and pageants.
URL:https://playpittsburgh.com/event/fayette-county-fair/2016-08-03/
LOCATION:Fayette County Fairgrounds\, 132 Pechin Rd\,  Dunbar\, PA\, 15431\, United States
GEO:39.967288;-79.638864
X-APPLE-STRUCTURED-LOCATION;VALUE=URI;X-ADDRESS=Fayette County Fairgrounds 132 Pechin Rd  Dunbar PA 15431 United States;X-APPLE-RADIUS=500;X-TITLE=132 Pechin Rd:geo:-79.638864,39.967288
END:VEVENT
BEGIN:VEVENT
DTSTART;VALUE=DATE:20160802
DTEND;VALUE=DATE:20160803
DTSTAMP:20260421T190759
CREATED:20160729T172417Z
LAST-MODIFIED:20160729T172417Z
UID:10080-1470096000-1470182399@playpittsburgh.com
SUMMARY:Fayette County Fair
DESCRIPTION:Join the fun at Fayette County Fair. Events from July 28th through August 6th – check the schedule for updates on carnival rides\, livestock\, shows\, concerts and pageants.
URL:https://playpittsburgh.com/event/fayette-county-fair/2016-08-02/
LOCATION:Fayette County Fairgrounds\, 132 Pechin Rd\,  Dunbar\, PA\, 15431\, United States
GEO:39.967288;-79.638864
X-APPLE-STRUCTURED-LOCATION;VALUE=URI;X-ADDRESS=Fayette County Fairgrounds 132 Pechin Rd  Dunbar PA 15431 United States;X-APPLE-RADIUS=500;X-TITLE=132 Pechin Rd:geo:-79.638864,39.967288
END:VEVENT
BEGIN:VEVENT
DTSTART;VALUE=DATE:20160801
DTEND;VALUE=DATE:20160802
DTSTAMP:20260421T190759
CREATED:20160729T172417Z
LAST-MODIFIED:20160729T172417Z
UID:10079-1470009600-1470095999@playpittsburgh.com
SUMMARY:Fayette County Fair
DESCRIPTION:Join the fun at Fayette County Fair. Events from July 28th through August 6th – check the schedule for updates on carnival rides\, livestock\, shows\, concerts and pageants.
URL:https://playpittsburgh.com/event/fayette-county-fair/2016-08-01/
LOCATION:Fayette County Fairgrounds\, 132 Pechin Rd\,  Dunbar\, PA\, 15431\, United States
GEO:39.967288;-79.638864
X-APPLE-STRUCTURED-LOCATION;VALUE=URI;X-ADDRESS=Fayette County Fairgrounds 132 Pechin Rd  Dunbar PA 15431 United States;X-APPLE-RADIUS=500;X-TITLE=132 Pechin Rd:geo:-79.638864,39.967288
END:VEVENT
BEGIN:VEVENT
DTSTART;VALUE=DATE:20160731
DTEND;VALUE=DATE:20160801
DTSTAMP:20260421T190759
CREATED:20160729T172417Z
LAST-MODIFIED:20160729T172417Z
UID:10078-1469923200-1470009599@playpittsburgh.com
SUMMARY:Fayette County Fair
DESCRIPTION:Join the fun at Fayette County Fair. Events from July 28th through August 6th – check the schedule for updates on carnival rides\, livestock\, shows\, concerts and pageants.
URL:https://playpittsburgh.com/event/fayette-county-fair/2016-07-31/
LOCATION:Fayette County Fairgrounds\, 132 Pechin Rd\,  Dunbar\, PA\, 15431\, United States
GEO:39.967288;-79.638864
X-APPLE-STRUCTURED-LOCATION;VALUE=URI;X-ADDRESS=Fayette County Fairgrounds 132 Pechin Rd  Dunbar PA 15431 United States;X-APPLE-RADIUS=500;X-TITLE=132 Pechin Rd:geo:-79.638864,39.967288
END:VEVENT
BEGIN:VEVENT
DTSTART;VALUE=DATE:20160730
DTEND;VALUE=DATE:20160731
DTSTAMP:20260421T190759
CREATED:20160729T172417Z
LAST-MODIFIED:20160729T172417Z
UID:10077-1469836800-1469923199@playpittsburgh.com
SUMMARY:Fayette County Fair
DESCRIPTION:Join the fun at Fayette County Fair. Events from July 28th through August 6th – check the schedule for updates on carnival rides\, livestock\, shows\, concerts and pageants.
URL:https://playpittsburgh.com/event/fayette-county-fair/2016-07-30/
LOCATION:Fayette County Fairgrounds\, 132 Pechin Rd\,  Dunbar\, PA\, 15431\, United States
GEO:39.967288;-79.638864
X-APPLE-STRUCTURED-LOCATION;VALUE=URI;X-ADDRESS=Fayette County Fairgrounds 132 Pechin Rd  Dunbar PA 15431 United States;X-APPLE-RADIUS=500;X-TITLE=132 Pechin Rd:geo:-79.638864,39.967288
END:VEVENT
BEGIN:VEVENT
DTSTART;VALUE=DATE:20160729
DTEND;VALUE=DATE:20160730
DTSTAMP:20260421T190759
CREATED:20160729T172417Z
LAST-MODIFIED:20160729T172417Z
UID:10076-1469750400-1469836799@playpittsburgh.com
SUMMARY:Fayette County Fair
DESCRIPTION:Join the fun at Fayette County Fair. Events from July 28th through August 6th – check the schedule for updates on carnival rides\, livestock\, shows\, concerts and pageants.
URL:https://playpittsburgh.com/event/fayette-county-fair/2016-07-29/
LOCATION:Fayette County Fairgrounds\, 132 Pechin Rd\,  Dunbar\, PA\, 15431\, United States
GEO:39.967288;-79.638864
X-APPLE-STRUCTURED-LOCATION;VALUE=URI;X-ADDRESS=Fayette County Fairgrounds 132 Pechin Rd  Dunbar PA 15431 United States;X-APPLE-RADIUS=500;X-TITLE=132 Pechin Rd:geo:-79.638864,39.967288
END:VEVENT
BEGIN:VEVENT
DTSTART;VALUE=DATE:20160728
DTEND;VALUE=DATE:20160729
DTSTAMP:20260421T190759
CREATED:20160729T172417Z
LAST-MODIFIED:20160729T172417Z
UID:10075-1469664000-1469750399@playpittsburgh.com
SUMMARY:Fayette County Fair
DESCRIPTION:Join the fun at Fayette County Fair. Events from July 28th through August 6th – check the schedule for updates on carnival rides\, livestock\, shows\, concerts and pageants.
URL:https://playpittsburgh.com/event/fayette-county-fair/2016-07-28/
LOCATION:Fayette County Fairgrounds\, 132 Pechin Rd\,  Dunbar\, PA\, 15431\, United States
GEO:39.967288;-79.638864
X-APPLE-STRUCTURED-LOCATION;VALUE=URI;X-ADDRESS=Fayette County Fairgrounds 132 Pechin Rd  Dunbar PA 15431 United States;X-APPLE-RADIUS=500;X-TITLE=132 Pechin Rd:geo:-79.638864,39.967288
END:VEVENT
BEGIN:VEVENT
DTSTART;TZID=America/New_York:20150620T100000
DTEND;TZID=America/New_York:20150620T150000
DTSTAMP:20260421T190759
CREATED:20150602T044139Z
LAST-MODIFIED:20150618T143124Z
UID:8955-1434794400-1434812400@playpittsburgh.com
SUMMARY:Fayette County Family Fun Fest
DESCRIPTION:Free admission\, hot dog\, and drink! \n \nEnjoy an afternoon of fun\, rain or shine! \n\nInflatable slide and bounce house\nWild world of animals\nParty in a box campground\nStage Right / Books Come Alive : “Super Daisy”\nObstacle Course\nBasket Auction\nDJ\nFire Trucks\nBalloon Twisting & Face Painting\nGlitter Tattoos\nFayette County Search & Rescue\nPopular Costume Characters\nPetting Zoo\nDecorate Eat & Park Smiley Cookies\nHome Depot – Ready to Assemble Kits for Kids\nPittsburgh Institute Puppet Show\n\nAND MORE!
URL:https://playpittsburgh.com/event/fayette-county-family-fun-fest/
LOCATION:Fayette County Fairgrounds\, 132 Pechin Rd\,  Dunbar\, PA\, 15431\, United States
GEO:39.967288;-79.638864
X-APPLE-STRUCTURED-LOCATION;VALUE=URI;X-ADDRESS=Fayette County Fairgrounds 132 Pechin Rd  Dunbar PA 15431 United States;X-APPLE-RADIUS=500;X-TITLE=132 Pechin Rd:geo:-79.638864,39.967288
END:VEVENT
END:VCALENDAR