BEGIN:VCALENDAR
VERSION:2.0
PRODID:-//Play Pittsburgh - ECPv6.15.20//NONSGML v1.0//EN
CALSCALE:GREGORIAN
METHOD:PUBLISH
X-ORIGINAL-URL:https://playpittsburgh.com
X-WR-CALDESC:Events for Play Pittsburgh
REFRESH-INTERVAL;VALUE=DURATION:PT1H
X-Robots-Tag:noindex
X-PUBLISHED-TTL:PT1H
BEGIN:VTIMEZONE
TZID:America/New_York
BEGIN:DAYLIGHT
TZOFFSETFROM:-0500
TZOFFSETTO:-0400
TZNAME:EDT
DTSTART:20140309T070000
END:DAYLIGHT
BEGIN:STANDARD
TZOFFSETFROM:-0400
TZOFFSETTO:-0500
TZNAME:EST
DTSTART:20141102T060000
END:STANDARD
BEGIN:DAYLIGHT
TZOFFSETFROM:-0500
TZOFFSETTO:-0400
TZNAME:EDT
DTSTART:20150308T070000
END:DAYLIGHT
BEGIN:STANDARD
TZOFFSETFROM:-0400
TZOFFSETTO:-0500
TZNAME:EST
DTSTART:20151101T060000
END:STANDARD
BEGIN:DAYLIGHT
TZOFFSETFROM:-0500
TZOFFSETTO:-0400
TZNAME:EDT
DTSTART:20160313T070000
END:DAYLIGHT
BEGIN:STANDARD
TZOFFSETFROM:-0400
TZOFFSETTO:-0500
TZNAME:EST
DTSTART:20161106T060000
END:STANDARD
END:VTIMEZONE
BEGIN:VEVENT
DTSTART;TZID=America/New_York:20150416T173000
DTEND;TZID=America/New_York:20150416T200000
DTSTAMP:20260422T105810
CREATED:20150329T012623Z
LAST-MODIFIED:20150329T012623Z
UID:8600-1429205400-1429214400@playpittsburgh.com
SUMMARY:“The Incredible Family” Parenting Series
DESCRIPTION:Parenting is a lot of hard work. Find ways to make parenting easier and fun for both you and your child. Dinner provided!
URL:https://playpittsburgh.com/event/the-incredible-family-parenting-series/2015-04-16/
LOCATION:Family Services – Greensburg\, 201 Huff Avenue\, Suite 1\, Greensburg\, PA\, 15601\, United States
GEO:40.2813575;-79.5481242
X-APPLE-STRUCTURED-LOCATION;VALUE=URI;X-ADDRESS=Family Services – Greensburg 201 Huff Avenue Suite 1 Greensburg PA 15601 United States;X-APPLE-RADIUS=500;X-TITLE=201 Huff Avenue\, Suite 1:geo:-79.5481242,40.2813575
END:VEVENT
BEGIN:VEVENT
DTSTART;TZID=America/New_York:20150409T173000
DTEND;TZID=America/New_York:20150409T200000
DTSTAMP:20260422T105810
CREATED:20150329T012623Z
LAST-MODIFIED:20150329T012623Z
UID:8599-1428600600-1428609600@playpittsburgh.com
SUMMARY:“The Incredible Family” Parenting Series
DESCRIPTION:Parenting is a lot of hard work. Find ways to make parenting easier and fun for both you and your child. Dinner provided!
URL:https://playpittsburgh.com/event/the-incredible-family-parenting-series/2015-04-09/
LOCATION:Family Services – Greensburg\, 201 Huff Avenue\, Suite 1\, Greensburg\, PA\, 15601\, United States
GEO:40.2813575;-79.5481242
X-APPLE-STRUCTURED-LOCATION;VALUE=URI;X-ADDRESS=Family Services – Greensburg 201 Huff Avenue Suite 1 Greensburg PA 15601 United States;X-APPLE-RADIUS=500;X-TITLE=201 Huff Avenue\, Suite 1:geo:-79.5481242,40.2813575
END:VEVENT
BEGIN:VEVENT
DTSTART;TZID=America/New_York:20150402T173000
DTEND;TZID=America/New_York:20150402T200000
DTSTAMP:20260422T105810
CREATED:20150329T012623Z
LAST-MODIFIED:20150329T012623Z
UID:8598-1427995800-1428004800@playpittsburgh.com
SUMMARY:“The Incredible Family” Parenting Series
DESCRIPTION:Parenting is a lot of hard work. Find ways to make parenting easier and fun for both you and your child. Dinner provided!
URL:https://playpittsburgh.com/event/the-incredible-family-parenting-series/2015-04-02/
LOCATION:Family Services – Greensburg\, 201 Huff Avenue\, Suite 1\, Greensburg\, PA\, 15601\, United States
GEO:40.2813575;-79.5481242
X-APPLE-STRUCTURED-LOCATION;VALUE=URI;X-ADDRESS=Family Services – Greensburg 201 Huff Avenue Suite 1 Greensburg PA 15601 United States;X-APPLE-RADIUS=500;X-TITLE=201 Huff Avenue\, Suite 1:geo:-79.5481242,40.2813575
END:VEVENT
BEGIN:VEVENT
DTSTART;TZID=America/New_York:20150326T173000
DTEND;TZID=America/New_York:20150326T200000
DTSTAMP:20260422T105810
CREATED:20150329T012623Z
LAST-MODIFIED:20150329T012623Z
UID:8597-1427391000-1427400000@playpittsburgh.com
SUMMARY:“The Incredible Family” Parenting Series
DESCRIPTION:Parenting is a lot of hard work. Find ways to make parenting easier and fun for both you and your child. Dinner provided!
URL:https://playpittsburgh.com/event/the-incredible-family-parenting-series/2015-03-26/
LOCATION:Family Services – Greensburg\, 201 Huff Avenue\, Suite 1\, Greensburg\, PA\, 15601\, United States
GEO:40.2813575;-79.5481242
X-APPLE-STRUCTURED-LOCATION;VALUE=URI;X-ADDRESS=Family Services – Greensburg 201 Huff Avenue Suite 1 Greensburg PA 15601 United States;X-APPLE-RADIUS=500;X-TITLE=201 Huff Avenue\, Suite 1:geo:-79.5481242,40.2813575
END:VEVENT
BEGIN:VEVENT
DTSTART;TZID=America/New_York:20150319T173000
DTEND;TZID=America/New_York:20150319T200000
DTSTAMP:20260422T105810
CREATED:20150329T012623Z
LAST-MODIFIED:20150329T012623Z
UID:5958-1426786200-1426795200@playpittsburgh.com
SUMMARY:“The Incredible Family” Parenting Series
DESCRIPTION:Parenting is a lot of hard work. Find ways to make parenting easier and fun for both you and your child. Dinner provided!
URL:https://playpittsburgh.com/event/the-incredible-family-parenting-series/2015-03-19/
LOCATION:Family Services – Greensburg\, 201 Huff Avenue\, Suite 1\, Greensburg\, PA\, 15601\, United States
GEO:40.2813575;-79.5481242
X-APPLE-STRUCTURED-LOCATION;VALUE=URI;X-ADDRESS=Family Services – Greensburg 201 Huff Avenue Suite 1 Greensburg PA 15601 United States;X-APPLE-RADIUS=500;X-TITLE=201 Huff Avenue\, Suite 1:geo:-79.5481242,40.2813575
END:VEVENT
END:VCALENDAR