BEGIN:VCALENDAR
VERSION:2.0
PRODID:-//Play Pittsburgh - ECPv6.15.20//NONSGML v1.0//EN
CALSCALE:GREGORIAN
METHOD:PUBLISH
X-ORIGINAL-URL:https://playpittsburgh.com
X-WR-CALDESC:Events for Play Pittsburgh
REFRESH-INTERVAL;VALUE=DURATION:PT1H
X-Robots-Tag:noindex
X-PUBLISHED-TTL:PT1H
BEGIN:VTIMEZONE
TZID:America/New_York
BEGIN:DAYLIGHT
TZOFFSETFROM:-0500
TZOFFSETTO:-0400
TZNAME:EDT
DTSTART:20130310T070000
END:DAYLIGHT
BEGIN:STANDARD
TZOFFSETFROM:-0400
TZOFFSETTO:-0500
TZNAME:EST
DTSTART:20131103T060000
END:STANDARD
BEGIN:DAYLIGHT
TZOFFSETFROM:-0500
TZOFFSETTO:-0400
TZNAME:EDT
DTSTART:20140309T070000
END:DAYLIGHT
BEGIN:STANDARD
TZOFFSETFROM:-0400
TZOFFSETTO:-0500
TZNAME:EST
DTSTART:20141102T060000
END:STANDARD
BEGIN:DAYLIGHT
TZOFFSETFROM:-0500
TZOFFSETTO:-0400
TZNAME:EDT
DTSTART:20150308T070000
END:DAYLIGHT
BEGIN:STANDARD
TZOFFSETFROM:-0400
TZOFFSETTO:-0500
TZNAME:EST
DTSTART:20151101T060000
END:STANDARD
END:VTIMEZONE
BEGIN:VEVENT
DTSTART;TZID=America/New_York:20140921T120000
DTEND;TZID=America/New_York:20140921T160000
DTSTAMP:20260422T100722
CREATED:20140830T180426Z
LAST-MODIFIED:20140830T180426Z
UID:3344-1411300800-1411315200@playpittsburgh.com
SUMMARY:8th Annual South Fayette Chili Cook-Off
DESCRIPTION:The Rotary Club of Bridgeville-South Fayette is holding its 8th Annual Chili Cook-Off Fundraiser Sunday\, September 21st\, 2014 from Noon to 4:00 PM at Fairview Park in South Fayette Township.    \nChili fans come from all over the community to compete and enjoy some of the areas best chili recipes. Over 24 teams regularly compete in this fall festival\, as well as dozens of vendors and sponsors.  \n100% of the net proceeds from the fundraising events go directly to support charitable or public improvement services in the South Fayette area.
URL:https://playpittsburgh.com/event/8th-annual-south-fayette-chili-cook-off/
LOCATION:Fairview Park\, Greenwood Dr\, Bridgeville \, PA\, 15017\, United States
CATEGORIES:Festivals,Outdoor
GEO:40.3335232;-80.126806
X-APPLE-STRUCTURED-LOCATION;VALUE=URI;X-ADDRESS=Fairview Park Greenwood Dr Bridgeville  PA 15017 United States;X-APPLE-RADIUS=500;X-TITLE=Greenwood Dr:geo:-80.126806,40.3335232
END:VEVENT
END:VCALENDAR