BEGIN:VCALENDAR
VERSION:2.0
PRODID:-//Play Pittsburgh - ECPv6.15.20//NONSGML v1.0//EN
CALSCALE:GREGORIAN
METHOD:PUBLISH
X-WR-CALNAME:Play Pittsburgh
X-ORIGINAL-URL:https://playpittsburgh.com
X-WR-CALDESC:Events for Play Pittsburgh
REFRESH-INTERVAL;VALUE=DURATION:PT1H
X-Robots-Tag:noindex
X-PUBLISHED-TTL:PT1H
BEGIN:VTIMEZONE
TZID:America/New_York
BEGIN:DAYLIGHT
TZOFFSETFROM:-0500
TZOFFSETTO:-0400
TZNAME:EDT
DTSTART:20130310T070000
END:DAYLIGHT
BEGIN:STANDARD
TZOFFSETFROM:-0400
TZOFFSETTO:-0500
TZNAME:EST
DTSTART:20131103T060000
END:STANDARD
BEGIN:DAYLIGHT
TZOFFSETFROM:-0500
TZOFFSETTO:-0400
TZNAME:EDT
DTSTART:20140309T070000
END:DAYLIGHT
BEGIN:STANDARD
TZOFFSETFROM:-0400
TZOFFSETTO:-0500
TZNAME:EST
DTSTART:20141102T060000
END:STANDARD
BEGIN:DAYLIGHT
TZOFFSETFROM:-0500
TZOFFSETTO:-0400
TZNAME:EDT
DTSTART:20150308T070000
END:DAYLIGHT
BEGIN:STANDARD
TZOFFSETFROM:-0400
TZOFFSETTO:-0500
TZNAME:EST
DTSTART:20151101T060000
END:STANDARD
END:VTIMEZONE
BEGIN:VEVENT
DTSTART;TZID=America/New_York:20140927T110000
DTEND;TZID=America/New_York:20140927T170000
DTSTAMP:20260424T092740
CREATED:20140901T201231Z
LAST-MODIFIED:20140901T201231Z
UID:3534-1411815600-1411837200@playpittsburgh.com
SUMMARY:Pumpkin' Pickin' Hay Rides @ Duda Farms
DESCRIPTION:There is always plenty to on the Duda farm; enjoy a hayride to the pumpkin patch where you can pick the pumpkin of your choice\, try to navigate through the corn stalk maze\, take a walk through the animal barn\, roast some marshmallows over the bonfire\, or take a ride down the Double Barrel Shotgun Slides! \nWeekends through the end of October.
URL:https://playpittsburgh.com/event/pumpkin-pickin-hay-rides-duda-farms/2014-09-27/
LOCATION:Duda’s Farm\, 157 Creek Rd\, Brownsville \, PA\, 15417\, United States
GEO:39.977624;-79.884608
X-APPLE-STRUCTURED-LOCATION;VALUE=URI;X-ADDRESS=Duda’s Farm 157 Creek Rd Brownsville  PA 15417 United States;X-APPLE-RADIUS=500;X-TITLE=157 Creek Rd:geo:-79.884608,39.977624
END:VEVENT
BEGIN:VEVENT
DTSTART;TZID=America/New_York:20140927T110000
DTEND;TZID=America/New_York:20140927T170000
DTSTAMP:20260424T092740
CREATED:20140901T201231Z
LAST-MODIFIED:20140901T201231Z
UID:6682-1411815600-1411837200@playpittsburgh.com
SUMMARY:Pumpkin' Pickin' Hay Rides @ Duda Farms
DESCRIPTION:There is always plenty to on the Duda farm; enjoy a hayride to the pumpkin patch where you can pick the pumpkin of your choice\, try to navigate through the corn stalk maze\, take a walk through the animal barn\, roast some marshmallows over the bonfire\, or take a ride down the Double Barrel Shotgun Slides! \nWeekends through the end of October.
URL:https://playpittsburgh.com/event/pumpkin-pickin-hay-rides-duda-farms-2/2014-09-27/
LOCATION:Duda’s Farm\, 157 Creek Rd\, Brownsville \, PA\, 15417\, United States
GEO:39.977624;-79.884608
X-APPLE-STRUCTURED-LOCATION;VALUE=URI;X-ADDRESS=Duda’s Farm 157 Creek Rd Brownsville  PA 15417 United States;X-APPLE-RADIUS=500;X-TITLE=157 Creek Rd:geo:-79.884608,39.977624
END:VEVENT
END:VCALENDAR