BEGIN:VCALENDAR
VERSION:2.0
PRODID:-//Play Pittsburgh - ECPv6.15.20//NONSGML v1.0//EN
CALSCALE:GREGORIAN
METHOD:PUBLISH
X-WR-CALNAME:Play Pittsburgh
X-ORIGINAL-URL:https://playpittsburgh.com
X-WR-CALDESC:Events for Play Pittsburgh
REFRESH-INTERVAL;VALUE=DURATION:PT1H
X-Robots-Tag:noindex
X-PUBLISHED-TTL:PT1H
BEGIN:VTIMEZONE
TZID:America/New_York
BEGIN:DAYLIGHT
TZOFFSETFROM:-0500
TZOFFSETTO:-0400
TZNAME:EDT
DTSTART:20130310T070000
END:DAYLIGHT
BEGIN:STANDARD
TZOFFSETFROM:-0400
TZOFFSETTO:-0500
TZNAME:EST
DTSTART:20131103T060000
END:STANDARD
BEGIN:DAYLIGHT
TZOFFSETFROM:-0500
TZOFFSETTO:-0400
TZNAME:EDT
DTSTART:20140309T070000
END:DAYLIGHT
BEGIN:STANDARD
TZOFFSETFROM:-0400
TZOFFSETTO:-0500
TZNAME:EST
DTSTART:20141102T060000
END:STANDARD
BEGIN:DAYLIGHT
TZOFFSETFROM:-0500
TZOFFSETTO:-0400
TZNAME:EDT
DTSTART:20150308T070000
END:DAYLIGHT
BEGIN:STANDARD
TZOFFSETFROM:-0400
TZOFFSETTO:-0500
TZNAME:EST
DTSTART:20151101T060000
END:STANDARD
BEGIN:DAYLIGHT
TZOFFSETFROM:-0500
TZOFFSETTO:-0400
TZNAME:EDT
DTSTART:20160313T070000
END:DAYLIGHT
BEGIN:STANDARD
TZOFFSETFROM:-0400
TZOFFSETTO:-0500
TZNAME:EST
DTSTART:20161106T060000
END:STANDARD
END:VTIMEZONE
BEGIN:VEVENT
DTSTART;TZID=America/New_York:20150606T120000
DTEND;TZID=America/New_York:20150606T210000
DTSTAMP:20260422T030907
CREATED:20150529T193520Z
LAST-MODIFIED:20150529T193520Z
UID:8652-1433592000-1433624400@playpittsburgh.com
SUMMARY:Three Rivers Arts Festival
DESCRIPTION:The Dollar Bank Three Rivers Arts Festival\, a production of the Pittsburgh Cultural Trust\, is a celebration of the arts in downtown Pittsburgh unlike any other in the nation.  Each of its world-class\, multi-disciplinary performing and visual arts attractions is free to attend and open to the public! \nThe Festival begins on the first Friday in June and takes place at the confluence of Pittsburgh’s famed three rivers in Point State Park\, throughout picturesque Gateway Center\, and in the city’s world-renowned Cultural District.
URL:https://playpittsburgh.com/event/three-rivers-arts-festival-2/2015-06-06/
LOCATION:Downtown Pittsburgh
END:VEVENT
BEGIN:VEVENT
DTSTART;TZID=America/New_York:20150605T120000
DTEND;TZID=America/New_York:20150605T210000
DTSTAMP:20260422T030907
CREATED:20150529T193520Z
LAST-MODIFIED:20150529T193520Z
UID:8651-1433505600-1433538000@playpittsburgh.com
SUMMARY:Three Rivers Arts Festival
DESCRIPTION:The Dollar Bank Three Rivers Arts Festival\, a production of the Pittsburgh Cultural Trust\, is a celebration of the arts in downtown Pittsburgh unlike any other in the nation.  Each of its world-class\, multi-disciplinary performing and visual arts attractions is free to attend and open to the public! \nThe Festival begins on the first Friday in June and takes place at the confluence of Pittsburgh’s famed three rivers in Point State Park\, throughout picturesque Gateway Center\, and in the city’s world-renowned Cultural District.
URL:https://playpittsburgh.com/event/three-rivers-arts-festival-2/2015-06-05/
LOCATION:Downtown Pittsburgh
END:VEVENT
BEGIN:VEVENT
DTSTART;TZID=America/New_York:20150531T080000
DTEND;TZID=America/New_York:20150531T120000
DTSTAMP:20260422T030907
CREATED:20150529T175418Z
LAST-MODIFIED:20150529T175418Z
UID:8631-1433059200-1433073600@playpittsburgh.com
SUMMARY:OpenStreetsPGH
DESCRIPTION:OpenStreetsPGH includes a group of businesses\, neighbors\, non-profits\, and others who want to help Pittsburgh be the healthiest\, most active\, and happiest city it can be. Come down and join us to walk\, run\, bike and skate through the streets of Pittsburgh. It’s a whole new way to look at and experience your city. And a whole new way to have fun with your friends and family. \nMarket Square Program Schedule \n\n8:00 Grand OPENing\, Healthy Ride Bike Share Launch\, City Spree Registration Opens\n8:30 – 9:30 Tai Chi with with Win Win Kung fu\n9:00 City Spree 10K FUN RUN Departs – pre-registration required. Use code ‘OPENSTREETSPGH’ for free registration.\n9:30 City Spree 5k FUN WALK Departs – pre-registration required. Use code ‘OPENSTREETSPGH’ for free registration.\n10:00 – 11:30 Walking Tour of with Pittsburgh History & Landmarks Foundation Meet in front of the CLOCK in Market Square 10am\n10:00 City Spree 5k FUN RUN Departs – pre registration needed. Use code ‘OPENSTREETSPGH’ for free registration.\n10:00 – 11:00 Lululemon\, Athletica and the Pittsburgh Downtown Partnership Yoga in the Square with Janna Leyde\n11:15 – 12pm Salsa in the Streets with Los Sabrosos
URL:https://playpittsburgh.com/event/openstreetspgh/
LOCATION:Downtown Pittsburgh
END:VEVENT
BEGIN:VEVENT
DTSTART;VALUE=DATE:20150328
DTEND;VALUE=DATE:20150329
DTSTAMP:20260422T030907
CREATED:20150324T211702Z
LAST-MODIFIED:20150618T141531Z
UID:5567-1427500800-1427587199@playpittsburgh.com
SUMMARY:Pittsburgh Downtown Partnership Volunteer Saturdays
DESCRIPTION:At Pittsburgh Downtown Partnership (PDP) Volunteer Saturdays\, you can help make Downtown Pittsburgh a cleaner\, more beautiful place to live\, work\, and play. Volunteers work alongside the PDP Clean and Street Teams on beautification projects all over Downtown Pittsburgh. Responsibilities include such tasks as: pulling weeds\, landscaping\, removing litter and debris\, painting\, and other tasks that require bending\, squatting\, and lifting. The Team is flexible and will work with groups on their project choice. \nWant to be a part of the action? Just e-mail PDP@DowntownPittsburgh.com with “Volunteer Inquiry” in the subject line.
URL:https://playpittsburgh.com/event/pittsburgh-downtown-partnership-volunteer-saturdays/2015-03-28/
LOCATION:Downtown Pittsburgh
END:VEVENT
BEGIN:VEVENT
DTSTART;TZID=America/New_York:20141231T180000
DTEND;TZID=America/New_York:20141231T180000
DTSTAMP:20260422T030907
CREATED:20141205T172713Z
LAST-MODIFIED:20141205T172713Z
UID:5220-1420048800-1420048800@playpittsburgh.com
SUMMARY:First Night Pittsburgh
DESCRIPTION:Highmark First Night Pittsburgh\, a production of the Pittsburgh Cultural Trust\, is an arts-focused\, alcohol-free\, and family-friendly New Year’s Eve celebration in downtown Pittsburgh’s Cultural District.  It’s the largest single-day celebration in the region offering 150 events at nearly 50 indoor and outdoor locations within the 14-block Cultural District\, attracting nearly 50\,000 visitors each year.\nThe celebration offers something for everyone\, showcasing hundreds of local\, regional\, and national artists\, with live music\, dance\, comedy\, magic\, theater\, hands-on activities\, visual arts\, a parade with its signature giant puppets\, fire & ice plaza\, and fireworks (twice!). The evening culminates on the Highmark Stage with a national headlining act\, the Countdown to Midnight\, and the raising of the Future of Pittsburgh Ball set against the backdrop of a beautiful Zambelli fireworks display.
URL:https://playpittsburgh.com/event/first-night-pittsburgh/
LOCATION:Downtown Pittsburgh
END:VEVENT
BEGIN:VEVENT
DTSTART;VALUE=DATE:20141223
DTEND;VALUE=DATE:20141224
DTSTAMP:20260422T030907
CREATED:20141203T041539Z
LAST-MODIFIED:20141203T041539Z
UID:8111-1419292800-1419379199@playpittsburgh.com
SUMMARY:People's Gas Holiday Market
DESCRIPTION:Inspired by the original Christkindlmarkt in Nuremburg\, Germany\, the Peoples Gas Holiday Market is one of three in North America. Visitors can shop at the European-style chalets for one-of-a-kind gifts and hand-crafted items from around the world sold by regional\, national and international vendors. Regional ethnic\, cultural\, and community groups will be featured daily on a performance stage.
URL:https://playpittsburgh.com/event/peoples-gas-holiday-market/2014-12-23/
LOCATION:Downtown Pittsburgh
END:VEVENT
BEGIN:VEVENT
DTSTART;VALUE=DATE:20141222
DTEND;VALUE=DATE:20141223
DTSTAMP:20260422T030907
CREATED:20141203T041539Z
LAST-MODIFIED:20141203T041539Z
UID:8110-1419206400-1419292799@playpittsburgh.com
SUMMARY:People's Gas Holiday Market
DESCRIPTION:Inspired by the original Christkindlmarkt in Nuremburg\, Germany\, the Peoples Gas Holiday Market is one of three in North America. Visitors can shop at the European-style chalets for one-of-a-kind gifts and hand-crafted items from around the world sold by regional\, national and international vendors. Regional ethnic\, cultural\, and community groups will be featured daily on a performance stage.
URL:https://playpittsburgh.com/event/peoples-gas-holiday-market/2014-12-22/
LOCATION:Downtown Pittsburgh
END:VEVENT
BEGIN:VEVENT
DTSTART;VALUE=DATE:20141221
DTEND;VALUE=DATE:20141222
DTSTAMP:20260422T030907
CREATED:20141203T041539Z
LAST-MODIFIED:20141203T041539Z
UID:8109-1419120000-1419206399@playpittsburgh.com
SUMMARY:People's Gas Holiday Market
DESCRIPTION:Inspired by the original Christkindlmarkt in Nuremburg\, Germany\, the Peoples Gas Holiday Market is one of three in North America. Visitors can shop at the European-style chalets for one-of-a-kind gifts and hand-crafted items from around the world sold by regional\, national and international vendors. Regional ethnic\, cultural\, and community groups will be featured daily on a performance stage.
URL:https://playpittsburgh.com/event/peoples-gas-holiday-market/2014-12-21/
LOCATION:Downtown Pittsburgh
END:VEVENT
BEGIN:VEVENT
DTSTART;VALUE=DATE:20141220
DTEND;VALUE=DATE:20141221
DTSTAMP:20260422T030907
CREATED:20141203T041539Z
LAST-MODIFIED:20141203T041539Z
UID:8108-1419033600-1419119999@playpittsburgh.com
SUMMARY:People's Gas Holiday Market
DESCRIPTION:Inspired by the original Christkindlmarkt in Nuremburg\, Germany\, the Peoples Gas Holiday Market is one of three in North America. Visitors can shop at the European-style chalets for one-of-a-kind gifts and hand-crafted items from around the world sold by regional\, national and international vendors. Regional ethnic\, cultural\, and community groups will be featured daily on a performance stage.
URL:https://playpittsburgh.com/event/peoples-gas-holiday-market/2014-12-20/
LOCATION:Downtown Pittsburgh
END:VEVENT
BEGIN:VEVENT
DTSTART;VALUE=DATE:20141219
DTEND;VALUE=DATE:20141220
DTSTAMP:20260422T030907
CREATED:20141203T041539Z
LAST-MODIFIED:20141203T041539Z
UID:8107-1418947200-1419033599@playpittsburgh.com
SUMMARY:People's Gas Holiday Market
DESCRIPTION:Inspired by the original Christkindlmarkt in Nuremburg\, Germany\, the Peoples Gas Holiday Market is one of three in North America. Visitors can shop at the European-style chalets for one-of-a-kind gifts and hand-crafted items from around the world sold by regional\, national and international vendors. Regional ethnic\, cultural\, and community groups will be featured daily on a performance stage.
URL:https://playpittsburgh.com/event/peoples-gas-holiday-market/2014-12-19/
LOCATION:Downtown Pittsburgh
END:VEVENT
BEGIN:VEVENT
DTSTART;VALUE=DATE:20141218
DTEND;VALUE=DATE:20141219
DTSTAMP:20260422T030907
CREATED:20141203T041539Z
LAST-MODIFIED:20141203T041539Z
UID:8106-1418860800-1418947199@playpittsburgh.com
SUMMARY:People's Gas Holiday Market
DESCRIPTION:Inspired by the original Christkindlmarkt in Nuremburg\, Germany\, the Peoples Gas Holiday Market is one of three in North America. Visitors can shop at the European-style chalets for one-of-a-kind gifts and hand-crafted items from around the world sold by regional\, national and international vendors. Regional ethnic\, cultural\, and community groups will be featured daily on a performance stage.
URL:https://playpittsburgh.com/event/peoples-gas-holiday-market/2014-12-18/
LOCATION:Downtown Pittsburgh
END:VEVENT
BEGIN:VEVENT
DTSTART;VALUE=DATE:20141217
DTEND;VALUE=DATE:20141218
DTSTAMP:20260422T030907
CREATED:20141203T041539Z
LAST-MODIFIED:20141203T041539Z
UID:8105-1418774400-1418860799@playpittsburgh.com
SUMMARY:People's Gas Holiday Market
DESCRIPTION:Inspired by the original Christkindlmarkt in Nuremburg\, Germany\, the Peoples Gas Holiday Market is one of three in North America. Visitors can shop at the European-style chalets for one-of-a-kind gifts and hand-crafted items from around the world sold by regional\, national and international vendors. Regional ethnic\, cultural\, and community groups will be featured daily on a performance stage.
URL:https://playpittsburgh.com/event/peoples-gas-holiday-market/2014-12-17/
LOCATION:Downtown Pittsburgh
END:VEVENT
BEGIN:VEVENT
DTSTART;VALUE=DATE:20141216
DTEND;VALUE=DATE:20141217
DTSTAMP:20260422T030907
CREATED:20141203T041539Z
LAST-MODIFIED:20141203T041539Z
UID:8104-1418688000-1418774399@playpittsburgh.com
SUMMARY:People's Gas Holiday Market
DESCRIPTION:Inspired by the original Christkindlmarkt in Nuremburg\, Germany\, the Peoples Gas Holiday Market is one of three in North America. Visitors can shop at the European-style chalets for one-of-a-kind gifts and hand-crafted items from around the world sold by regional\, national and international vendors. Regional ethnic\, cultural\, and community groups will be featured daily on a performance stage.
URL:https://playpittsburgh.com/event/peoples-gas-holiday-market/2014-12-16/
LOCATION:Downtown Pittsburgh
END:VEVENT
BEGIN:VEVENT
DTSTART;VALUE=DATE:20141215
DTEND;VALUE=DATE:20141216
DTSTAMP:20260422T030907
CREATED:20141203T041539Z
LAST-MODIFIED:20141203T041539Z
UID:8103-1418601600-1418687999@playpittsburgh.com
SUMMARY:People's Gas Holiday Market
DESCRIPTION:Inspired by the original Christkindlmarkt in Nuremburg\, Germany\, the Peoples Gas Holiday Market is one of three in North America. Visitors can shop at the European-style chalets for one-of-a-kind gifts and hand-crafted items from around the world sold by regional\, national and international vendors. Regional ethnic\, cultural\, and community groups will be featured daily on a performance stage.
URL:https://playpittsburgh.com/event/peoples-gas-holiday-market/2014-12-15/
LOCATION:Downtown Pittsburgh
END:VEVENT
BEGIN:VEVENT
DTSTART;VALUE=DATE:20141214
DTEND;VALUE=DATE:20141215
DTSTAMP:20260422T030907
CREATED:20141203T041539Z
LAST-MODIFIED:20141203T041539Z
UID:8102-1418515200-1418601599@playpittsburgh.com
SUMMARY:People's Gas Holiday Market
DESCRIPTION:Inspired by the original Christkindlmarkt in Nuremburg\, Germany\, the Peoples Gas Holiday Market is one of three in North America. Visitors can shop at the European-style chalets for one-of-a-kind gifts and hand-crafted items from around the world sold by regional\, national and international vendors. Regional ethnic\, cultural\, and community groups will be featured daily on a performance stage.
URL:https://playpittsburgh.com/event/peoples-gas-holiday-market/2014-12-14/
LOCATION:Downtown Pittsburgh
END:VEVENT
BEGIN:VEVENT
DTSTART;VALUE=DATE:20141213
DTEND;VALUE=DATE:20141214
DTSTAMP:20260422T030907
CREATED:20141203T041539Z
LAST-MODIFIED:20141203T041539Z
UID:8101-1418428800-1418515199@playpittsburgh.com
SUMMARY:People's Gas Holiday Market
DESCRIPTION:Inspired by the original Christkindlmarkt in Nuremburg\, Germany\, the Peoples Gas Holiday Market is one of three in North America. Visitors can shop at the European-style chalets for one-of-a-kind gifts and hand-crafted items from around the world sold by regional\, national and international vendors. Regional ethnic\, cultural\, and community groups will be featured daily on a performance stage.
URL:https://playpittsburgh.com/event/peoples-gas-holiday-market/2014-12-13/
LOCATION:Downtown Pittsburgh
END:VEVENT
BEGIN:VEVENT
DTSTART;VALUE=DATE:20141212
DTEND;VALUE=DATE:20141213
DTSTAMP:20260422T030907
CREATED:20141203T041539Z
LAST-MODIFIED:20141203T041539Z
UID:8100-1418342400-1418428799@playpittsburgh.com
SUMMARY:People's Gas Holiday Market
DESCRIPTION:Inspired by the original Christkindlmarkt in Nuremburg\, Germany\, the Peoples Gas Holiday Market is one of three in North America. Visitors can shop at the European-style chalets for one-of-a-kind gifts and hand-crafted items from around the world sold by regional\, national and international vendors. Regional ethnic\, cultural\, and community groups will be featured daily on a performance stage.
URL:https://playpittsburgh.com/event/peoples-gas-holiday-market/2014-12-12/
LOCATION:Downtown Pittsburgh
END:VEVENT
BEGIN:VEVENT
DTSTART;VALUE=DATE:20141211
DTEND;VALUE=DATE:20141212
DTSTAMP:20260422T030907
CREATED:20141203T041539Z
LAST-MODIFIED:20141203T041539Z
UID:8099-1418256000-1418342399@playpittsburgh.com
SUMMARY:People's Gas Holiday Market
DESCRIPTION:Inspired by the original Christkindlmarkt in Nuremburg\, Germany\, the Peoples Gas Holiday Market is one of three in North America. Visitors can shop at the European-style chalets for one-of-a-kind gifts and hand-crafted items from around the world sold by regional\, national and international vendors. Regional ethnic\, cultural\, and community groups will be featured daily on a performance stage.
URL:https://playpittsburgh.com/event/peoples-gas-holiday-market/2014-12-11/
LOCATION:Downtown Pittsburgh
END:VEVENT
BEGIN:VEVENT
DTSTART;VALUE=DATE:20141210
DTEND;VALUE=DATE:20141211
DTSTAMP:20260422T030907
CREATED:20141203T041539Z
LAST-MODIFIED:20141203T041539Z
UID:8098-1418169600-1418255999@playpittsburgh.com
SUMMARY:People's Gas Holiday Market
DESCRIPTION:Inspired by the original Christkindlmarkt in Nuremburg\, Germany\, the Peoples Gas Holiday Market is one of three in North America. Visitors can shop at the European-style chalets for one-of-a-kind gifts and hand-crafted items from around the world sold by regional\, national and international vendors. Regional ethnic\, cultural\, and community groups will be featured daily on a performance stage.
URL:https://playpittsburgh.com/event/peoples-gas-holiday-market/2014-12-10/
LOCATION:Downtown Pittsburgh
END:VEVENT
BEGIN:VEVENT
DTSTART;VALUE=DATE:20141209
DTEND;VALUE=DATE:20141210
DTSTAMP:20260422T030907
CREATED:20141203T041539Z
LAST-MODIFIED:20141203T041539Z
UID:8097-1418083200-1418169599@playpittsburgh.com
SUMMARY:People's Gas Holiday Market
DESCRIPTION:Inspired by the original Christkindlmarkt in Nuremburg\, Germany\, the Peoples Gas Holiday Market is one of three in North America. Visitors can shop at the European-style chalets for one-of-a-kind gifts and hand-crafted items from around the world sold by regional\, national and international vendors. Regional ethnic\, cultural\, and community groups will be featured daily on a performance stage.
URL:https://playpittsburgh.com/event/peoples-gas-holiday-market/2014-12-09/
LOCATION:Downtown Pittsburgh
END:VEVENT
BEGIN:VEVENT
DTSTART;VALUE=DATE:20141208
DTEND;VALUE=DATE:20141209
DTSTAMP:20260422T030907
CREATED:20141203T041539Z
LAST-MODIFIED:20141203T041539Z
UID:8096-1417996800-1418083199@playpittsburgh.com
SUMMARY:People's Gas Holiday Market
DESCRIPTION:Inspired by the original Christkindlmarkt in Nuremburg\, Germany\, the Peoples Gas Holiday Market is one of three in North America. Visitors can shop at the European-style chalets for one-of-a-kind gifts and hand-crafted items from around the world sold by regional\, national and international vendors. Regional ethnic\, cultural\, and community groups will be featured daily on a performance stage.
URL:https://playpittsburgh.com/event/peoples-gas-holiday-market/2014-12-08/
LOCATION:Downtown Pittsburgh
END:VEVENT
BEGIN:VEVENT
DTSTART;VALUE=DATE:20141207
DTEND;VALUE=DATE:20141208
DTSTAMP:20260422T030907
CREATED:20141203T041539Z
LAST-MODIFIED:20141203T041539Z
UID:8095-1417910400-1417996799@playpittsburgh.com
SUMMARY:People's Gas Holiday Market
DESCRIPTION:Inspired by the original Christkindlmarkt in Nuremburg\, Germany\, the Peoples Gas Holiday Market is one of three in North America. Visitors can shop at the European-style chalets for one-of-a-kind gifts and hand-crafted items from around the world sold by regional\, national and international vendors. Regional ethnic\, cultural\, and community groups will be featured daily on a performance stage.
URL:https://playpittsburgh.com/event/peoples-gas-holiday-market/2014-12-07/
LOCATION:Downtown Pittsburgh
END:VEVENT
BEGIN:VEVENT
DTSTART;VALUE=DATE:20141206
DTEND;VALUE=DATE:20141207
DTSTAMP:20260422T030907
CREATED:20141203T041539Z
LAST-MODIFIED:20141203T041539Z
UID:8094-1417824000-1417910399@playpittsburgh.com
SUMMARY:People's Gas Holiday Market
DESCRIPTION:Inspired by the original Christkindlmarkt in Nuremburg\, Germany\, the Peoples Gas Holiday Market is one of three in North America. Visitors can shop at the European-style chalets for one-of-a-kind gifts and hand-crafted items from around the world sold by regional\, national and international vendors. Regional ethnic\, cultural\, and community groups will be featured daily on a performance stage.
URL:https://playpittsburgh.com/event/peoples-gas-holiday-market/2014-12-06/
LOCATION:Downtown Pittsburgh
END:VEVENT
BEGIN:VEVENT
DTSTART;VALUE=DATE:20141205
DTEND;VALUE=DATE:20141206
DTSTAMP:20260422T030907
CREATED:20141203T041539Z
LAST-MODIFIED:20141203T041539Z
UID:8093-1417737600-1417823999@playpittsburgh.com
SUMMARY:People's Gas Holiday Market
DESCRIPTION:Inspired by the original Christkindlmarkt in Nuremburg\, Germany\, the Peoples Gas Holiday Market is one of three in North America. Visitors can shop at the European-style chalets for one-of-a-kind gifts and hand-crafted items from around the world sold by regional\, national and international vendors. Regional ethnic\, cultural\, and community groups will be featured daily on a performance stage.
URL:https://playpittsburgh.com/event/peoples-gas-holiday-market/2014-12-05/
LOCATION:Downtown Pittsburgh
END:VEVENT
BEGIN:VEVENT
DTSTART;VALUE=DATE:20141204
DTEND;VALUE=DATE:20141205
DTSTAMP:20260422T030907
CREATED:20141203T041539Z
LAST-MODIFIED:20141203T041539Z
UID:8092-1417651200-1417737599@playpittsburgh.com
SUMMARY:People's Gas Holiday Market
DESCRIPTION:Inspired by the original Christkindlmarkt in Nuremburg\, Germany\, the Peoples Gas Holiday Market is one of three in North America. Visitors can shop at the European-style chalets for one-of-a-kind gifts and hand-crafted items from around the world sold by regional\, national and international vendors. Regional ethnic\, cultural\, and community groups will be featured daily on a performance stage.
URL:https://playpittsburgh.com/event/peoples-gas-holiday-market/2014-12-04/
LOCATION:Downtown Pittsburgh
END:VEVENT
BEGIN:VEVENT
DTSTART;VALUE=DATE:20141203
DTEND;VALUE=DATE:20141204
DTSTAMP:20260422T030907
CREATED:20141203T041539Z
LAST-MODIFIED:20141203T041539Z
UID:8091-1417564800-1417651199@playpittsburgh.com
SUMMARY:People's Gas Holiday Market
DESCRIPTION:Inspired by the original Christkindlmarkt in Nuremburg\, Germany\, the Peoples Gas Holiday Market is one of three in North America. Visitors can shop at the European-style chalets for one-of-a-kind gifts and hand-crafted items from around the world sold by regional\, national and international vendors. Regional ethnic\, cultural\, and community groups will be featured daily on a performance stage.
URL:https://playpittsburgh.com/event/peoples-gas-holiday-market/2014-12-03/
LOCATION:Downtown Pittsburgh
END:VEVENT
BEGIN:VEVENT
DTSTART;VALUE=DATE:20141202
DTEND;VALUE=DATE:20141203
DTSTAMP:20260422T030907
CREATED:20141203T041539Z
LAST-MODIFIED:20141203T041539Z
UID:4932-1417478400-1417564799@playpittsburgh.com
SUMMARY:People's Gas Holiday Market
DESCRIPTION:Inspired by the original Christkindlmarkt in Nuremburg\, Germany\, the Peoples Gas Holiday Market is one of three in North America. Visitors can shop at the European-style chalets for one-of-a-kind gifts and hand-crafted items from around the world sold by regional\, national and international vendors. Regional ethnic\, cultural\, and community groups will be featured daily on a performance stage.
URL:https://playpittsburgh.com/event/peoples-gas-holiday-market/2014-12-02/
LOCATION:Downtown Pittsburgh
END:VEVENT
BEGIN:VEVENT
DTSTART;TZID=America/New_York:20140901T100000
DTEND;TZID=America/New_York:20140901T130000
DTSTAMP:20260422T030907
CREATED:20140829T142229Z
LAST-MODIFIED:20140829T142229Z
UID:3300-1409565600-1409576400@playpittsburgh.com
SUMMARY:Pittsburgh Labor Day Parade
DESCRIPTION:The 2014 parade will go down Grant Street and then turn right on the Boulevard of the Allies. Starts at 10 a.m. and will go for three hours and Pittsburgh parking chairs are permitted. \nIt’s the second largest parade in the U.S. next to New York City. More than 85\,000 marchers will be grouped into 191 units. Cheer on local marching bands\, dancers\, flag bearers and more.
URL:https://playpittsburgh.com/event/pittsburgh-labor-day-parade/
LOCATION:Downtown Pittsburgh
CATEGORIES:Free,Outdoor
END:VEVENT
BEGIN:VEVENT
DTSTART;TZID=America/New_York:20140808T200000
DTEND;TZID=America/New_York:20140808T233000
DTSTAMP:20260422T030907
CREATED:20140729T223650Z
LAST-MODIFIED:20140729T223650Z
UID:2911-1407528000-1407540600@playpittsburgh.com
SUMMARY:Bike Fest! Kick Off Party
DESCRIPTION:Bike Fest’s largest party of the year\, kicking off BikeFest in style. Live music\, dancing\, local beer\, and a silent auction! Keep an eye out for Thick Bikes’ annual BikeFest Surprise.
URL:https://playpittsburgh.com/event/bike-fest-kick-off-party/
LOCATION:Downtown Pittsburgh
END:VEVENT
END:VCALENDAR