BEGIN:VCALENDAR
VERSION:2.0
PRODID:-//Play Pittsburgh - ECPv6.15.20//NONSGML v1.0//EN
CALSCALE:GREGORIAN
METHOD:PUBLISH
X-WR-CALNAME:Play Pittsburgh
X-ORIGINAL-URL:https://playpittsburgh.com
X-WR-CALDESC:Events for Play Pittsburgh
REFRESH-INTERVAL;VALUE=DURATION:PT1H
X-Robots-Tag:noindex
X-PUBLISHED-TTL:PT1H
BEGIN:VTIMEZONE
TZID:America/New_York
BEGIN:DAYLIGHT
TZOFFSETFROM:-0500
TZOFFSETTO:-0400
TZNAME:EDT
DTSTART:20150308T070000
END:DAYLIGHT
BEGIN:STANDARD
TZOFFSETFROM:-0400
TZOFFSETTO:-0500
TZNAME:EST
DTSTART:20151101T060000
END:STANDARD
BEGIN:DAYLIGHT
TZOFFSETFROM:-0500
TZOFFSETTO:-0400
TZNAME:EDT
DTSTART:20160313T070000
END:DAYLIGHT
BEGIN:STANDARD
TZOFFSETFROM:-0400
TZOFFSETTO:-0500
TZNAME:EST
DTSTART:20161106T060000
END:STANDARD
BEGIN:DAYLIGHT
TZOFFSETFROM:-0500
TZOFFSETTO:-0400
TZNAME:EDT
DTSTART:20170312T070000
END:DAYLIGHT
BEGIN:STANDARD
TZOFFSETFROM:-0400
TZOFFSETTO:-0500
TZNAME:EST
DTSTART:20171105T060000
END:STANDARD
END:VTIMEZONE
BEGIN:VEVENT
DTSTART;TZID=America/New_York:20160701T170000
DTEND;TZID=America/New_York:20160701T200000
DTSTAMP:20260423T102324
CREATED:20160701T021703Z
LAST-MODIFIED:20160701T021750Z
UID:9318-1467392400-1467403200@playpittsburgh.com
SUMMARY:New Wilmington Kid’s Karnival
DESCRIPTION:The evening will be a kids paradise – games\, prizes\, balloons\, face painting\, and more! . Activities can be found all throughout downtown New Wilmington\, PA.
URL:https://playpittsburgh.com/event/new-wilmington-kids-karnival/
LOCATION:Downtown New Wilmington\, 132 W Neshannock Avenue\, New Wilmington \, PA\, 16142\, United States
CATEGORIES:Festivals,Free
GEO:41.1225438;-80.3341705
X-APPLE-STRUCTURED-LOCATION;VALUE=URI;X-ADDRESS=Downtown New Wilmington 132 W Neshannock Avenue New Wilmington  PA 16142 United States;X-APPLE-RADIUS=500;X-TITLE=132 W Neshannock Avenue:geo:-80.3341705,41.1225438
END:VEVENT
END:VCALENDAR