BEGIN:VCALENDAR
VERSION:2.0
PRODID:-//Play Pittsburgh - ECPv6.15.20//NONSGML v1.0//EN
CALSCALE:GREGORIAN
METHOD:PUBLISH
X-WR-CALNAME:Play Pittsburgh
X-ORIGINAL-URL:https://playpittsburgh.com
X-WR-CALDESC:Events for Play Pittsburgh
REFRESH-INTERVAL;VALUE=DURATION:PT1H
X-Robots-Tag:noindex
X-PUBLISHED-TTL:PT1H
BEGIN:VTIMEZONE
TZID:America/New_York
BEGIN:DAYLIGHT
TZOFFSETFROM:-0500
TZOFFSETTO:-0400
TZNAME:EDT
DTSTART:20150308T070000
END:DAYLIGHT
BEGIN:STANDARD
TZOFFSETFROM:-0400
TZOFFSETTO:-0500
TZNAME:EST
DTSTART:20151101T060000
END:STANDARD
BEGIN:DAYLIGHT
TZOFFSETFROM:-0500
TZOFFSETTO:-0400
TZNAME:EDT
DTSTART:20160313T070000
END:DAYLIGHT
BEGIN:STANDARD
TZOFFSETFROM:-0400
TZOFFSETTO:-0500
TZNAME:EST
DTSTART:20161106T060000
END:STANDARD
BEGIN:DAYLIGHT
TZOFFSETFROM:-0500
TZOFFSETTO:-0400
TZNAME:EDT
DTSTART:20170312T070000
END:DAYLIGHT
BEGIN:STANDARD
TZOFFSETFROM:-0400
TZOFFSETTO:-0500
TZNAME:EST
DTSTART:20171105T060000
END:STANDARD
END:VTIMEZONE
BEGIN:VEVENT
DTSTART;TZID=America/New_York:20160709T150000
DTEND;TZID=America/New_York:20160709T220000
DTSTAMP:20260422T012047
CREATED:20160709T021606Z
LAST-MODIFIED:20160709T021606Z
UID:9667-1468076400-1468101600@playpittsburgh.com
SUMMARY:New Castle Fireworks Festival
DESCRIPTION:Artisan’s market\, makers fair\, artists in action\, street performers\, staged entertainment\, interactive entertainment\, children’s activities and fireworks!
URL:https://playpittsburgh.com/event/new-castle-fireworks-festival/
LOCATION:Downtown New Castle\, East Washington Street\, New Castle \, PA\, 16101\, United States
GEO:40.986643;-80.327006
X-APPLE-STRUCTURED-LOCATION;VALUE=URI;X-ADDRESS=Downtown New Castle East Washington Street New Castle  PA 16101 United States;X-APPLE-RADIUS=500;X-TITLE=East Washington Street:geo:-80.327006,40.986643
END:VEVENT
END:VCALENDAR