BEGIN:VCALENDAR
VERSION:2.0
PRODID:-//Play Pittsburgh - ECPv6.15.20//NONSGML v1.0//EN
CALSCALE:GREGORIAN
METHOD:PUBLISH
X-ORIGINAL-URL:https://playpittsburgh.com
X-WR-CALDESC:Events for Play Pittsburgh
REFRESH-INTERVAL;VALUE=DURATION:PT1H
X-Robots-Tag:noindex
X-PUBLISHED-TTL:PT1H
BEGIN:VTIMEZONE
TZID:America/New_York
BEGIN:DAYLIGHT
TZOFFSETFROM:-0500
TZOFFSETTO:-0400
TZNAME:EDT
DTSTART:20130310T070000
END:DAYLIGHT
BEGIN:STANDARD
TZOFFSETFROM:-0400
TZOFFSETTO:-0500
TZNAME:EST
DTSTART:20131103T060000
END:STANDARD
BEGIN:DAYLIGHT
TZOFFSETFROM:-0500
TZOFFSETTO:-0400
TZNAME:EDT
DTSTART:20140309T070000
END:DAYLIGHT
BEGIN:STANDARD
TZOFFSETFROM:-0400
TZOFFSETTO:-0500
TZNAME:EST
DTSTART:20141102T060000
END:STANDARD
BEGIN:DAYLIGHT
TZOFFSETFROM:-0500
TZOFFSETTO:-0400
TZNAME:EDT
DTSTART:20150308T070000
END:DAYLIGHT
BEGIN:STANDARD
TZOFFSETFROM:-0400
TZOFFSETTO:-0500
TZNAME:EST
DTSTART:20151101T060000
END:STANDARD
END:VTIMEZONE
BEGIN:VEVENT
DTSTART;TZID=America/New_York:20140810T110000
DTEND;TZID=America/New_York:20140810T163000
DTSTAMP:20260422T044735
CREATED:20140729T040645Z
LAST-MODIFIED:20140729T040645Z
UID:2883-1407668400-1407688200@playpittsburgh.com
SUMMARY:Concert & Car Cruise @ Deer Lake Park
DESCRIPTION:William Dell & Wee Jams Concert & Car Cruise. BYO chair/blanket\, join the festival of fun! 100 show car goodie bags\, door prizes\, food\, raffles & more. \nAdmission: $6/person\, kids under 12 are FREE. Benefits Allegheny Valley Marine Corps League
URL:https://playpittsburgh.com/event/concert-car-cruise-deer-lake-park/
LOCATION:Deer Lakes Park\, 1090 Bailey Run Road\, Tarentum\, PA\, 15084\, United States
CATEGORIES:Festivals,Outdoor
GEO:40.6121076;-79.812963
X-APPLE-STRUCTURED-LOCATION;VALUE=URI;X-ADDRESS=Deer Lakes Park 1090 Bailey Run Road Tarentum PA 15084 United States;X-APPLE-RADIUS=500;X-TITLE=1090 Bailey Run Road:geo:-79.812963,40.6121076
END:VEVENT
BEGIN:VEVENT
DTSTART;TZID=America/New_York:20140810T110000
DTEND;TZID=America/New_York:20140810T163000
DTSTAMP:20260422T044735
CREATED:20140729T040645Z
LAST-MODIFIED:20140729T040645Z
UID:6461-1407668400-1407688200@playpittsburgh.com
SUMMARY:Concert & Car Cruise @ Deer Lake Park
DESCRIPTION:William Dell & Wee Jams Concert & Car Cruise. BYO chair/blanket\, join the festival of fun! 100 show car goodie bags\, door prizes\, food\, raffles & more. \nAdmission: $6/person\, kids under 12 are FREE. Benefits Allegheny Valley Marine Corps League
URL:https://playpittsburgh.com/event/concert-car-cruise-deer-lake-park-2/
LOCATION:Deer Lakes Park\, 1090 Bailey Run Road\, Tarentum\, PA\, 15084\, United States
CATEGORIES:Festivals,Outdoor
GEO:40.6121076;-79.812963
X-APPLE-STRUCTURED-LOCATION;VALUE=URI;X-ADDRESS=Deer Lakes Park 1090 Bailey Run Road Tarentum PA 15084 United States;X-APPLE-RADIUS=500;X-TITLE=1090 Bailey Run Road:geo:-79.812963,40.6121076
END:VEVENT
END:VCALENDAR