BEGIN:VCALENDAR
VERSION:2.0
PRODID:-//Play Pittsburgh - ECPv6.15.20//NONSGML v1.0//EN
CALSCALE:GREGORIAN
METHOD:PUBLISH
X-WR-CALNAME:Play Pittsburgh
X-ORIGINAL-URL:https://playpittsburgh.com
X-WR-CALDESC:Events for Play Pittsburgh
REFRESH-INTERVAL;VALUE=DURATION:PT1H
X-Robots-Tag:noindex
X-PUBLISHED-TTL:PT1H
BEGIN:VTIMEZONE
TZID:America/New_York
BEGIN:DAYLIGHT
TZOFFSETFROM:-0500
TZOFFSETTO:-0400
TZNAME:EDT
DTSTART:20140309T070000
END:DAYLIGHT
BEGIN:STANDARD
TZOFFSETFROM:-0400
TZOFFSETTO:-0500
TZNAME:EST
DTSTART:20141102T060000
END:STANDARD
BEGIN:DAYLIGHT
TZOFFSETFROM:-0500
TZOFFSETTO:-0400
TZNAME:EDT
DTSTART:20150308T070000
END:DAYLIGHT
BEGIN:STANDARD
TZOFFSETFROM:-0400
TZOFFSETTO:-0500
TZNAME:EST
DTSTART:20151101T060000
END:STANDARD
BEGIN:DAYLIGHT
TZOFFSETFROM:-0500
TZOFFSETTO:-0400
TZNAME:EDT
DTSTART:20160313T070000
END:DAYLIGHT
BEGIN:STANDARD
TZOFFSETFROM:-0400
TZOFFSETTO:-0500
TZNAME:EST
DTSTART:20161106T060000
END:STANDARD
END:VTIMEZONE
BEGIN:VEVENT
DTSTART;TZID=America/New_York:20150325T080000
DTEND;TZID=America/New_York:20150325T170000
DTSTAMP:20260422T055742
CREATED:20150325T203346Z
LAST-MODIFIED:20150325T203346Z
UID:5665-1427270400-1427302800@playpittsburgh.com
SUMMARY:Cranberry Hippity Hop Egg Hunt
DESCRIPTION:Join Mr. Bunny at the Municipal Center for an egg hunt. Refreshments will be served. Please bring a basket for the egg hunt and your camera for pictures with the Easter Bunny. Best suited for children 1 – 8 years of age.
URL:https://playpittsburgh.com/event/cranberry-hippity-hop-egg-hunt/
LOCATION:Cranberry Township Municipal Center\,  2525 Rochester Rd. \, Cranberry Township\, PA\, 16066\, United States
GEO:40.6979597;-80.1079972
X-APPLE-STRUCTURED-LOCATION;VALUE=URI;X-ADDRESS=Cranberry Township Municipal Center  2525 Rochester Rd.  Cranberry Township PA 16066 United States;X-APPLE-RADIUS=500;X-TITLE=2525 Rochester Rd.:geo:-80.1079972,40.6979597
END:VEVENT
END:VCALENDAR