BEGIN:VCALENDAR
VERSION:2.0
PRODID:-//Play Pittsburgh - ECPv6.15.20//NONSGML v1.0//EN
CALSCALE:GREGORIAN
METHOD:PUBLISH
X-WR-CALNAME:Play Pittsburgh
X-ORIGINAL-URL:https://playpittsburgh.com
X-WR-CALDESC:Events for Play Pittsburgh
REFRESH-INTERVAL;VALUE=DURATION:PT1H
X-Robots-Tag:noindex
X-PUBLISHED-TTL:PT1H
BEGIN:VTIMEZONE
TZID:America/New_York
BEGIN:DAYLIGHT
TZOFFSETFROM:-0500
TZOFFSETTO:-0400
TZNAME:EDT
DTSTART:20130310T070000
END:DAYLIGHT
BEGIN:STANDARD
TZOFFSETFROM:-0400
TZOFFSETTO:-0500
TZNAME:EST
DTSTART:20131103T060000
END:STANDARD
BEGIN:DAYLIGHT
TZOFFSETFROM:-0500
TZOFFSETTO:-0400
TZNAME:EDT
DTSTART:20140309T070000
END:DAYLIGHT
BEGIN:STANDARD
TZOFFSETFROM:-0400
TZOFFSETTO:-0500
TZNAME:EST
DTSTART:20141102T060000
END:STANDARD
BEGIN:DAYLIGHT
TZOFFSETFROM:-0500
TZOFFSETTO:-0400
TZNAME:EDT
DTSTART:20150308T070000
END:DAYLIGHT
BEGIN:STANDARD
TZOFFSETFROM:-0400
TZOFFSETTO:-0500
TZNAME:EST
DTSTART:20151101T060000
END:STANDARD
BEGIN:DAYLIGHT
TZOFFSETFROM:-0500
TZOFFSETTO:-0400
TZNAME:EDT
DTSTART:20160313T070000
END:DAYLIGHT
BEGIN:STANDARD
TZOFFSETFROM:-0400
TZOFFSETTO:-0500
TZNAME:EST
DTSTART:20161106T060000
END:STANDARD
END:VTIMEZONE
BEGIN:VEVENT
DTSTART;VALUE=DATE:20150404
DTEND;VALUE=DATE:20150405
DTSTAMP:20260422T075922
CREATED:20150326T192936Z
LAST-MODIFIED:20150326T192936Z
UID:8533-1428105600-1428191999@playpittsburgh.com
SUMMARY:Shrine Circus at the CONSOL Energy Center
DESCRIPTION:Celebrating 66 years of the best family entertainment in Pittsburgh\, don’t miss this fun-filled extravaganza featuring The Amazing Spider-Man\, exotic animals\, and amazing thrill acts. \nEvent Times \n\nTHU\, APRIL 2 @ 7:00 PM\nFRI\, APRIL 3 @ 7:00 PM\nSAT\, APRIL 4 @ 10:30 AM\nSAT\, APRIL 4 @ 2:30 PM\nSAT\, APRIL 4 @ 7:00 PM
URL:https://playpittsburgh.com/event/shrine-circus-at-the-consol-energy-center/2015-04-04/
LOCATION:Consol Energy Center\, 1001 Fifth Ave\, Pittsburgh\, PA\, 15219\, United States
GEO:40.4397781;-79.9888158
X-APPLE-STRUCTURED-LOCATION;VALUE=URI;X-ADDRESS=Consol Energy Center 1001 Fifth Ave Pittsburgh PA 15219 United States;X-APPLE-RADIUS=500;X-TITLE=1001 Fifth Ave:geo:-79.9888158,40.4397781
END:VEVENT
BEGIN:VEVENT
DTSTART;VALUE=DATE:20150403
DTEND;VALUE=DATE:20150404
DTSTAMP:20260422T075922
CREATED:20150326T192936Z
LAST-MODIFIED:20150326T192936Z
UID:8532-1428019200-1428105599@playpittsburgh.com
SUMMARY:Shrine Circus at the CONSOL Energy Center
DESCRIPTION:Celebrating 66 years of the best family entertainment in Pittsburgh\, don’t miss this fun-filled extravaganza featuring The Amazing Spider-Man\, exotic animals\, and amazing thrill acts. \nEvent Times \n\nTHU\, APRIL 2 @ 7:00 PM\nFRI\, APRIL 3 @ 7:00 PM\nSAT\, APRIL 4 @ 10:30 AM\nSAT\, APRIL 4 @ 2:30 PM\nSAT\, APRIL 4 @ 7:00 PM
URL:https://playpittsburgh.com/event/shrine-circus-at-the-consol-energy-center/2015-04-03/
LOCATION:Consol Energy Center\, 1001 Fifth Ave\, Pittsburgh\, PA\, 15219\, United States
GEO:40.4397781;-79.9888158
X-APPLE-STRUCTURED-LOCATION;VALUE=URI;X-ADDRESS=Consol Energy Center 1001 Fifth Ave Pittsburgh PA 15219 United States;X-APPLE-RADIUS=500;X-TITLE=1001 Fifth Ave:geo:-79.9888158,40.4397781
END:VEVENT
BEGIN:VEVENT
DTSTART;VALUE=DATE:20150402
DTEND;VALUE=DATE:20150403
DTSTAMP:20260422T075922
CREATED:20150326T192936Z
LAST-MODIFIED:20150326T192936Z
UID:5859-1427932800-1428019199@playpittsburgh.com
SUMMARY:Shrine Circus at the CONSOL Energy Center
DESCRIPTION:Celebrating 66 years of the best family entertainment in Pittsburgh\, don’t miss this fun-filled extravaganza featuring The Amazing Spider-Man\, exotic animals\, and amazing thrill acts. \nEvent Times \n\nTHU\, APRIL 2 @ 7:00 PM\nFRI\, APRIL 3 @ 7:00 PM\nSAT\, APRIL 4 @ 10:30 AM\nSAT\, APRIL 4 @ 2:30 PM\nSAT\, APRIL 4 @ 7:00 PM
URL:https://playpittsburgh.com/event/shrine-circus-at-the-consol-energy-center/2015-04-02/
LOCATION:Consol Energy Center\, 1001 Fifth Ave\, Pittsburgh\, PA\, 15219\, United States
GEO:40.4397781;-79.9888158
X-APPLE-STRUCTURED-LOCATION;VALUE=URI;X-ADDRESS=Consol Energy Center 1001 Fifth Ave Pittsburgh PA 15219 United States;X-APPLE-RADIUS=500;X-TITLE=1001 Fifth Ave:geo:-79.9888158,40.4397781
END:VEVENT
BEGIN:VEVENT
DTSTART;TZID=America/New_York:20141213T150000
DTEND;TZID=America/New_York:20141213T190000
DTSTAMP:20260422T075922
CREATED:20141205T025507Z
LAST-MODIFIED:20141205T025507Z
UID:5171-1418482800-1418497200@playpittsburgh.com
SUMMARY:Trans-Siberian Orchestra at Consol Energy Center
DESCRIPTION:TSO\, the laser-pyro prog-rock extravaganza that has played 1\,600 shows for 11 million fans in the past 15 years\, will kick off an ambitious North American tour on Nov. 13 to finally bring rock opera The Christmas Attic to the stage. \nShowtimes \n\nSAT\, DECEMBER 13\, 2014 @ 3:00 PM\nSAT\, DECEMBER 13\, 2014 @ 7:30 PM
URL:https://playpittsburgh.com/event/trans-siberian-orchestra-at-consol-energy-center/
LOCATION:Consol Energy Center\, 1001 Fifth Ave\, Pittsburgh\, PA\, 15219\, United States
GEO:40.4397781;-79.9888158
X-APPLE-STRUCTURED-LOCATION;VALUE=URI;X-ADDRESS=Consol Energy Center 1001 Fifth Ave Pittsburgh PA 15219 United States;X-APPLE-RADIUS=500;X-TITLE=1001 Fifth Ave:geo:-79.9888158,40.4397781
END:VEVENT
BEGIN:VEVENT
DTSTART;VALUE=DATE:20141104
DTEND;VALUE=DATE:20141110
DTSTAMP:20260422T075922
CREATED:20141030T221127Z
LAST-MODIFIED:20141030T221127Z
UID:6873-1415059200-1415577599@playpittsburgh.com
SUMMARY:Ringling Brothers Circus
DESCRIPTION:Ringling Bros. and Barnum & Bailey Presents Built To Amaze!\, the 143rd edition of the Greatest Show On Earth. Surprise and wonder delights audiences with over the top feats of strength\, agility and courage. As the momentum builds so does the anticipation\, anything can happen when Ringling Bros. Presents Built To Amaze! \nCircus performers from across the globe create the perfect blend of athleticism and bravery\, where power meets fearlessness and amazement has no bounds. Magnificent elephants\, ferocious tigers\, astonishing acrobats and awe-inspiring aerialists are engineered into one spectacular performance. \nCelebrate the tradition and experience it’s modern flare of twists and turns where excitement and suspense are so intense you’ll be tempted to cover your eyes. \nFrom the blueprints to the band\, the crates to the clowns\, the hammer to the high wire\, witness the spectacle as we measure out the perfect mix of marvel and majesty in an imagination equation where the impossible comes to life. Ringling Bros. and Barnum & Bailey® Presents Built To Amaze! \nCheck out the All-Access Pre-show\, 60 minutes prior to the start of the show\, meet the performers\, try on costumes and learn circus skills. All FREE with your ticket!
URL:https://playpittsburgh.com/event/ringling-brothers-circus/
LOCATION:Consol Energy Center\, 1001 Fifth Ave\, Pittsburgh\, PA\, 15219\, United States
ATTACH;FMTTYPE=:
GEO:40.4397781;-79.9888158
X-APPLE-STRUCTURED-LOCATION;VALUE=URI;X-ADDRESS=Consol Energy Center 1001 Fifth Ave Pittsburgh PA 15219 United States;X-APPLE-RADIUS=500;X-TITLE=1001 Fifth Ave:geo:-79.9888158,40.4397781
END:VEVENT
BEGIN:VEVENT
DTSTART;TZID=America/New_York:20140803T130000
DTEND;TZID=America/New_York:20140803T150000
DTSTAMP:20260422T075922
CREATED:20140507T214612Z
LAST-MODIFIED:20140507T214612Z
UID:1241-1407070800-1407078000@playpittsburgh.com
SUMMARY:Walking With Dinosaurs
DESCRIPTION:After a worldwide tour seen by over 8 million people in 217 cities\, the stunning theatrical event WALKING WITH DINOSAURS – The Arena Spectacular is back! \nInternationally renowned designers have worked with scientists to create 20 life-size dinosaurs\, including the terror of the ancient terrain\, Tyrannosaurus rex! Be amazed and thrilled as the greatest creatures ever to walk the earth return before your eyes. \nIt’s a dazzling $20\,000\,000 arena spectacle of unprecedented size and quality set to captivate young and old alike. Marvel at the story of their 200 million year domination of life on earth. Watch them walk. Hear the roar. Be there as they fight for survival and supremacy. From the ripple of their skin to the glint in their eye\, you will know the dinosaurs really are back!
URL:https://playpittsburgh.com/event/walking-with-dinosaurs-5/
LOCATION:Consol Energy Center\, 1001 Fifth Ave\, Pittsburgh\, PA\, 15219\, United States
CATEGORIES:Performing Arts
GEO:40.4397781;-79.9888158
X-APPLE-STRUCTURED-LOCATION;VALUE=URI;X-ADDRESS=Consol Energy Center 1001 Fifth Ave Pittsburgh PA 15219 United States;X-APPLE-RADIUS=500;X-TITLE=1001 Fifth Ave:geo:-79.9888158,40.4397781
END:VEVENT
BEGIN:VEVENT
DTSTART;TZID=America/New_York:20140802T110000
DTEND;TZID=America/New_York:20140802T130000
DTSTAMP:20260422T075922
CREATED:20140507T214403Z
LAST-MODIFIED:20140507T214403Z
UID:1240-1406977200-1406984400@playpittsburgh.com
SUMMARY:Walking With Dinosaurs
DESCRIPTION:After a worldwide tour seen by over 8 million people in 217 cities\, the stunning theatrical event WALKING WITH DINOSAURS – The Arena Spectacular is back! \nInternationally renowned designers have worked with scientists to create 20 life-size dinosaurs\, including the terror of the ancient terrain\, Tyrannosaurus rex! Be amazed and thrilled as the greatest creatures ever to walk the earth return before your eyes. \nIt’s a dazzling $20\,000\,000 arena spectacle of unprecedented size and quality set to captivate young and old alike. Marvel at the story of their 200 million year domination of life on earth. Watch them walk. Hear the roar. Be there as they fight for survival and supremacy. From the ripple of their skin to the glint in their eye\, you will know the dinosaurs really are back!
URL:https://playpittsburgh.com/event/walking-with-dinosaurs-4/
LOCATION:Consol Energy Center\, 1001 Fifth Ave\, Pittsburgh\, PA\, 15219\, United States
CATEGORIES:Performing Arts
GEO:40.4397781;-79.9888158
X-APPLE-STRUCTURED-LOCATION;VALUE=URI;X-ADDRESS=Consol Energy Center 1001 Fifth Ave Pittsburgh PA 15219 United States;X-APPLE-RADIUS=500;X-TITLE=1001 Fifth Ave:geo:-79.9888158,40.4397781
END:VEVENT
BEGIN:VEVENT
DTSTART;TZID=America/New_York:20140801T190000
DTEND;TZID=America/New_York:20140801T210000
DTSTAMP:20260422T075922
CREATED:20140507T214259Z
LAST-MODIFIED:20140507T214259Z
UID:1239-1406919600-1406926800@playpittsburgh.com
SUMMARY:Walking With Dinosaurs
DESCRIPTION:After a worldwide tour seen by over 8 million people in 217 cities\, the stunning theatrical event WALKING WITH DINOSAURS – The Arena Spectacular is back! \nInternationally renowned designers have worked with scientists to create 20 life-size dinosaurs\, including the terror of the ancient terrain\, Tyrannosaurus rex! Be amazed and thrilled as the greatest creatures ever to walk the earth return before your eyes. \nIt’s a dazzling $20\,000\,000 arena spectacle of unprecedented size and quality set to captivate young and old alike. Marvel at the story of their 200 million year domination of life on earth. Watch them walk. Hear the roar. Be there as they fight for survival and supremacy. From the ripple of their skin to the glint in their eye\, you will know the dinosaurs really are back!
URL:https://playpittsburgh.com/event/walking-with-dinosaurs-3/
LOCATION:Consol Energy Center\, 1001 Fifth Ave\, Pittsburgh\, PA\, 15219\, United States
CATEGORIES:Performing Arts
GEO:40.4397781;-79.9888158
X-APPLE-STRUCTURED-LOCATION;VALUE=URI;X-ADDRESS=Consol Energy Center 1001 Fifth Ave Pittsburgh PA 15219 United States;X-APPLE-RADIUS=500;X-TITLE=1001 Fifth Ave:geo:-79.9888158,40.4397781
END:VEVENT
BEGIN:VEVENT
DTSTART;TZID=America/New_York:20140731T190000
DTEND;TZID=America/New_York:20140731T210000
DTSTAMP:20260422T075922
CREATED:20140507T214125Z
LAST-MODIFIED:20140507T214125Z
UID:1238-1406833200-1406840400@playpittsburgh.com
SUMMARY:Walking With Dinosaurs
DESCRIPTION:After a worldwide tour seen by over 8 million people in 217 cities\, the stunning theatrical event WALKING WITH DINOSAURS – The Arena Spectacular is back! \nInternationally renowned designers have worked with scientists to create 20 life-size dinosaurs\, including the terror of the ancient terrain\, Tyrannosaurus rex! Be amazed and thrilled as the greatest creatures ever to walk the earth return before your eyes. \nIt’s a dazzling $20\,000\,000 arena spectacle of unprecedented size and quality set to captivate young and old alike. Marvel at the story of their 200 million year domination of life on earth. Watch them walk. Hear the roar. Be there as they fight for survival and supremacy. From the ripple of their skin to the glint in their eye\, you will know the dinosaurs really are back!
URL:https://playpittsburgh.com/event/walking-with-dinosaurs-2/
LOCATION:Consol Energy Center\, 1001 Fifth Ave\, Pittsburgh\, PA\, 15219\, United States
CATEGORIES:Performing Arts
GEO:40.4397781;-79.9888158
X-APPLE-STRUCTURED-LOCATION;VALUE=URI;X-ADDRESS=Consol Energy Center 1001 Fifth Ave Pittsburgh PA 15219 United States;X-APPLE-RADIUS=500;X-TITLE=1001 Fifth Ave:geo:-79.9888158,40.4397781
END:VEVENT
BEGIN:VEVENT
DTSTART;TZID=America/New_York:20140730T190000
DTEND;TZID=America/New_York:20140730T210000
DTSTAMP:20260422T075922
CREATED:20140507T214010Z
LAST-MODIFIED:20140507T214010Z
UID:1235-1406746800-1406754000@playpittsburgh.com
SUMMARY:Walking With Dinosaurs
DESCRIPTION:After a worldwide tour seen by over 8 million people in 217 cities\, the stunning theatrical event WALKING WITH DINOSAURS – The Arena Spectacular is back! \nInternationally renowned designers have worked with scientists to create 20 life-size dinosaurs\, including the terror of the ancient terrain\, Tyrannosaurus rex! Be amazed and thrilled as the greatest creatures ever to walk the earth return before your eyes. \nIt’s a dazzling $20\,000\,000 arena spectacle of unprecedented size and quality set to captivate young and old alike. Marvel at the story of their 200 million year domination of life on earth. Watch them walk. Hear the roar. Be there as they fight for survival and supremacy. From the ripple of their skin to the glint in their eye\, you will know the dinosaurs really are back!
URL:https://playpittsburgh.com/event/walking-with-dinosaurs/
LOCATION:Consol Energy Center\, 1001 Fifth Ave\, Pittsburgh\, PA\, 15219\, United States
CATEGORIES:Performing Arts
GEO:40.4397781;-79.9888158
X-APPLE-STRUCTURED-LOCATION;VALUE=URI;X-ADDRESS=Consol Energy Center 1001 Fifth Ave Pittsburgh PA 15219 United States;X-APPLE-RADIUS=500;X-TITLE=1001 Fifth Ave:geo:-79.9888158,40.4397781
END:VEVENT
END:VCALENDAR