BEGIN:VCALENDAR
VERSION:2.0
PRODID:-//Play Pittsburgh - ECPv6.15.20//NONSGML v1.0//EN
CALSCALE:GREGORIAN
METHOD:PUBLISH
X-ORIGINAL-URL:https://playpittsburgh.com
X-WR-CALDESC:Events for Play Pittsburgh
REFRESH-INTERVAL;VALUE=DURATION:PT1H
X-Robots-Tag:noindex
X-PUBLISHED-TTL:PT1H
BEGIN:VTIMEZONE
TZID:America/New_York
BEGIN:DAYLIGHT
TZOFFSETFROM:-0500
TZOFFSETTO:-0400
TZNAME:EDT
DTSTART:20130310T070000
END:DAYLIGHT
BEGIN:STANDARD
TZOFFSETFROM:-0400
TZOFFSETTO:-0500
TZNAME:EST
DTSTART:20131103T060000
END:STANDARD
BEGIN:DAYLIGHT
TZOFFSETFROM:-0500
TZOFFSETTO:-0400
TZNAME:EDT
DTSTART:20140309T070000
END:DAYLIGHT
BEGIN:STANDARD
TZOFFSETFROM:-0400
TZOFFSETTO:-0500
TZNAME:EST
DTSTART:20141102T060000
END:STANDARD
BEGIN:DAYLIGHT
TZOFFSETFROM:-0500
TZOFFSETTO:-0400
TZNAME:EDT
DTSTART:20150308T070000
END:DAYLIGHT
BEGIN:STANDARD
TZOFFSETFROM:-0400
TZOFFSETTO:-0500
TZNAME:EST
DTSTART:20151101T060000
END:STANDARD
BEGIN:DAYLIGHT
TZOFFSETFROM:-0500
TZOFFSETTO:-0400
TZNAME:EDT
DTSTART:20160313T070000
END:DAYLIGHT
BEGIN:STANDARD
TZOFFSETFROM:-0400
TZOFFSETTO:-0500
TZNAME:EST
DTSTART:20161106T060000
END:STANDARD
END:VTIMEZONE
BEGIN:VEVENT
DTSTART;TZID=America/New_York:20150715T100000
DTEND;TZID=America/New_York:20150715T113000
DTSTAMP:20260422T050345
CREATED:20150529T232325Z
LAST-MODIFIED:20150529T232325Z
UID:8728-1436954400-1436959800@playpittsburgh.com
SUMMARY:Cinemark Summer ($1) Movie Club House - Monroeville
DESCRIPTION:Movie admission is just $1 (or $5 for 10 movies). Wednesdays at 10am at CINEMARK MONROEVILLE through August 12th. Click here to get $1 off snack pack. \n\n6/10 Lego Movie\n6/17 Dolphin Tale 2\n6/24 Peabody and Sherman\n7/1 Penguins of Madagascar\n7/8 Night at the Museum\n7/15 How to Train a Dragon 2\n7/22 Alvin and the Chipmunks\n7/29 Diary of a Wimpy Kid Dog Days\n8/5 Nut Job\n8/12 Rio 2
URL:https://playpittsburgh.com/event/cinemark-summer-1-movie-club-house/2015-07-15/
LOCATION:Cinemark Monroeville Mall\, 600 Monroeville Mall\, Monroeville\, PA\, 15146\, United States
GEO:40.4291856;-79.795702
X-APPLE-STRUCTURED-LOCATION;VALUE=URI;X-ADDRESS=Cinemark Monroeville Mall 600 Monroeville Mall Monroeville PA 15146 United States;X-APPLE-RADIUS=500;X-TITLE=600 Monroeville Mall:geo:-79.795702,40.4291856
END:VEVENT
BEGIN:VEVENT
DTSTART;TZID=America/New_York:20150708T100000
DTEND;TZID=America/New_York:20150708T113000
DTSTAMP:20260422T050345
CREATED:20150529T232325Z
LAST-MODIFIED:20150529T232325Z
UID:8727-1436349600-1436355000@playpittsburgh.com
SUMMARY:Cinemark Summer ($1) Movie Club House - Monroeville
DESCRIPTION:Movie admission is just $1 (or $5 for 10 movies). Wednesdays at 10am at CINEMARK MONROEVILLE through August 12th. Click here to get $1 off snack pack. \n\n6/10 Lego Movie\n6/17 Dolphin Tale 2\n6/24 Peabody and Sherman\n7/1 Penguins of Madagascar\n7/8 Night at the Museum\n7/15 How to Train a Dragon 2\n7/22 Alvin and the Chipmunks\n7/29 Diary of a Wimpy Kid Dog Days\n8/5 Nut Job\n8/12 Rio 2
URL:https://playpittsburgh.com/event/cinemark-summer-1-movie-club-house/2015-07-08/
LOCATION:Cinemark Monroeville Mall\, 600 Monroeville Mall\, Monroeville\, PA\, 15146\, United States
GEO:40.4291856;-79.795702
X-APPLE-STRUCTURED-LOCATION;VALUE=URI;X-ADDRESS=Cinemark Monroeville Mall 600 Monroeville Mall Monroeville PA 15146 United States;X-APPLE-RADIUS=500;X-TITLE=600 Monroeville Mall:geo:-79.795702,40.4291856
END:VEVENT
BEGIN:VEVENT
DTSTART;TZID=America/New_York:20150701T100000
DTEND;TZID=America/New_York:20150701T113000
DTSTAMP:20260422T050345
CREATED:20150529T232325Z
LAST-MODIFIED:20150529T232325Z
UID:8726-1435744800-1435750200@playpittsburgh.com
SUMMARY:Cinemark Summer ($1) Movie Club House - Monroeville
DESCRIPTION:Movie admission is just $1 (or $5 for 10 movies). Wednesdays at 10am at CINEMARK MONROEVILLE through August 12th. Click here to get $1 off snack pack. \n\n6/10 Lego Movie\n6/17 Dolphin Tale 2\n6/24 Peabody and Sherman\n7/1 Penguins of Madagascar\n7/8 Night at the Museum\n7/15 How to Train a Dragon 2\n7/22 Alvin and the Chipmunks\n7/29 Diary of a Wimpy Kid Dog Days\n8/5 Nut Job\n8/12 Rio 2
URL:https://playpittsburgh.com/event/cinemark-summer-1-movie-club-house/2015-07-01/
LOCATION:Cinemark Monroeville Mall\, 600 Monroeville Mall\, Monroeville\, PA\, 15146\, United States
GEO:40.4291856;-79.795702
X-APPLE-STRUCTURED-LOCATION;VALUE=URI;X-ADDRESS=Cinemark Monroeville Mall 600 Monroeville Mall Monroeville PA 15146 United States;X-APPLE-RADIUS=500;X-TITLE=600 Monroeville Mall:geo:-79.795702,40.4291856
END:VEVENT
BEGIN:VEVENT
DTSTART;TZID=America/New_York:20150624T100000
DTEND;TZID=America/New_York:20150624T113000
DTSTAMP:20260422T050345
CREATED:20150529T232325Z
LAST-MODIFIED:20150529T232325Z
UID:8725-1435140000-1435145400@playpittsburgh.com
SUMMARY:Cinemark Summer ($1) Movie Club House - Monroeville
DESCRIPTION:Movie admission is just $1 (or $5 for 10 movies). Wednesdays at 10am at CINEMARK MONROEVILLE through August 12th. Click here to get $1 off snack pack. \n\n6/10 Lego Movie\n6/17 Dolphin Tale 2\n6/24 Peabody and Sherman\n7/1 Penguins of Madagascar\n7/8 Night at the Museum\n7/15 How to Train a Dragon 2\n7/22 Alvin and the Chipmunks\n7/29 Diary of a Wimpy Kid Dog Days\n8/5 Nut Job\n8/12 Rio 2
URL:https://playpittsburgh.com/event/cinemark-summer-1-movie-club-house/2015-06-24/
LOCATION:Cinemark Monroeville Mall\, 600 Monroeville Mall\, Monroeville\, PA\, 15146\, United States
GEO:40.4291856;-79.795702
X-APPLE-STRUCTURED-LOCATION;VALUE=URI;X-ADDRESS=Cinemark Monroeville Mall 600 Monroeville Mall Monroeville PA 15146 United States;X-APPLE-RADIUS=500;X-TITLE=600 Monroeville Mall:geo:-79.795702,40.4291856
END:VEVENT
BEGIN:VEVENT
DTSTART;TZID=America/New_York:20150617T100000
DTEND;TZID=America/New_York:20150617T113000
DTSTAMP:20260422T050345
CREATED:20150529T232325Z
LAST-MODIFIED:20150529T232325Z
UID:8724-1434535200-1434540600@playpittsburgh.com
SUMMARY:Cinemark Summer ($1) Movie Club House - Monroeville
DESCRIPTION:Movie admission is just $1 (or $5 for 10 movies). Wednesdays at 10am at CINEMARK MONROEVILLE through August 12th. Click here to get $1 off snack pack. \n\n6/10 Lego Movie\n6/17 Dolphin Tale 2\n6/24 Peabody and Sherman\n7/1 Penguins of Madagascar\n7/8 Night at the Museum\n7/15 How to Train a Dragon 2\n7/22 Alvin and the Chipmunks\n7/29 Diary of a Wimpy Kid Dog Days\n8/5 Nut Job\n8/12 Rio 2
URL:https://playpittsburgh.com/event/cinemark-summer-1-movie-club-house/2015-06-17/
LOCATION:Cinemark Monroeville Mall\, 600 Monroeville Mall\, Monroeville\, PA\, 15146\, United States
GEO:40.4291856;-79.795702
X-APPLE-STRUCTURED-LOCATION;VALUE=URI;X-ADDRESS=Cinemark Monroeville Mall 600 Monroeville Mall Monroeville PA 15146 United States;X-APPLE-RADIUS=500;X-TITLE=600 Monroeville Mall:geo:-79.795702,40.4291856
END:VEVENT
BEGIN:VEVENT
DTSTART;TZID=America/New_York:20150610T100000
DTEND;TZID=America/New_York:20150610T113000
DTSTAMP:20260422T050345
CREATED:20150529T232325Z
LAST-MODIFIED:20150529T232325Z
UID:8723-1433930400-1433935800@playpittsburgh.com
SUMMARY:Cinemark Summer ($1) Movie Club House - Monroeville
DESCRIPTION:Movie admission is just $1 (or $5 for 10 movies). Wednesdays at 10am at CINEMARK MONROEVILLE through August 12th. Click here to get $1 off snack pack. \n\n6/10 Lego Movie\n6/17 Dolphin Tale 2\n6/24 Peabody and Sherman\n7/1 Penguins of Madagascar\n7/8 Night at the Museum\n7/15 How to Train a Dragon 2\n7/22 Alvin and the Chipmunks\n7/29 Diary of a Wimpy Kid Dog Days\n8/5 Nut Job\n8/12 Rio 2
URL:https://playpittsburgh.com/event/cinemark-summer-1-movie-club-house/2015-06-10/
LOCATION:Cinemark Monroeville Mall\, 600 Monroeville Mall\, Monroeville\, PA\, 15146\, United States
GEO:40.4291856;-79.795702
X-APPLE-STRUCTURED-LOCATION;VALUE=URI;X-ADDRESS=Cinemark Monroeville Mall 600 Monroeville Mall Monroeville PA 15146 United States;X-APPLE-RADIUS=500;X-TITLE=600 Monroeville Mall:geo:-79.795702,40.4291856
END:VEVENT
BEGIN:VEVENT
DTSTART;TZID=America/New_York:20140702T100000
DTEND;TZID=America/New_York:20140702T113000
DTSTAMP:20260422T050345
CREATED:20140629T175920Z
LAST-MODIFIED:20140629T175920Z
UID:2352-1404295200-1404300600@playpittsburgh.com
SUMMARY:Cinemark Summer Movie Clubhouse
DESCRIPTION:Family friendly movies are just $1 during Cinemark’s Summer Movie Clubhouse. Two locations in Pittsburgh: Robinson (Tuesdays) and Monroeville (Wednesdays). See their flyer for $1 OFF coupon on Snack Packs.
URL:https://playpittsburgh.com/event/cinemark-summer-movie-clubhouse/2014-07-02/
LOCATION:Cinemark Monroeville Mall\, 600 Monroeville Mall\, Monroeville\, PA\, 15146\, United States
GEO:40.4291856;-79.795702
X-APPLE-STRUCTURED-LOCATION;VALUE=URI;X-ADDRESS=Cinemark Monroeville Mall 600 Monroeville Mall Monroeville PA 15146 United States;X-APPLE-RADIUS=500;X-TITLE=600 Monroeville Mall:geo:-79.795702,40.4291856
END:VEVENT
END:VCALENDAR