BEGIN:VCALENDAR
VERSION:2.0
PRODID:-//Play Pittsburgh - ECPv6.15.20//NONSGML v1.0//EN
CALSCALE:GREGORIAN
METHOD:PUBLISH
X-ORIGINAL-URL:https://playpittsburgh.com
X-WR-CALDESC:Events for Play Pittsburgh
REFRESH-INTERVAL;VALUE=DURATION:PT1H
X-Robots-Tag:noindex
X-PUBLISHED-TTL:PT1H
BEGIN:VTIMEZONE
TZID:America/New_York
BEGIN:DAYLIGHT
TZOFFSETFROM:-0500
TZOFFSETTO:-0400
TZNAME:EDT
DTSTART:20130310T070000
END:DAYLIGHT
BEGIN:STANDARD
TZOFFSETFROM:-0400
TZOFFSETTO:-0500
TZNAME:EST
DTSTART:20131103T060000
END:STANDARD
BEGIN:DAYLIGHT
TZOFFSETFROM:-0500
TZOFFSETTO:-0400
TZNAME:EDT
DTSTART:20140309T070000
END:DAYLIGHT
BEGIN:STANDARD
TZOFFSETFROM:-0400
TZOFFSETTO:-0500
TZNAME:EST
DTSTART:20141102T060000
END:STANDARD
BEGIN:DAYLIGHT
TZOFFSETFROM:-0500
TZOFFSETTO:-0400
TZNAME:EDT
DTSTART:20150308T070000
END:DAYLIGHT
BEGIN:STANDARD
TZOFFSETFROM:-0400
TZOFFSETTO:-0500
TZNAME:EST
DTSTART:20151101T060000
END:STANDARD
END:VTIMEZONE
BEGIN:VEVENT
DTSTART;TZID=America/New_York:20140701T100000
DTEND;TZID=America/New_York:20140701T113000
DTSTAMP:20260421T215915
CREATED:20140629T170403Z
LAST-MODIFIED:20140629T170852Z
UID:2318-1404208800-1404214200@playpittsburgh.com
SUMMARY:Free Summer Movie Series @ Chartiers Valley Stadium 18
DESCRIPTION:Phoenix Big Cinemas Presents Free Summer Movies Series 2014 Every Tuesday\, Wednesday and Thursday at 10am. Free family friendly movies at 10am every Tues\, Wed & Thursday! Different G and PG rated films for 10 weeks over the summer. FREE Admission. All Ages & Groups Welcome. Doors open at 9:00 AM. Special Snack Packs Available. Seating Limited to Auditorium Capacity – No Purchase Necessary \n\nJune 10 – 12:  Madagascar 3: Europe’s Most Wanted | Dr. Suess’ Horton Hears a Who\nJune 17 – 19:  Dr. Suess’ The Lorax | Ramona & Beezus\nJune 24 – 26 : Ice Age: Continental Drift | Charlotte’s Web\nJuly 1 – 3:  Hotel Transylvania | Rugrats: The Movie\nJuly 8 – 10 : Despicable Me 2 | Rugrats In Paris the Movie\nJuly 15 – 17: The Croods | Wallace & Gromit: Curse of the Were-Rabbit\nJuly 22 – 24:  Cloudy with a Chance of Meatballs 2 | Alvin & the Chipmunks: Chipwrecked\nJuly 29 – 31:  Epic | Doogal\nAugust 5 – 7: Turbo|  Tale of Despereaux\nAugust 12 – 14:  The Smurfs 2 | Rio
URL:https://playpittsburgh.com/event/free-summer-movie-series-chartiers-valley-stadium-18/2014-07-01/
LOCATION:Chartiers Valley Stadium 18 Phoenix Big Cinemas\, 1025 Washington Pike\, Bridgeville\, PA\, 15017\, United States
CATEGORIES:Free,Indoor Play
GEO:40.367155;-80.1101296
X-APPLE-STRUCTURED-LOCATION;VALUE=URI;X-ADDRESS=Chartiers Valley Stadium 18 Phoenix Big Cinemas 1025 Washington Pike Bridgeville PA 15017 United States;X-APPLE-RADIUS=500;X-TITLE=1025 Washington Pike:geo:-80.1101296,40.367155
END:VEVENT
END:VCALENDAR