BEGIN:VCALENDAR
VERSION:2.0
PRODID:-//Play Pittsburgh - ECPv6.15.20//NONSGML v1.0//EN
CALSCALE:GREGORIAN
METHOD:PUBLISH
X-WR-CALNAME:Play Pittsburgh
X-ORIGINAL-URL:https://playpittsburgh.com
X-WR-CALDESC:Events for Play Pittsburgh
REFRESH-INTERVAL;VALUE=DURATION:PT1H
X-Robots-Tag:noindex
X-PUBLISHED-TTL:PT1H
BEGIN:VTIMEZONE
TZID:America/New_York
BEGIN:DAYLIGHT
TZOFFSETFROM:-0500
TZOFFSETTO:-0400
TZNAME:EDT
DTSTART:20140309T070000
END:DAYLIGHT
BEGIN:STANDARD
TZOFFSETFROM:-0400
TZOFFSETTO:-0500
TZNAME:EST
DTSTART:20141102T060000
END:STANDARD
BEGIN:DAYLIGHT
TZOFFSETFROM:-0500
TZOFFSETTO:-0400
TZNAME:EDT
DTSTART:20150308T070000
END:DAYLIGHT
BEGIN:STANDARD
TZOFFSETFROM:-0400
TZOFFSETTO:-0500
TZNAME:EST
DTSTART:20151101T060000
END:STANDARD
BEGIN:DAYLIGHT
TZOFFSETFROM:-0500
TZOFFSETTO:-0400
TZNAME:EDT
DTSTART:20160313T070000
END:DAYLIGHT
BEGIN:STANDARD
TZOFFSETFROM:-0400
TZOFFSETTO:-0500
TZNAME:EST
DTSTART:20161106T060000
END:STANDARD
END:VTIMEZONE
BEGIN:VEVENT
DTSTART;TZID=America/New_York:20150404T110000
DTEND;TZID=America/New_York:20150404T120000
DTSTAMP:20260422T074123
CREATED:20150328T230757Z
LAST-MODIFIED:20150328T230757Z
UID:5940-1428145200-1428148800@playpittsburgh.com
SUMMARY:Bridgeville Borough Easter Egg Hunt
DESCRIPTION:Bridgeville Borough along with the Bridgeville Fire Department and Ladies Axillary will hold the Bridgeville Borough Easter Egg Hunt: Saturday\, April 4th at 11:00 a.m. in Chartiers Park. \nThis is a free community event—fun times for the children. Be sure to bring a container to hold all the eggs that the children will find! For more information or any questions\, contact the Borough Office at 412-221-6012
URL:https://playpittsburgh.com/event/bridgeville-borough-easter-egg-hunt/
LOCATION:Chartiers Park\, Lesnett Road\, Bridgeville\, PA\, 15017\, United States
GEO:40.3493214;-80.1017645
X-APPLE-STRUCTURED-LOCATION;VALUE=URI;X-ADDRESS=Chartiers Park Lesnett Road Bridgeville PA 15017 United States;X-APPLE-RADIUS=500;X-TITLE=Lesnett Road:geo:-80.1017645,40.3493214
END:VEVENT
END:VCALENDAR