BEGIN:VCALENDAR
VERSION:2.0
PRODID:-//Play Pittsburgh - ECPv6.15.20//NONSGML v1.0//EN
CALSCALE:GREGORIAN
METHOD:PUBLISH
X-ORIGINAL-URL:https://playpittsburgh.com
X-WR-CALDESC:Events for Play Pittsburgh
REFRESH-INTERVAL;VALUE=DURATION:PT1H
X-Robots-Tag:noindex
X-PUBLISHED-TTL:PT1H
BEGIN:VTIMEZONE
TZID:America/New_York
BEGIN:DAYLIGHT
TZOFFSETFROM:-0500
TZOFFSETTO:-0400
TZNAME:EDT
DTSTART:20150308T070000
END:DAYLIGHT
BEGIN:STANDARD
TZOFFSETFROM:-0400
TZOFFSETTO:-0500
TZNAME:EST
DTSTART:20151101T060000
END:STANDARD
BEGIN:DAYLIGHT
TZOFFSETFROM:-0500
TZOFFSETTO:-0400
TZNAME:EDT
DTSTART:20160313T070000
END:DAYLIGHT
BEGIN:STANDARD
TZOFFSETFROM:-0400
TZOFFSETTO:-0500
TZNAME:EST
DTSTART:20161106T060000
END:STANDARD
BEGIN:DAYLIGHT
TZOFFSETFROM:-0500
TZOFFSETTO:-0400
TZNAME:EDT
DTSTART:20170312T070000
END:DAYLIGHT
BEGIN:STANDARD
TZOFFSETFROM:-0400
TZOFFSETTO:-0500
TZNAME:EST
DTSTART:20171105T060000
END:STANDARD
END:VTIMEZONE
BEGIN:VEVENT
DTSTART;VALUE=DATE:20160806
DTEND;VALUE=DATE:20160807
DTSTAMP:20260421T212110
CREATED:20160731T132322Z
LAST-MODIFIED:20160731T132322Z
UID:10118-1470441600-1470527999@playpittsburgh.com
SUMMARY:Annual Cecil Township Carnival and Parade
DESCRIPTION:Food\, fun\, games\, prizes\, rides\, beverages\, and the annual parade on Saturday\, August 6\, 2016 starting at 6:00 PM. Run daily from August 1st – 6th. 
URL:https://playpittsburgh.com/event/annual-cecil-township-carnival-parade/2016-08-06/
LOCATION:Cecil Township Vol. Fire Company #3\, 3351 Millers Run Road\, Cecil \, PA\, 15321\, United States
GEO:40.3222749;-80.1985726
X-APPLE-STRUCTURED-LOCATION;VALUE=URI;X-ADDRESS=Cecil Township Vol. Fire Company #3 3351 Millers Run Road Cecil  PA 15321 United States;X-APPLE-RADIUS=500;X-TITLE=3351 Millers Run Road:geo:-80.1985726,40.3222749
END:VEVENT
BEGIN:VEVENT
DTSTART;VALUE=DATE:20160805
DTEND;VALUE=DATE:20160806
DTSTAMP:20260421T212110
CREATED:20160731T132322Z
LAST-MODIFIED:20160731T132322Z
UID:10117-1470355200-1470441599@playpittsburgh.com
SUMMARY:Annual Cecil Township Carnival and Parade
DESCRIPTION:Food\, fun\, games\, prizes\, rides\, beverages\, and the annual parade on Saturday\, August 6\, 2016 starting at 6:00 PM. Run daily from August 1st – 6th. 
URL:https://playpittsburgh.com/event/annual-cecil-township-carnival-parade/2016-08-05/
LOCATION:Cecil Township Vol. Fire Company #3\, 3351 Millers Run Road\, Cecil \, PA\, 15321\, United States
GEO:40.3222749;-80.1985726
X-APPLE-STRUCTURED-LOCATION;VALUE=URI;X-ADDRESS=Cecil Township Vol. Fire Company #3 3351 Millers Run Road Cecil  PA 15321 United States;X-APPLE-RADIUS=500;X-TITLE=3351 Millers Run Road:geo:-80.1985726,40.3222749
END:VEVENT
BEGIN:VEVENT
DTSTART;VALUE=DATE:20160804
DTEND;VALUE=DATE:20160805
DTSTAMP:20260421T212110
CREATED:20160731T132322Z
LAST-MODIFIED:20160731T132322Z
UID:10116-1470268800-1470355199@playpittsburgh.com
SUMMARY:Annual Cecil Township Carnival and Parade
DESCRIPTION:Food\, fun\, games\, prizes\, rides\, beverages\, and the annual parade on Saturday\, August 6\, 2016 starting at 6:00 PM. Run daily from August 1st – 6th. 
URL:https://playpittsburgh.com/event/annual-cecil-township-carnival-parade/2016-08-04/
LOCATION:Cecil Township Vol. Fire Company #3\, 3351 Millers Run Road\, Cecil \, PA\, 15321\, United States
GEO:40.3222749;-80.1985726
X-APPLE-STRUCTURED-LOCATION;VALUE=URI;X-ADDRESS=Cecil Township Vol. Fire Company #3 3351 Millers Run Road Cecil  PA 15321 United States;X-APPLE-RADIUS=500;X-TITLE=3351 Millers Run Road:geo:-80.1985726,40.3222749
END:VEVENT
BEGIN:VEVENT
DTSTART;VALUE=DATE:20160803
DTEND;VALUE=DATE:20160804
DTSTAMP:20260421T212110
CREATED:20160731T132322Z
LAST-MODIFIED:20160731T132322Z
UID:10115-1470182400-1470268799@playpittsburgh.com
SUMMARY:Annual Cecil Township Carnival and Parade
DESCRIPTION:Food\, fun\, games\, prizes\, rides\, beverages\, and the annual parade on Saturday\, August 6\, 2016 starting at 6:00 PM. Run daily from August 1st – 6th. 
URL:https://playpittsburgh.com/event/annual-cecil-township-carnival-parade/2016-08-03/
LOCATION:Cecil Township Vol. Fire Company #3\, 3351 Millers Run Road\, Cecil \, PA\, 15321\, United States
GEO:40.3222749;-80.1985726
X-APPLE-STRUCTURED-LOCATION;VALUE=URI;X-ADDRESS=Cecil Township Vol. Fire Company #3 3351 Millers Run Road Cecil  PA 15321 United States;X-APPLE-RADIUS=500;X-TITLE=3351 Millers Run Road:geo:-80.1985726,40.3222749
END:VEVENT
BEGIN:VEVENT
DTSTART;VALUE=DATE:20160802
DTEND;VALUE=DATE:20160803
DTSTAMP:20260421T212110
CREATED:20160731T132322Z
LAST-MODIFIED:20160731T132322Z
UID:10114-1470096000-1470182399@playpittsburgh.com
SUMMARY:Annual Cecil Township Carnival and Parade
DESCRIPTION:Food\, fun\, games\, prizes\, rides\, beverages\, and the annual parade on Saturday\, August 6\, 2016 starting at 6:00 PM. Run daily from August 1st – 6th. 
URL:https://playpittsburgh.com/event/annual-cecil-township-carnival-parade/2016-08-02/
LOCATION:Cecil Township Vol. Fire Company #3\, 3351 Millers Run Road\, Cecil \, PA\, 15321\, United States
GEO:40.3222749;-80.1985726
X-APPLE-STRUCTURED-LOCATION;VALUE=URI;X-ADDRESS=Cecil Township Vol. Fire Company #3 3351 Millers Run Road Cecil  PA 15321 United States;X-APPLE-RADIUS=500;X-TITLE=3351 Millers Run Road:geo:-80.1985726,40.3222749
END:VEVENT
BEGIN:VEVENT
DTSTART;VALUE=DATE:20160801
DTEND;VALUE=DATE:20160802
DTSTAMP:20260421T212110
CREATED:20160731T132322Z
LAST-MODIFIED:20160731T132322Z
UID:10112-1470009600-1470095999@playpittsburgh.com
SUMMARY:Annual Cecil Township Carnival and Parade
DESCRIPTION:Food\, fun\, games\, prizes\, rides\, beverages\, and the annual parade on Saturday\, August 6\, 2016 starting at 6:00 PM. Run daily from August 1st – 6th. 
URL:https://playpittsburgh.com/event/annual-cecil-township-carnival-parade/2016-08-01/
LOCATION:Cecil Township Vol. Fire Company #3\, 3351 Millers Run Road\, Cecil \, PA\, 15321\, United States
GEO:40.3222749;-80.1985726
X-APPLE-STRUCTURED-LOCATION;VALUE=URI;X-ADDRESS=Cecil Township Vol. Fire Company #3 3351 Millers Run Road Cecil  PA 15321 United States;X-APPLE-RADIUS=500;X-TITLE=3351 Millers Run Road:geo:-80.1985726,40.3222749
END:VEVENT
END:VCALENDAR