BEGIN:VCALENDAR
VERSION:2.0
PRODID:-//Play Pittsburgh - ECPv6.15.20//NONSGML v1.0//EN
CALSCALE:GREGORIAN
METHOD:PUBLISH
X-ORIGINAL-URL:https://playpittsburgh.com
X-WR-CALDESC:Events for Play Pittsburgh
REFRESH-INTERVAL;VALUE=DURATION:PT1H
X-Robots-Tag:noindex
X-PUBLISHED-TTL:PT1H
BEGIN:VTIMEZONE
TZID:America/New_York
BEGIN:DAYLIGHT
TZOFFSETFROM:-0500
TZOFFSETTO:-0400
TZNAME:EDT
DTSTART:20130310T070000
END:DAYLIGHT
BEGIN:STANDARD
TZOFFSETFROM:-0400
TZOFFSETTO:-0500
TZNAME:EST
DTSTART:20131103T060000
END:STANDARD
BEGIN:DAYLIGHT
TZOFFSETFROM:-0500
TZOFFSETTO:-0400
TZNAME:EDT
DTSTART:20140309T070000
END:DAYLIGHT
BEGIN:STANDARD
TZOFFSETFROM:-0400
TZOFFSETTO:-0500
TZNAME:EST
DTSTART:20141102T060000
END:STANDARD
BEGIN:DAYLIGHT
TZOFFSETFROM:-0500
TZOFFSETTO:-0400
TZNAME:EDT
DTSTART:20150308T070000
END:DAYLIGHT
BEGIN:STANDARD
TZOFFSETFROM:-0400
TZOFFSETTO:-0500
TZNAME:EST
DTSTART:20151101T060000
END:STANDARD
END:VTIMEZONE
BEGIN:VEVENT
DTSTART;VALUE=DATE:20140927
DTEND;VALUE=DATE:20140929
DTSTAMP:20260422T093717
CREATED:20140901T174520Z
LAST-MODIFIED:20140901T174520Z
UID:3458-1411776000-1411948799@playpittsburgh.com
SUMMARY:Cecil Township Fall Festival
DESCRIPTION:Annual Cecil Township Fall Festival event with arts and crafts booths\, food vendors\, live music and entertainment\, petting zoo\, pony rides\, children’s activities\, horse drawn wagon rides\, train rides\, wine vendor\, and much more. \nFree admission and parking. \nSponsored by the Cecil Township Park and Recreation Board. \nSaturday 10AM to 8PM\, Sunday 10AM to 6PM
URL:https://playpittsburgh.com/event/cecil-township-fall-festival/
LOCATION:Cecil Township Park\, 3599 Miller’s Run Road\, Cecil\, PA\, 15321\, United States
CATEGORIES:Festivals,Outdoor
GEO:40.32642;-80.192494
X-APPLE-STRUCTURED-LOCATION;VALUE=URI;X-ADDRESS=Cecil Township Park 3599 Miller’s Run Road Cecil PA 15321 United States;X-APPLE-RADIUS=500;X-TITLE=3599 Miller’s Run Road:geo:-80.192494,40.32642
END:VEVENT
END:VCALENDAR