BEGIN:VCALENDAR
VERSION:2.0
PRODID:-//Play Pittsburgh - ECPv6.15.20//NONSGML v1.0//EN
CALSCALE:GREGORIAN
METHOD:PUBLISH
X-ORIGINAL-URL:https://playpittsburgh.com
X-WR-CALDESC:Events for Play Pittsburgh
REFRESH-INTERVAL;VALUE=DURATION:PT1H
X-Robots-Tag:noindex
X-PUBLISHED-TTL:PT1H
BEGIN:VTIMEZONE
TZID:America/New_York
BEGIN:DAYLIGHT
TZOFFSETFROM:-0500
TZOFFSETTO:-0400
TZNAME:EDT
DTSTART:20130310T070000
END:DAYLIGHT
BEGIN:STANDARD
TZOFFSETFROM:-0400
TZOFFSETTO:-0500
TZNAME:EST
DTSTART:20131103T060000
END:STANDARD
BEGIN:DAYLIGHT
TZOFFSETFROM:-0500
TZOFFSETTO:-0400
TZNAME:EDT
DTSTART:20140309T070000
END:DAYLIGHT
BEGIN:STANDARD
TZOFFSETFROM:-0400
TZOFFSETTO:-0500
TZNAME:EST
DTSTART:20141102T060000
END:STANDARD
BEGIN:DAYLIGHT
TZOFFSETFROM:-0500
TZOFFSETTO:-0400
TZNAME:EDT
DTSTART:20150308T070000
END:DAYLIGHT
BEGIN:STANDARD
TZOFFSETFROM:-0400
TZOFFSETTO:-0500
TZNAME:EST
DTSTART:20151101T060000
END:STANDARD
END:VTIMEZONE
BEGIN:VEVENT
DTSTART;VALUE=DATE:20141214
DTEND;VALUE=DATE:20141215
DTSTAMP:20260421T215658
CREATED:20141203T045536Z
LAST-MODIFIED:20141203T045536Z
UID:8128-1418515200-1418601599@playpittsburgh.com
SUMMARY:Lionel Days at the Carnegie Science Center
DESCRIPTION:Enjoy museum-quality artifact displays of vintage Lionel trains and artifacts from their private archives\, a classic model railroad layout\, and festive train decorations on the grand holiday tree\, all on loan from Lionel. Join the Carnegie Science Center on weekends for special activities\, including the interactive Lionel Kids’ Zone with easy-to-use train sets for building!
URL:https://playpittsburgh.com/event/lionel-days-at-the-carnegie-science-center-2/2014-12-14/
LOCATION:Carnegie Science Center\, One Allegheny Ave.\, Pittsburgh\, PA\, 15212\, United States
GEO:40.4456737;-80.0180996
X-APPLE-STRUCTURED-LOCATION;VALUE=URI;X-ADDRESS=Carnegie Science Center One Allegheny Ave. Pittsburgh PA 15212 United States;X-APPLE-RADIUS=500;X-TITLE=One Allegheny Ave.:geo:-80.0180996,40.4456737
END:VEVENT
BEGIN:VEVENT
DTSTART;TZID=America/New_York:20141213T180000
DTEND;TZID=America/New_York:20141214T093000
DTSTAMP:20260421T215658
CREATED:20140421T113631Z
LAST-MODIFIED:20140422T035744Z
UID:686-1418493600-1418549400@playpittsburgh.com
SUMMARY:Science Center Sleepover
DESCRIPTION:The Carnegie Science Center hosts overnight sleepovers. Bring your family or Scout troop on a science siesta! Discover the science of shuteye as you explore circadian rhythms and hibernation. Investigate ultraviolet light in our glow room. Test your reflexes in our simulated sleep deprivation challenge and make a sleep mask to help you slumber the night away. You might get to snooze next to R2-D2\, dream beside seahorses\, or catch some Z’s near a space station. \nCheck-in begins at 6 pm the evening of your sleepover\, where you will receive a detailed schedule of the night’s happenings. The overnight experience will begin with a brief orientation\, after which participants will enjoy a night of themed activities. Lights-out is at midnight. All sleepover gear must be removed from the building by 9:30 am\, but you are welcome to stay the day after and explore even more with your general admission\, included in your sleepover cost! \nAll Science Center sleepovers include: \n\nThemed activities\nOmnimax movie\nPlanetarium or laser show\nLive theater show\nScience workshop\nSleeping among our exciting exhibits\nOfficial Science Center patch\nLate-night snack\nContinental breakfast\nFree admission for the day following the sleepover\, including Highmark SportsWorks® and USS Requin\nParking
URL:https://playpittsburgh.com/event/science-center-sleepover-4/
LOCATION:Carnegie Science Center\, One Allegheny Ave.\, Pittsburgh\, PA\, 15212\, United States
CATEGORIES:Museums
GEO:40.4456737;-80.0180996
X-APPLE-STRUCTURED-LOCATION;VALUE=URI;X-ADDRESS=Carnegie Science Center One Allegheny Ave. Pittsburgh PA 15212 United States;X-APPLE-RADIUS=500;X-TITLE=One Allegheny Ave.:geo:-80.0180996,40.4456737
END:VEVENT
BEGIN:VEVENT
DTSTART;TZID=America/New_York:20141213T083000
DTEND;TZID=America/New_York:20141213T123000
DTSTAMP:20260421T215658
CREATED:20141204T013425Z
LAST-MODIFIED:20141204T013425Z
UID:8174-1418459400-1418473800@playpittsburgh.com
SUMMARY:Breakfast Express at Carnegie Science Center
DESCRIPTION:Climb on board for a piping-hot breakfast\, The Polar Express: An IMAX Experience\, loads of family fun\, time in the Miniature Railroad & Village®\, and a chance to meet Mr. McFeely. It’s a holiday tradition! \nSaturdays\, December 6\, 13\, and 20\n8:30 am – 12:30 pm \nRegister now! Call 412.237.3400\, then press 7. \n$25 member / $30 non-member (adult)\n$20 member / $25 non-member (child or senior)\n$10 (all children 1–2 years)
URL:https://playpittsburgh.com/event/breakfast-express-at-carnegie-science-center/2014-12-13/
LOCATION:Carnegie Science Center\, One Allegheny Ave.\, Pittsburgh\, PA\, 15212\, United States
GEO:40.4456737;-80.0180996
X-APPLE-STRUCTURED-LOCATION;VALUE=URI;X-ADDRESS=Carnegie Science Center One Allegheny Ave. Pittsburgh PA 15212 United States;X-APPLE-RADIUS=500;X-TITLE=One Allegheny Ave.:geo:-80.0180996,40.4456737
END:VEVENT
BEGIN:VEVENT
DTSTART;VALUE=DATE:20141207
DTEND;VALUE=DATE:20141208
DTSTAMP:20260421T215658
CREATED:20141203T045536Z
LAST-MODIFIED:20141203T045536Z
UID:4998-1417910400-1417996799@playpittsburgh.com
SUMMARY:Lionel Days at the Carnegie Science Center
DESCRIPTION:Enjoy museum-quality artifact displays of vintage Lionel trains and artifacts from their private archives\, a classic model railroad layout\, and festive train decorations on the grand holiday tree\, all on loan from Lionel. Join the Carnegie Science Center on weekends for special activities\, including the interactive Lionel Kids’ Zone with easy-to-use train sets for building!
URL:https://playpittsburgh.com/event/lionel-days-at-the-carnegie-science-center-2/2014-12-07/
LOCATION:Carnegie Science Center\, One Allegheny Ave.\, Pittsburgh\, PA\, 15212\, United States
GEO:40.4456737;-80.0180996
X-APPLE-STRUCTURED-LOCATION;VALUE=URI;X-ADDRESS=Carnegie Science Center One Allegheny Ave. Pittsburgh PA 15212 United States;X-APPLE-RADIUS=500;X-TITLE=One Allegheny Ave.:geo:-80.0180996,40.4456737
END:VEVENT
BEGIN:VEVENT
DTSTART;TZID=America/New_York:20141206T083000
DTEND;TZID=America/New_York:20141206T123000
DTSTAMP:20260421T215658
CREATED:20141204T013425Z
LAST-MODIFIED:20141204T013425Z
UID:5082-1417854600-1417869000@playpittsburgh.com
SUMMARY:Breakfast Express at Carnegie Science Center
DESCRIPTION:Climb on board for a piping-hot breakfast\, The Polar Express: An IMAX Experience\, loads of family fun\, time in the Miniature Railroad & Village®\, and a chance to meet Mr. McFeely. It’s a holiday tradition! \nSaturdays\, December 6\, 13\, and 20\n8:30 am – 12:30 pm \nRegister now! Call 412.237.3400\, then press 7. \n$25 member / $30 non-member (adult)\n$20 member / $25 non-member (child or senior)\n$10 (all children 1–2 years)
URL:https://playpittsburgh.com/event/breakfast-express-at-carnegie-science-center/2014-12-06/
LOCATION:Carnegie Science Center\, One Allegheny Ave.\, Pittsburgh\, PA\, 15212\, United States
GEO:40.4456737;-80.0180996
X-APPLE-STRUCTURED-LOCATION;VALUE=URI;X-ADDRESS=Carnegie Science Center One Allegheny Ave. Pittsburgh PA 15212 United States;X-APPLE-RADIUS=500;X-TITLE=One Allegheny Ave.:geo:-80.0180996,40.4456737
END:VEVENT
BEGIN:VEVENT
DTSTART;VALUE=DATE:20141206
DTEND;VALUE=DATE:20141207
DTSTAMP:20260421T215658
CREATED:20141203T045238Z
LAST-MODIFIED:20141203T045238Z
UID:4997-1417824000-1417910399@playpittsburgh.com
SUMMARY:Lionel Days at the Carnegie Science Center
DESCRIPTION:Enjoy museum-quality artifact displays of vintage Lionel trains and artifacts from their private archives\, a classic model railroad layout\, and festive train decorations on the grand holiday tree\, all on loan from Lionel. Join the Carnegie Science Center on weekends for special activities\, including the interactive Lionel Kids’ Zone with easy-to-use train sets for building!
URL:https://playpittsburgh.com/event/lionel-days-at-the-carnegie-science-center/
LOCATION:Carnegie Science Center\, One Allegheny Ave.\, Pittsburgh\, PA\, 15212\, United States
GEO:40.4456737;-80.0180996
X-APPLE-STRUCTURED-LOCATION;VALUE=URI;X-ADDRESS=Carnegie Science Center One Allegheny Ave. Pittsburgh PA 15212 United States;X-APPLE-RADIUS=500;X-TITLE=One Allegheny Ave.:geo:-80.0180996,40.4456737
END:VEVENT
BEGIN:VEVENT
DTSTART;TZID=America/New_York:20141121T180000
DTEND;TZID=America/New_York:20141122T093000
DTSTAMP:20260421T215658
CREATED:20140422T003458Z
LAST-MODIFIED:20140422T003458Z
UID:685-1416592800-1416648600@playpittsburgh.com
SUMMARY:Science Center Sleepovers
DESCRIPTION:The Carnegie Science Center hosts overnight sleepovers. Bring your family or Scout troop on a science siesta! Discover the science of shuteye as you explore circadian rhythms and hibernation. Investigate ultraviolet light in our glow room. Test your reflexes in our simulated sleep deprivation challenge and make a sleep mask to help you slumber the night away. You might get to snooze next to R2-D2\, dream beside seahorses\, or catch some Z’s near a space station. \nCheck-in begins at 6 pm the evening of your sleepover\, where you will receive a detailed schedule of the night’s happenings. The overnight experience will begin with a brief orientation\, after which participants will enjoy a night of themed activities. Lights-out is at midnight. All sleepover gear must be removed from the building by 9:30 am\, but you are welcome to stay the day after and explore even more with your general admission\, included in your sleepover cost! \nAll Science Center sleepovers include: \n\nThemed activities\nOmnimax movie\nPlanetarium or laser show\nLive theater show\nScience workshop\nSleeping among our exciting exhibits\nOfficial Science Center patch\nLate-night snack\nContinental breakfast\nFree admission for the day following the sleepover\, including Highmark SportsWorks® and USS Requin\nParking
URL:https://playpittsburgh.com/event/science-center-sleepovers/
LOCATION:Carnegie Science Center\, One Allegheny Ave.\, Pittsburgh\, PA\, 15212\, United States
CATEGORIES:Museums
GEO:40.4456737;-80.0180996
X-APPLE-STRUCTURED-LOCATION;VALUE=URI;X-ADDRESS=Carnegie Science Center One Allegheny Ave. Pittsburgh PA 15212 United States;X-APPLE-RADIUS=500;X-TITLE=One Allegheny Ave.:geo:-80.0180996,40.4456737
END:VEVENT
BEGIN:VEVENT
DTSTART;TZID=America/New_York:20141121T180000
DTEND;TZID=America/New_York:20141121T210000
DTSTAMP:20260421T215658
CREATED:20141102T235216Z
LAST-MODIFIED:20141102T235216Z
UID:6916-1416592800-1416603600@playpittsburgh.com
SUMMARY:Light up Night Sleep Over at the Science Center
DESCRIPTION:Start off your holiday season with a bang! If you’re looking for the best view of the downtown lights for this special night\, look no further. And what’s more\, we’ve got some demonstrations and science to make this a spectacular evening. Illuminate the secrets of pyrotechnics in our explosive presentation of fireworks science\, try your own colorful glow-in-the-dark reactions\, and more. It’s festive\, fiery\, and full of fun! \nCheck-in begins at 6 pm the evening of your sleepover\, where you will receive a detailed schedule of the night’s happenings. The overnight experience will begin with a brief orientation\, after which participants will enjoy a night of themed activities. Lights-out is at midnight. All sleepover gear must be removed from the building by 9:30 am\, but you are welcome to stay the day after and explore even more with your general admission\, included in your sleepover cost! \nJust $35 per person! Call 412.237.1637 to register.
URL:https://playpittsburgh.com/event/light-up-night-sleep-over-at-the-science-center/
LOCATION:Carnegie Science Center\, One Allegheny Ave.\, Pittsburgh\, PA\, 15212\, United States
ATTACH;FMTTYPE=:
GEO:40.4456737;-80.0180996
X-APPLE-STRUCTURED-LOCATION;VALUE=URI;X-ADDRESS=Carnegie Science Center One Allegheny Ave. Pittsburgh PA 15212 United States;X-APPLE-RADIUS=500;X-TITLE=One Allegheny Ave.:geo:-80.0180996,40.4456737
END:VEVENT
BEGIN:VEVENT
DTSTART;TZID=America/New_York:20141107T173000
DTEND;TZID=America/New_York:20141107T210000
DTSTAMP:20260421T215658
CREATED:20141030T233741Z
LAST-MODIFIED:20141030T233741Z
UID:6881-1415381400-1415394000@playpittsburgh.com
SUMMARY:Jammie Jam at Carnegie Science Center
DESCRIPTION:No sleeping bag required. The evening wraps up before bedtime! \nBring your smallest scientists to the Science Center for an evening of themed activities just for early learners ages 2-6! You and your preschooler will experience make-and-take activities\, a live theater show\, and story time. Plus\, you’ll have access to four floors of exhibits and enjoy a snack. Children are encouraged to come in their pajamas! \nCost: $15 per kid\, $10 per adult
URL:https://playpittsburgh.com/event/jammie-jam-at-carnegie-science-center/
LOCATION:Carnegie Science Center\, One Allegheny Ave.\, Pittsburgh\, PA\, 15212\, United States
ATTACH;FMTTYPE=:
GEO:40.4456737;-80.0180996
X-APPLE-STRUCTURED-LOCATION;VALUE=URI;X-ADDRESS=Carnegie Science Center One Allegheny Ave. Pittsburgh PA 15212 United States;X-APPLE-RADIUS=500;X-TITLE=One Allegheny Ave.:geo:-80.0180996,40.4456737
END:VEVENT
BEGIN:VEVENT
DTSTART;VALUE=DATE:20141104
DTEND;VALUE=DATE:20141108
DTSTAMP:20260421T215658
CREATED:20141106T004533Z
LAST-MODIFIED:20141106T004533Z
UID:6948-1415059200-1415404799@playpittsburgh.com
SUMMARY:50% off General Admission at the Science Center
DESCRIPTION:During SciTech Days\, say “Math plus science equals success” at the ticket counter and receive 50% off general admission! Carnegie Science Center\, the Math & Science Collaborative\, FedEx Ground\, and WTAE-TV have teamed up in the math+science=success campaign to promote math and science education as essential for all students. \nAt SciTech Days\, Nov. 4 – Nov. 7\, the building is filled with interactive demonstrations provided by professionals from the region’s leading STEM industries and universities. It’s a popular event for school groups\, and families are welcome\, too! This is a great opportunity if your child’s school is closed on Election Day.
URL:https://playpittsburgh.com/event/50-off-general-admission-at-the-science-center/
LOCATION:Carnegie Science Center\, One Allegheny Ave.\, Pittsburgh\, PA\, 15212\, United States
CATEGORIES:Indoor Play,Museums
ATTACH;FMTTYPE=:
GEO:40.4456737;-80.0180996
X-APPLE-STRUCTURED-LOCATION;VALUE=URI;X-ADDRESS=Carnegie Science Center One Allegheny Ave. Pittsburgh PA 15212 United States;X-APPLE-RADIUS=500;X-TITLE=One Allegheny Ave.:geo:-80.0180996,40.4456737
END:VEVENT
BEGIN:VEVENT
DTSTART;TZID=America/New_York:20141101T100000
DTEND;TZID=America/New_York:20141101T190000
DTSTAMP:20260421T215658
CREATED:20141030T200726Z
LAST-MODIFIED:20141030T200726Z
UID:6849-1414836000-1414868400@playpittsburgh.com
SUMMARY:Great Pumpkin Smash! at Carnegie Science Center
DESCRIPTION:What do you do with a jack-o’-lantern after Halloween? Bring it to the Science Center and roll it off our roof\, of course! \nJoin Smash-ologists’ for our annual Great Pumpkin Smash! that features (explosive!) pumpkin-related demos throughout the day. It’s a physics-filled compost-able event you don’t want to miss! \nFree with general admission—rain or shine.
URL:https://playpittsburgh.com/event/4137/
LOCATION:Carnegie Science Center\, One Allegheny Ave.\, Pittsburgh\, PA\, 15212\, United States
ATTACH;FMTTYPE=:
GEO:40.4456737;-80.0180996
X-APPLE-STRUCTURED-LOCATION;VALUE=URI;X-ADDRESS=Carnegie Science Center One Allegheny Ave. Pittsburgh PA 15212 United States;X-APPLE-RADIUS=500;X-TITLE=One Allegheny Ave.:geo:-80.0180996,40.4456737
END:VEVENT
BEGIN:VEVENT
DTSTART;TZID=America/New_York:20141024T180000
DTEND;TZID=America/New_York:20141025T093000
DTSTAMP:20260421T215658
CREATED:20140422T003355Z
LAST-MODIFIED:20140422T003355Z
UID:684-1414173600-1414229400@playpittsburgh.com
SUMMARY:Science Center Sleepover
DESCRIPTION:The Carnegie Science Center hosts overnight sleepovers. Bring your family or Scout troop on a science siesta! Discover the science of shuteye as you explore circadian rhythms and hibernation. Investigate ultraviolet light in our glow room. Test your reflexes in our simulated sleep deprivation challenge and make a sleep mask to help you slumber the night away. You might get to snooze next to R2-D2\, dream beside seahorses\, or catch some Z’s near a space station. \nCheck-in begins at 6 pm the evening of your sleepover\, where you will receive a detailed schedule of the night’s happenings. The overnight experience will begin with a brief orientation\, after which participants will enjoy a night of themed activities. Lights-out is at midnight. All sleepover gear must be removed from the building by 9:30 am\, but you are welcome to stay the day after and explore even more with your general admission\, included in your sleepover cost! \nAll Science Center sleepovers include: \n\nThemed activities\nOmnimax movie\nPlanetarium or laser show\nLive theater show\nScience workshop\nSleeping among our exciting exhibits\nOfficial Science Center patch\nLate-night snack\nContinental breakfast\nFree admission for the day following the sleepover\, including Highmark SportsWorks® and USS Requin\nParking
URL:https://playpittsburgh.com/event/science-center-sleepover-3/
LOCATION:Carnegie Science Center\, One Allegheny Ave.\, Pittsburgh\, PA\, 15212\, United States
CATEGORIES:Museums
GEO:40.4456737;-80.0180996
X-APPLE-STRUCTURED-LOCATION;VALUE=URI;X-ADDRESS=Carnegie Science Center One Allegheny Ave. Pittsburgh PA 15212 United States;X-APPLE-RADIUS=500;X-TITLE=One Allegheny Ave.:geo:-80.0180996,40.4456737
END:VEVENT
BEGIN:VEVENT
DTSTART;VALUE=DATE:20141010
DTEND;VALUE=DATE:20141101
DTSTAMP:20260421T215658
CREATED:20140929T233859Z
LAST-MODIFIED:20140929T233859Z
UID:3923-1412899200-1414799999@playpittsburgh.com
SUMMARY:Family Halloween Laser Show at Carnegie Science Center
DESCRIPTION:Spooky lasers\, eerie darkness\, ghoulish tunes\, and frightful guests! Get into the Halloween spirit with the Addams Family\, the Ghost Busters\, and Beetlejuice. Do the Monster Mash\, the Time Warp\, and your own ghastly dance. Bring the whole family for this chilling good time! \n\nOct 10\, 2014 1:00 pm – 1:45 pm\nOct 11\, 2014 – Oct 12\, 2014 2:00 pm – 2:45 pm\nOct 13\, 2014 – Oct 17\, 2014 1:00 pm – 1:45 pm\nOct 18\, 2014 – Oct 19\, 2014 2:00 pm – 2:45 pm\nOct 20\, 2014 – Oct 24\, 2014 1:00 pm – 1:45 pm\nOct 25\, 2014 2:00 pm – 2:45 pm\nOct 27\, 2014 – Oct 31\, 2014 1:00 pm – 1:45 pm\n\nCost: $2 members | $8 non-members
URL:https://playpittsburgh.com/event/family-halloween-laser-show-at-carnegie-science-center/
LOCATION:Carnegie Science Center\, One Allegheny Ave.\, Pittsburgh\, PA\, 15212\, United States
CATEGORIES:Museums
GEO:40.4456737;-80.0180996
X-APPLE-STRUCTURED-LOCATION;VALUE=URI;X-ADDRESS=Carnegie Science Center One Allegheny Ave. Pittsburgh PA 15212 United States;X-APPLE-RADIUS=500;X-TITLE=One Allegheny Ave.:geo:-80.0180996,40.4456737
END:VEVENT
BEGIN:VEVENT
DTSTART;TZID=America/New_York:20141005T100000
DTEND;TZID=America/New_York:20141005T170000
DTSTAMP:20260421T215658
CREATED:20140904T153125Z
LAST-MODIFIED:20140904T153125Z
UID:3665-1412503200-1412528400@playpittsburgh.com
SUMMARY:FREE Admission @ Carnegie Science Center
DESCRIPTION:Enjoy FREE Admission to Carnegie Science Center! Visit the Carnegie Science Center’s newest exhibit\, BLUE! and build with enormous blocks. Climb a rock wall\, try to score against our hockey robot\, get nostalgic with our Miniature Railroad\, tour an authentic submarine! (Free admission to all exhibits\, planetarium\, and live shows on RAD Day; Omnimax films not included.)
URL:https://playpittsburgh.com/event/free-admission-carnegie-science-center-2/
LOCATION:Carnegie Science Center\, One Allegheny Ave.\, Pittsburgh\, PA\, 15212\, United States
CATEGORIES:Free,Indoor Play,Museums,RADical Days
GEO:40.4456737;-80.0180996
X-APPLE-STRUCTURED-LOCATION;VALUE=URI;X-ADDRESS=Carnegie Science Center One Allegheny Ave. Pittsburgh PA 15212 United States;X-APPLE-RADIUS=500;X-TITLE=One Allegheny Ave.:geo:-80.0180996,40.4456737
END:VEVENT
BEGIN:VEVENT
DTSTART;TZID=America/New_York:20140824T100000
DTEND;TZID=America/New_York:20140824T170000
DTSTAMP:20260421T215658
CREATED:20140819T172610Z
LAST-MODIFIED:20140819T172610Z
UID:3237-1408874400-1408899600@playpittsburgh.com
SUMMARY:FREE Admission @ Carnegie Science Center
DESCRIPTION:Free Admission Day- Generously underwritten by the Jack Buncher Foundation. \nDiscover hundreds of hands-on exhibits free of charge on Sunday\, Aug. 24 from 10 am- 5 pm. On this special day\, general admission for visitors will be generously underwritten by the Jack Buncher Foundation. \nEngineer a mini-city in the BLUE! exhibit\, explore a walk-in replica of the International Space Station\, challenge a robot to a game of air hockey\, take a walking tour of western Pennsylvania at the world-renowned Miniature Railroad & Village®\, and MUCH more scientific fun! \n*Parking\, Omnimax films\, and laser shows are not included.
URL:https://playpittsburgh.com/event/free-admission-carnegie-science-center/
LOCATION:Carnegie Science Center\, One Allegheny Ave.\, Pittsburgh\, PA\, 15212\, United States
CATEGORIES:Free,Museums
GEO:40.4456737;-80.0180996
X-APPLE-STRUCTURED-LOCATION;VALUE=URI;X-ADDRESS=Carnegie Science Center One Allegheny Ave. Pittsburgh PA 15212 United States;X-APPLE-RADIUS=500;X-TITLE=One Allegheny Ave.:geo:-80.0180996,40.4456737
END:VEVENT
BEGIN:VEVENT
DTSTART;TZID=America/New_York:20140704T180000
DTEND;TZID=America/New_York:20140704T230000
DTSTAMP:20260421T215658
CREATED:20140626T013824Z
LAST-MODIFIED:20140626T013947Z
UID:2138-1404496800-1404514800@playpittsburgh.com
SUMMARY:July 4th Fireworks Blowout! @ Carnegie Science Center
DESCRIPTION:Discover the scintillating science behind fire\, and beat the heat with four floors of hands-on exhibits\, Highmark SportsWorks®\, an Omnimax movie\, and a laser show! One special price gets you into our July 4th Fireworks Blowout from 6-11 pm\, plus one popcorn and soda for you to enjoy during the evening. Additional food items available for purchase. \nCost for lawn viewing is $39 per person. Parking is free with advance registration. Registration will close at noon on July 3\, 2014. Ticket availability is limited. Reserve your spot today! \nLimited same-day tickets may be available on July 4 at the Science Center’s ticket counter. Parking will be $20 per car and is not guaranteed. \nThroughout the event\, visitors will be able to view Born to be Wild in Rangos Omnimax Theater\, see the live show Fire and Ice\, and experience the live Works Theater show Illumination Sensation\, which explores the science of light. During one special performance at 7:30 pm\, an aerialist will dance suspended in the air on silks. Attendees can also watch a patriotic laser show\, Spirit of America\, featuring music by John Fogerty\, Garth Brooks\, and John Mellencamp. \nAll exhibits\, Omnimax movies\, laser shows\, and demonstrations will shut down during the fireworks show\, scheduled to begin around 9:30 pm. Exhibit areas will remain closed for the rest of the evening. One final laser show\, Omnimax movie\, and Fire and Ice show will run after the fireworks. \nCarnegie Science Center will be open at 10 am on July 4th. Feel free to come early and play! The special event starts at 6 pm.
URL:https://playpittsburgh.com/event/july-4th-fireworks-blowout-carnegie-science-center/
LOCATION:Carnegie Science Center\, One Allegheny Ave.\, Pittsburgh\, PA\, 15212\, United States
GEO:40.4456737;-80.0180996
X-APPLE-STRUCTURED-LOCATION;VALUE=URI;X-ADDRESS=Carnegie Science Center One Allegheny Ave. Pittsburgh PA 15212 United States;X-APPLE-RADIUS=500;X-TITLE=One Allegheny Ave.:geo:-80.0180996,40.4456737
END:VEVENT
BEGIN:VEVENT
DTSTART;TZID=America/New_York:20140602T110000
DTEND;TZID=America/New_York:20140602T120000
DTSTAMP:20260421T215658
CREATED:20140524T005652Z
LAST-MODIFIED:20140907T155705Z
UID:1637-1401706800-1401710400@playpittsburgh.com
SUMMARY:Parents-Kids Adventures
DESCRIPTION:An hour long\, themed class at the Carnegie Science Center ideal for children ages 3-5 years and their caregivers. \n 
URL:https://playpittsburgh.com/event/parents-kids-adventures/2014-06-02/
LOCATION:Carnegie Science Center\, One Allegheny Ave.\, Pittsburgh\, PA\, 15212\, United States
CATEGORIES:Indoor Play,Museums
GEO:40.4456737;-80.0180996
X-APPLE-STRUCTURED-LOCATION;VALUE=URI;X-ADDRESS=Carnegie Science Center One Allegheny Ave. Pittsburgh PA 15212 United States;X-APPLE-RADIUS=500;X-TITLE=One Allegheny Ave.:geo:-80.0180996,40.4456737
END:VEVENT
BEGIN:VEVENT
DTSTART;TZID=America/New_York:20140509T180000
DTEND;TZID=America/New_York:20140510T093000
DTSTAMP:20260421T215658
CREATED:20140422T003212Z
LAST-MODIFIED:20140422T003212Z
UID:683-1399658400-1399714200@playpittsburgh.com
SUMMARY:Science Center Sleepover
DESCRIPTION:The Carnegie Science Center hosts overnight sleepovers. Bring your family or Scout troop on a science siesta! Discover the science of shuteye as you explore circadian rhythms and hibernation. Investigate ultraviolet light in our glow room. Test your reflexes in our simulated sleep deprivation challenge and make a sleep mask to help you slumber the night away. You might get to snooze next to R2-D2\, dream beside seahorses\, or catch some Z’s near a space station. \nCheck-in begins at 6 pm the evening of your sleepover\, where you will receive a detailed schedule of the night’s happenings. The overnight experience will begin with a brief orientation\, after which participants will enjoy a night of themed activities. Lights-out is at midnight. All sleepover gear must be removed from the building by 9:30 am\, but you are welcome to stay the day after and explore even more with your general admission\, included in your sleepover cost! \nAll Science Center sleepovers include: \n\nThemed activities\nOmnimax movie\nPlanetarium or laser show\nLive theater show\nScience workshop\nSleeping among our exciting exhibits\nOfficial Science Center patch\nLate-night snack\nContinental breakfast\nFree admission for the day following the sleepover\, including Highmark SportsWorks® and USS Requin\nParking
URL:https://playpittsburgh.com/event/science-center-sleepover-2/
LOCATION:Carnegie Science Center\, One Allegheny Ave.\, Pittsburgh\, PA\, 15212\, United States
CATEGORIES:Museums
GEO:40.4456737;-80.0180996
X-APPLE-STRUCTURED-LOCATION;VALUE=URI;X-ADDRESS=Carnegie Science Center One Allegheny Ave. Pittsburgh PA 15212 United States;X-APPLE-RADIUS=500;X-TITLE=One Allegheny Ave.:geo:-80.0180996,40.4456737
END:VEVENT
END:VCALENDAR