BEGIN:VCALENDAR
VERSION:2.0
PRODID:-//Play Pittsburgh - ECPv6.15.20//NONSGML v1.0//EN
CALSCALE:GREGORIAN
METHOD:PUBLISH
X-WR-CALNAME:Play Pittsburgh
X-ORIGINAL-URL:https://playpittsburgh.com
X-WR-CALDESC:Events for Play Pittsburgh
REFRESH-INTERVAL;VALUE=DURATION:PT1H
X-Robots-Tag:noindex
X-PUBLISHED-TTL:PT1H
BEGIN:VTIMEZONE
TZID:America/New_York
BEGIN:DAYLIGHT
TZOFFSETFROM:-0500
TZOFFSETTO:-0400
TZNAME:EDT
DTSTART:20130310T070000
END:DAYLIGHT
BEGIN:STANDARD
TZOFFSETFROM:-0400
TZOFFSETTO:-0500
TZNAME:EST
DTSTART:20131103T060000
END:STANDARD
BEGIN:DAYLIGHT
TZOFFSETFROM:-0500
TZOFFSETTO:-0400
TZNAME:EDT
DTSTART:20140309T070000
END:DAYLIGHT
BEGIN:STANDARD
TZOFFSETFROM:-0400
TZOFFSETTO:-0500
TZNAME:EST
DTSTART:20141102T060000
END:STANDARD
BEGIN:DAYLIGHT
TZOFFSETFROM:-0500
TZOFFSETTO:-0400
TZNAME:EDT
DTSTART:20150308T070000
END:DAYLIGHT
BEGIN:STANDARD
TZOFFSETFROM:-0400
TZOFFSETTO:-0500
TZNAME:EST
DTSTART:20151101T060000
END:STANDARD
END:VTIMEZONE
BEGIN:VEVENT
DTSTART;TZID=America/New_York:20141024T180000
DTEND;TZID=America/New_York:20141025T093000
DTSTAMP:20260423T050644
CREATED:20140422T003355Z
LAST-MODIFIED:20140422T003355Z
UID:684-1414173600-1414229400@playpittsburgh.com
SUMMARY:Science Center Sleepover
DESCRIPTION:The Carnegie Science Center hosts overnight sleepovers. Bring your family or Scout troop on a science siesta! Discover the science of shuteye as you explore circadian rhythms and hibernation. Investigate ultraviolet light in our glow room. Test your reflexes in our simulated sleep deprivation challenge and make a sleep mask to help you slumber the night away. You might get to snooze next to R2-D2\, dream beside seahorses\, or catch some Z’s near a space station. \nCheck-in begins at 6 pm the evening of your sleepover\, where you will receive a detailed schedule of the night’s happenings. The overnight experience will begin with a brief orientation\, after which participants will enjoy a night of themed activities. Lights-out is at midnight. All sleepover gear must be removed from the building by 9:30 am\, but you are welcome to stay the day after and explore even more with your general admission\, included in your sleepover cost! \nAll Science Center sleepovers include: \n\nThemed activities\nOmnimax movie\nPlanetarium or laser show\nLive theater show\nScience workshop\nSleeping among our exciting exhibits\nOfficial Science Center patch\nLate-night snack\nContinental breakfast\nFree admission for the day following the sleepover\, including Highmark SportsWorks® and USS Requin\nParking
URL:https://playpittsburgh.com/event/science-center-sleepover-3/
LOCATION:Carnegie Science Center\, One Allegheny Ave.\, Pittsburgh\, PA\, 15212\, United States
CATEGORIES:Museums
GEO:40.4456737;-80.0180996
X-APPLE-STRUCTURED-LOCATION;VALUE=URI;X-ADDRESS=Carnegie Science Center One Allegheny Ave. Pittsburgh PA 15212 United States;X-APPLE-RADIUS=500;X-TITLE=One Allegheny Ave.:geo:-80.0180996,40.4456737
END:VEVENT
BEGIN:VEVENT
DTSTART;VALUE=DATE:20141010
DTEND;VALUE=DATE:20141101
DTSTAMP:20260423T050644
CREATED:20140929T233859Z
LAST-MODIFIED:20140929T233859Z
UID:3923-1412899200-1414799999@playpittsburgh.com
SUMMARY:Family Halloween Laser Show at Carnegie Science Center
DESCRIPTION:Spooky lasers\, eerie darkness\, ghoulish tunes\, and frightful guests! Get into the Halloween spirit with the Addams Family\, the Ghost Busters\, and Beetlejuice. Do the Monster Mash\, the Time Warp\, and your own ghastly dance. Bring the whole family for this chilling good time! \n\nOct 10\, 2014 1:00 pm – 1:45 pm\nOct 11\, 2014 – Oct 12\, 2014 2:00 pm – 2:45 pm\nOct 13\, 2014 – Oct 17\, 2014 1:00 pm – 1:45 pm\nOct 18\, 2014 – Oct 19\, 2014 2:00 pm – 2:45 pm\nOct 20\, 2014 – Oct 24\, 2014 1:00 pm – 1:45 pm\nOct 25\, 2014 2:00 pm – 2:45 pm\nOct 27\, 2014 – Oct 31\, 2014 1:00 pm – 1:45 pm\n\nCost: $2 members | $8 non-members
URL:https://playpittsburgh.com/event/family-halloween-laser-show-at-carnegie-science-center/
LOCATION:Carnegie Science Center\, One Allegheny Ave.\, Pittsburgh\, PA\, 15212\, United States
CATEGORIES:Museums
GEO:40.4456737;-80.0180996
X-APPLE-STRUCTURED-LOCATION;VALUE=URI;X-ADDRESS=Carnegie Science Center One Allegheny Ave. Pittsburgh PA 15212 United States;X-APPLE-RADIUS=500;X-TITLE=One Allegheny Ave.:geo:-80.0180996,40.4456737
END:VEVENT
BEGIN:VEVENT
DTSTART;TZID=America/New_York:20141005T100000
DTEND;TZID=America/New_York:20141005T170000
DTSTAMP:20260423T050644
CREATED:20140904T153125Z
LAST-MODIFIED:20140904T153125Z
UID:3665-1412503200-1412528400@playpittsburgh.com
SUMMARY:FREE Admission @ Carnegie Science Center
DESCRIPTION:Enjoy FREE Admission to Carnegie Science Center! Visit the Carnegie Science Center’s newest exhibit\, BLUE! and build with enormous blocks. Climb a rock wall\, try to score against our hockey robot\, get nostalgic with our Miniature Railroad\, tour an authentic submarine! (Free admission to all exhibits\, planetarium\, and live shows on RAD Day; Omnimax films not included.)
URL:https://playpittsburgh.com/event/free-admission-carnegie-science-center-2/
LOCATION:Carnegie Science Center\, One Allegheny Ave.\, Pittsburgh\, PA\, 15212\, United States
CATEGORIES:Free,Indoor Play,Museums,RADical Days
GEO:40.4456737;-80.0180996
X-APPLE-STRUCTURED-LOCATION;VALUE=URI;X-ADDRESS=Carnegie Science Center One Allegheny Ave. Pittsburgh PA 15212 United States;X-APPLE-RADIUS=500;X-TITLE=One Allegheny Ave.:geo:-80.0180996,40.4456737
END:VEVENT
BEGIN:VEVENT
DTSTART;TZID=America/New_York:20140824T100000
DTEND;TZID=America/New_York:20140824T170000
DTSTAMP:20260423T050644
CREATED:20140819T172610Z
LAST-MODIFIED:20140819T172610Z
UID:3237-1408874400-1408899600@playpittsburgh.com
SUMMARY:FREE Admission @ Carnegie Science Center
DESCRIPTION:Free Admission Day- Generously underwritten by the Jack Buncher Foundation. \nDiscover hundreds of hands-on exhibits free of charge on Sunday\, Aug. 24 from 10 am- 5 pm. On this special day\, general admission for visitors will be generously underwritten by the Jack Buncher Foundation. \nEngineer a mini-city in the BLUE! exhibit\, explore a walk-in replica of the International Space Station\, challenge a robot to a game of air hockey\, take a walking tour of western Pennsylvania at the world-renowned Miniature Railroad & Village®\, and MUCH more scientific fun! \n*Parking\, Omnimax films\, and laser shows are not included.
URL:https://playpittsburgh.com/event/free-admission-carnegie-science-center/
LOCATION:Carnegie Science Center\, One Allegheny Ave.\, Pittsburgh\, PA\, 15212\, United States
CATEGORIES:Free,Museums
GEO:40.4456737;-80.0180996
X-APPLE-STRUCTURED-LOCATION;VALUE=URI;X-ADDRESS=Carnegie Science Center One Allegheny Ave. Pittsburgh PA 15212 United States;X-APPLE-RADIUS=500;X-TITLE=One Allegheny Ave.:geo:-80.0180996,40.4456737
END:VEVENT
BEGIN:VEVENT
DTSTART;TZID=America/New_York:20140704T180000
DTEND;TZID=America/New_York:20140704T230000
DTSTAMP:20260423T050644
CREATED:20140626T013824Z
LAST-MODIFIED:20140626T013947Z
UID:2138-1404496800-1404514800@playpittsburgh.com
SUMMARY:July 4th Fireworks Blowout! @ Carnegie Science Center
DESCRIPTION:Discover the scintillating science behind fire\, and beat the heat with four floors of hands-on exhibits\, Highmark SportsWorks®\, an Omnimax movie\, and a laser show! One special price gets you into our July 4th Fireworks Blowout from 6-11 pm\, plus one popcorn and soda for you to enjoy during the evening. Additional food items available for purchase. \nCost for lawn viewing is $39 per person. Parking is free with advance registration. Registration will close at noon on July 3\, 2014. Ticket availability is limited. Reserve your spot today! \nLimited same-day tickets may be available on July 4 at the Science Center’s ticket counter. Parking will be $20 per car and is not guaranteed. \nThroughout the event\, visitors will be able to view Born to be Wild in Rangos Omnimax Theater\, see the live show Fire and Ice\, and experience the live Works Theater show Illumination Sensation\, which explores the science of light. During one special performance at 7:30 pm\, an aerialist will dance suspended in the air on silks. Attendees can also watch a patriotic laser show\, Spirit of America\, featuring music by John Fogerty\, Garth Brooks\, and John Mellencamp. \nAll exhibits\, Omnimax movies\, laser shows\, and demonstrations will shut down during the fireworks show\, scheduled to begin around 9:30 pm. Exhibit areas will remain closed for the rest of the evening. One final laser show\, Omnimax movie\, and Fire and Ice show will run after the fireworks. \nCarnegie Science Center will be open at 10 am on July 4th. Feel free to come early and play! The special event starts at 6 pm.
URL:https://playpittsburgh.com/event/july-4th-fireworks-blowout-carnegie-science-center/
LOCATION:Carnegie Science Center\, One Allegheny Ave.\, Pittsburgh\, PA\, 15212\, United States
GEO:40.4456737;-80.0180996
X-APPLE-STRUCTURED-LOCATION;VALUE=URI;X-ADDRESS=Carnegie Science Center One Allegheny Ave. Pittsburgh PA 15212 United States;X-APPLE-RADIUS=500;X-TITLE=One Allegheny Ave.:geo:-80.0180996,40.4456737
END:VEVENT
BEGIN:VEVENT
DTSTART;TZID=America/New_York:20140602T110000
DTEND;TZID=America/New_York:20140602T120000
DTSTAMP:20260423T050644
CREATED:20140524T005652Z
LAST-MODIFIED:20140907T155705Z
UID:1637-1401706800-1401710400@playpittsburgh.com
SUMMARY:Parents-Kids Adventures
DESCRIPTION:An hour long\, themed class at the Carnegie Science Center ideal for children ages 3-5 years and their caregivers. \n 
URL:https://playpittsburgh.com/event/parents-kids-adventures/2014-06-02/
LOCATION:Carnegie Science Center\, One Allegheny Ave.\, Pittsburgh\, PA\, 15212\, United States
CATEGORIES:Indoor Play,Museums
GEO:40.4456737;-80.0180996
X-APPLE-STRUCTURED-LOCATION;VALUE=URI;X-ADDRESS=Carnegie Science Center One Allegheny Ave. Pittsburgh PA 15212 United States;X-APPLE-RADIUS=500;X-TITLE=One Allegheny Ave.:geo:-80.0180996,40.4456737
END:VEVENT
BEGIN:VEVENT
DTSTART;TZID=America/New_York:20140509T180000
DTEND;TZID=America/New_York:20140510T093000
DTSTAMP:20260423T050644
CREATED:20140422T003212Z
LAST-MODIFIED:20140422T003212Z
UID:683-1399658400-1399714200@playpittsburgh.com
SUMMARY:Science Center Sleepover
DESCRIPTION:The Carnegie Science Center hosts overnight sleepovers. Bring your family or Scout troop on a science siesta! Discover the science of shuteye as you explore circadian rhythms and hibernation. Investigate ultraviolet light in our glow room. Test your reflexes in our simulated sleep deprivation challenge and make a sleep mask to help you slumber the night away. You might get to snooze next to R2-D2\, dream beside seahorses\, or catch some Z’s near a space station. \nCheck-in begins at 6 pm the evening of your sleepover\, where you will receive a detailed schedule of the night’s happenings. The overnight experience will begin with a brief orientation\, after which participants will enjoy a night of themed activities. Lights-out is at midnight. All sleepover gear must be removed from the building by 9:30 am\, but you are welcome to stay the day after and explore even more with your general admission\, included in your sleepover cost! \nAll Science Center sleepovers include: \n\nThemed activities\nOmnimax movie\nPlanetarium or laser show\nLive theater show\nScience workshop\nSleeping among our exciting exhibits\nOfficial Science Center patch\nLate-night snack\nContinental breakfast\nFree admission for the day following the sleepover\, including Highmark SportsWorks® and USS Requin\nParking
URL:https://playpittsburgh.com/event/science-center-sleepover-2/
LOCATION:Carnegie Science Center\, One Allegheny Ave.\, Pittsburgh\, PA\, 15212\, United States
CATEGORIES:Museums
GEO:40.4456737;-80.0180996
X-APPLE-STRUCTURED-LOCATION;VALUE=URI;X-ADDRESS=Carnegie Science Center One Allegheny Ave. Pittsburgh PA 15212 United States;X-APPLE-RADIUS=500;X-TITLE=One Allegheny Ave.:geo:-80.0180996,40.4456737
END:VEVENT
END:VCALENDAR