BEGIN:VCALENDAR
VERSION:2.0
PRODID:-//Play Pittsburgh - ECPv6.15.20//NONSGML v1.0//EN
CALSCALE:GREGORIAN
METHOD:PUBLISH
X-ORIGINAL-URL:https://playpittsburgh.com
X-WR-CALDESC:Events for Play Pittsburgh
REFRESH-INTERVAL;VALUE=DURATION:PT1H
X-Robots-Tag:noindex
X-PUBLISHED-TTL:PT1H
BEGIN:VTIMEZONE
TZID:America/New_York
BEGIN:DAYLIGHT
TZOFFSETFROM:-0500
TZOFFSETTO:-0400
TZNAME:EDT
DTSTART:20130310T070000
END:DAYLIGHT
BEGIN:STANDARD
TZOFFSETFROM:-0400
TZOFFSETTO:-0500
TZNAME:EST
DTSTART:20131103T060000
END:STANDARD
BEGIN:DAYLIGHT
TZOFFSETFROM:-0500
TZOFFSETTO:-0400
TZNAME:EDT
DTSTART:20140309T070000
END:DAYLIGHT
BEGIN:STANDARD
TZOFFSETFROM:-0400
TZOFFSETTO:-0500
TZNAME:EST
DTSTART:20141102T060000
END:STANDARD
BEGIN:DAYLIGHT
TZOFFSETFROM:-0500
TZOFFSETTO:-0400
TZNAME:EDT
DTSTART:20150308T070000
END:DAYLIGHT
BEGIN:STANDARD
TZOFFSETFROM:-0400
TZOFFSETTO:-0500
TZNAME:EST
DTSTART:20151101T060000
END:STANDARD
END:VTIMEZONE
BEGIN:VEVENT
DTSTART;TZID=America/New_York:20140925T180000
DTEND;TZID=America/New_York:20140925T193000
DTSTAMP:20260422T052932
CREATED:20140904T034858Z
LAST-MODIFIED:20140904T034858Z
UID:3635-1411668000-1411673400@playpittsburgh.com
SUMMARY:Digital Lab Workshop @ Carnegie Library
DESCRIPTION:Students in grade 6 – 12 are invited to come to the West End Library for a hands-on digital lab workshop.  Please register at (412) 921-1717 or carnegielibrary.org.
URL:https://playpittsburgh.com/event/digital-lab-workshop-carnegie-library/
LOCATION:Carnegie Library (West End)\, 47 Wabash St\, Pittsburgh\, PA\, 15220\, United States
CATEGORIES:Free,Indoor Play,RADical Days
GEO:40.4392319;-80.034051
X-APPLE-STRUCTURED-LOCATION;VALUE=URI;X-ADDRESS=Carnegie Library (West End) 47 Wabash St Pittsburgh PA 15220 United States;X-APPLE-RADIUS=500;X-TITLE=47 Wabash St:geo:-80.034051,40.4392319
END:VEVENT
END:VCALENDAR