BEGIN:VCALENDAR
VERSION:2.0
PRODID:-//Play Pittsburgh - ECPv6.15.20//NONSGML v1.0//EN
CALSCALE:GREGORIAN
METHOD:PUBLISH
X-ORIGINAL-URL:https://playpittsburgh.com
X-WR-CALDESC:Events for Play Pittsburgh
REFRESH-INTERVAL;VALUE=DURATION:PT1H
X-Robots-Tag:noindex
X-PUBLISHED-TTL:PT1H
BEGIN:VTIMEZONE
TZID:America/New_York
BEGIN:DAYLIGHT
TZOFFSETFROM:-0500
TZOFFSETTO:-0400
TZNAME:EDT
DTSTART:20130310T070000
END:DAYLIGHT
BEGIN:STANDARD
TZOFFSETFROM:-0400
TZOFFSETTO:-0500
TZNAME:EST
DTSTART:20131103T060000
END:STANDARD
BEGIN:DAYLIGHT
TZOFFSETFROM:-0500
TZOFFSETTO:-0400
TZNAME:EDT
DTSTART:20140309T070000
END:DAYLIGHT
BEGIN:STANDARD
TZOFFSETFROM:-0400
TZOFFSETTO:-0500
TZNAME:EST
DTSTART:20141102T060000
END:STANDARD
BEGIN:DAYLIGHT
TZOFFSETFROM:-0500
TZOFFSETTO:-0400
TZNAME:EDT
DTSTART:20150308T070000
END:DAYLIGHT
BEGIN:STANDARD
TZOFFSETFROM:-0400
TZOFFSETTO:-0500
TZNAME:EST
DTSTART:20151101T060000
END:STANDARD
BEGIN:DAYLIGHT
TZOFFSETFROM:-0500
TZOFFSETTO:-0400
TZNAME:EDT
DTSTART:20160313T070000
END:DAYLIGHT
BEGIN:STANDARD
TZOFFSETFROM:-0400
TZOFFSETTO:-0500
TZNAME:EST
DTSTART:20161106T060000
END:STANDARD
END:VTIMEZONE
BEGIN:VEVENT
DTSTART;TZID=America/New_York:20150607T120000
DTEND;TZID=America/New_York:20150607T170000
DTSTAMP:20260422T071321
CREATED:20150529T225438Z
LAST-MODIFIED:20150529T225438Z
UID:8710-1433678400-1433696400@playpittsburgh.com
SUMMARY:15th Annual Summer Reading Extravaganza
DESCRIPTION:This event is held rain or shine. No event registration required. Children\, teens and adults can be the hero of their own reading adventures this summer\, through the popular Summer Reading programs at Carnegie Library of Pittsburgh. The adventure kicks off at Carnegie Library of Pittsburgh’s 15th Annual Summer Reading Extravaganza. Kids\, teens and adults can enjoy this super outdoor festival with music\, crafts\, games and… books! \n\nSign up for Summer Reading and get your materials that day\nEnjoy live performances\, interactive storytimes and puppet shows\nRock out with The Labs and play fun CLP Readers Games\nLearn about the exciting things you can do all over town this summer with Pittsburgh City of Learning\nBrowse the annual book sale\nTry your hand at science experiments\nPersonalize a Smiley Cookie with Eat ‘n Park\nSupport your Library by purchasing food from the featured food trucks\nTry your hand at gardening\, cooking\, robots\, learning a new language and so much more!\n\n\nSchedule of Events\nEQT Performance Tent\n12:00 | Pittsburgh Puppet Works\, Writers Contest Show\n12:40 | Carnegie Library of Pittsburgh Welcome\n1:00 | Pittsburgh Musical Theater\n2:00 | Opera Theater of Pittsburgh\, The True Story of the Three Little Pigs\n3:00 | Timbeleza\, Street Samba Funk\n4:00 | GeeksDanz\, excerpt from Finding Margo\, Losing Gus\n4:30 | GeeksDanz encore \nEmcee: Larry Berger\, SLB Radio Productions\, Inc. \nCLP Languages Tent\n12:30\, 1:30\, 2:30\, & 3:30 | Bilingual Storytimes \nCLP Wellness Tent\n12:45\, 1:45\, 2:45 & 3:45 | The Healthy Hero Experience – an audience participation adventure\n1:15\, 2:15 & 3:15 | Gardening Thyme cooking demonstration\nQuiet Reading Room\n1:30\, 2:30\, & 3:30 | Performances from Female Artists\, WYEP’s Reimagine Media series \nChildren’s Room\n12:30\, 1:30\, 2:30\, 3:30 & 4:30 | Puppet Show – The Three Billy Goats Gruff
URL:https://playpittsburgh.com/event/15th-annual-summer-reading-extravaganza/
LOCATION:Carnegie Library of Pittsburgh (Oakland)\, 4400 Forbes Avenue\, Pittsburgh\, 15213 \, United States
GEO:40.4435041;-79.9495881
X-APPLE-STRUCTURED-LOCATION;VALUE=URI;X-ADDRESS=Carnegie Library of Pittsburgh (Oakland) 4400 Forbes Avenue Pittsburgh 15213  United States;X-APPLE-RADIUS=500;X-TITLE=4400 Forbes Avenue:geo:-79.9495881,40.4435041
END:VEVENT
BEGIN:VEVENT
DTSTART;TZID=America/New_York:20150528T103000
DTEND;TZID=America/New_York:20150528T113000
DTSTAMP:20260422T071321
CREATED:20150326T211354Z
LAST-MODIFIED:20150326T211354Z
UID:8553-1432809000-1432812600@playpittsburgh.com
SUMMARY:Preschool Explorers at Carnegie Library of Pittsburgh
DESCRIPTION:The Preschool Explorers program at the Carnegie Library of Pittsburgh meets Thursdays and provides an opportunity for children to explore and learn based on Common Core Standards used in Pennsylvania schools.
URL:https://playpittsburgh.com/event/preschool-explorers-at-carnegie-library-of-pittsburgh/2015-05-28/
LOCATION:Carnegie Library of Pittsburgh (Oakland)\, 4400 Forbes Avenue\, Pittsburgh\, 15213 \, United States
GEO:40.4435041;-79.9495881
X-APPLE-STRUCTURED-LOCATION;VALUE=URI;X-ADDRESS=Carnegie Library of Pittsburgh (Oakland) 4400 Forbes Avenue Pittsburgh 15213  United States;X-APPLE-RADIUS=500;X-TITLE=4400 Forbes Avenue:geo:-79.9495881,40.4435041
END:VEVENT
BEGIN:VEVENT
DTSTART;TZID=America/New_York:20150521T103000
DTEND;TZID=America/New_York:20150521T113000
DTSTAMP:20260422T071321
CREATED:20150326T211354Z
LAST-MODIFIED:20150326T211354Z
UID:8552-1432204200-1432207800@playpittsburgh.com
SUMMARY:Preschool Explorers at Carnegie Library of Pittsburgh
DESCRIPTION:The Preschool Explorers program at the Carnegie Library of Pittsburgh meets Thursdays and provides an opportunity for children to explore and learn based on Common Core Standards used in Pennsylvania schools.
URL:https://playpittsburgh.com/event/preschool-explorers-at-carnegie-library-of-pittsburgh/2015-05-21/
LOCATION:Carnegie Library of Pittsburgh (Oakland)\, 4400 Forbes Avenue\, Pittsburgh\, 15213 \, United States
GEO:40.4435041;-79.9495881
X-APPLE-STRUCTURED-LOCATION;VALUE=URI;X-ADDRESS=Carnegie Library of Pittsburgh (Oakland) 4400 Forbes Avenue Pittsburgh 15213  United States;X-APPLE-RADIUS=500;X-TITLE=4400 Forbes Avenue:geo:-79.9495881,40.4435041
END:VEVENT
BEGIN:VEVENT
DTSTART;TZID=America/New_York:20150514T103000
DTEND;TZID=America/New_York:20150514T113000
DTSTAMP:20260422T071321
CREATED:20150326T211354Z
LAST-MODIFIED:20150326T211354Z
UID:8551-1431599400-1431603000@playpittsburgh.com
SUMMARY:Preschool Explorers at Carnegie Library of Pittsburgh
DESCRIPTION:The Preschool Explorers program at the Carnegie Library of Pittsburgh meets Thursdays and provides an opportunity for children to explore and learn based on Common Core Standards used in Pennsylvania schools.
URL:https://playpittsburgh.com/event/preschool-explorers-at-carnegie-library-of-pittsburgh/2015-05-14/
LOCATION:Carnegie Library of Pittsburgh (Oakland)\, 4400 Forbes Avenue\, Pittsburgh\, 15213 \, United States
GEO:40.4435041;-79.9495881
X-APPLE-STRUCTURED-LOCATION;VALUE=URI;X-ADDRESS=Carnegie Library of Pittsburgh (Oakland) 4400 Forbes Avenue Pittsburgh 15213  United States;X-APPLE-RADIUS=500;X-TITLE=4400 Forbes Avenue:geo:-79.9495881,40.4435041
END:VEVENT
BEGIN:VEVENT
DTSTART;TZID=America/New_York:20150507T103000
DTEND;TZID=America/New_York:20150507T113000
DTSTAMP:20260422T071321
CREATED:20150326T211354Z
LAST-MODIFIED:20150326T211354Z
UID:8550-1430994600-1430998200@playpittsburgh.com
SUMMARY:Preschool Explorers at Carnegie Library of Pittsburgh
DESCRIPTION:The Preschool Explorers program at the Carnegie Library of Pittsburgh meets Thursdays and provides an opportunity for children to explore and learn based on Common Core Standards used in Pennsylvania schools.
URL:https://playpittsburgh.com/event/preschool-explorers-at-carnegie-library-of-pittsburgh/2015-05-07/
LOCATION:Carnegie Library of Pittsburgh (Oakland)\, 4400 Forbes Avenue\, Pittsburgh\, 15213 \, United States
GEO:40.4435041;-79.9495881
X-APPLE-STRUCTURED-LOCATION;VALUE=URI;X-ADDRESS=Carnegie Library of Pittsburgh (Oakland) 4400 Forbes Avenue Pittsburgh 15213  United States;X-APPLE-RADIUS=500;X-TITLE=4400 Forbes Avenue:geo:-79.9495881,40.4435041
END:VEVENT
BEGIN:VEVENT
DTSTART;TZID=America/New_York:20150430T103000
DTEND;TZID=America/New_York:20150430T113000
DTSTAMP:20260422T071321
CREATED:20150326T211354Z
LAST-MODIFIED:20150326T211354Z
UID:8549-1430389800-1430393400@playpittsburgh.com
SUMMARY:Preschool Explorers at Carnegie Library of Pittsburgh
DESCRIPTION:The Preschool Explorers program at the Carnegie Library of Pittsburgh meets Thursdays and provides an opportunity for children to explore and learn based on Common Core Standards used in Pennsylvania schools.
URL:https://playpittsburgh.com/event/preschool-explorers-at-carnegie-library-of-pittsburgh/2015-04-30/
LOCATION:Carnegie Library of Pittsburgh (Oakland)\, 4400 Forbes Avenue\, Pittsburgh\, 15213 \, United States
GEO:40.4435041;-79.9495881
X-APPLE-STRUCTURED-LOCATION;VALUE=URI;X-ADDRESS=Carnegie Library of Pittsburgh (Oakland) 4400 Forbes Avenue Pittsburgh 15213  United States;X-APPLE-RADIUS=500;X-TITLE=4400 Forbes Avenue:geo:-79.9495881,40.4435041
END:VEVENT
BEGIN:VEVENT
DTSTART;TZID=America/New_York:20150423T103000
DTEND;TZID=America/New_York:20150423T113000
DTSTAMP:20260422T071321
CREATED:20150326T211354Z
LAST-MODIFIED:20150326T211354Z
UID:8548-1429785000-1429788600@playpittsburgh.com
SUMMARY:Preschool Explorers at Carnegie Library of Pittsburgh
DESCRIPTION:The Preschool Explorers program at the Carnegie Library of Pittsburgh meets Thursdays and provides an opportunity for children to explore and learn based on Common Core Standards used in Pennsylvania schools.
URL:https://playpittsburgh.com/event/preschool-explorers-at-carnegie-library-of-pittsburgh/2015-04-23/
LOCATION:Carnegie Library of Pittsburgh (Oakland)\, 4400 Forbes Avenue\, Pittsburgh\, 15213 \, United States
GEO:40.4435041;-79.9495881
X-APPLE-STRUCTURED-LOCATION;VALUE=URI;X-ADDRESS=Carnegie Library of Pittsburgh (Oakland) 4400 Forbes Avenue Pittsburgh 15213  United States;X-APPLE-RADIUS=500;X-TITLE=4400 Forbes Avenue:geo:-79.9495881,40.4435041
END:VEVENT
BEGIN:VEVENT
DTSTART;TZID=America/New_York:20150416T103000
DTEND;TZID=America/New_York:20150416T113000
DTSTAMP:20260422T071321
CREATED:20150326T211354Z
LAST-MODIFIED:20150326T211354Z
UID:8547-1429180200-1429183800@playpittsburgh.com
SUMMARY:Preschool Explorers at Carnegie Library of Pittsburgh
DESCRIPTION:The Preschool Explorers program at the Carnegie Library of Pittsburgh meets Thursdays and provides an opportunity for children to explore and learn based on Common Core Standards used in Pennsylvania schools.
URL:https://playpittsburgh.com/event/preschool-explorers-at-carnegie-library-of-pittsburgh/2015-04-16/
LOCATION:Carnegie Library of Pittsburgh (Oakland)\, 4400 Forbes Avenue\, Pittsburgh\, 15213 \, United States
GEO:40.4435041;-79.9495881
X-APPLE-STRUCTURED-LOCATION;VALUE=URI;X-ADDRESS=Carnegie Library of Pittsburgh (Oakland) 4400 Forbes Avenue Pittsburgh 15213  United States;X-APPLE-RADIUS=500;X-TITLE=4400 Forbes Avenue:geo:-79.9495881,40.4435041
END:VEVENT
BEGIN:VEVENT
DTSTART;TZID=America/New_York:20150409T103000
DTEND;TZID=America/New_York:20150409T113000
DTSTAMP:20260422T071321
CREATED:20150326T211354Z
LAST-MODIFIED:20150326T211354Z
UID:5876-1428575400-1428579000@playpittsburgh.com
SUMMARY:Preschool Explorers at Carnegie Library of Pittsburgh
DESCRIPTION:The Preschool Explorers program at the Carnegie Library of Pittsburgh meets Thursdays and provides an opportunity for children to explore and learn based on Common Core Standards used in Pennsylvania schools.
URL:https://playpittsburgh.com/event/preschool-explorers-at-carnegie-library-of-pittsburgh/2015-04-09/
LOCATION:Carnegie Library of Pittsburgh (Oakland)\, 4400 Forbes Avenue\, Pittsburgh\, 15213 \, United States
GEO:40.4435041;-79.9495881
X-APPLE-STRUCTURED-LOCATION;VALUE=URI;X-ADDRESS=Carnegie Library of Pittsburgh (Oakland) 4400 Forbes Avenue Pittsburgh 15213  United States;X-APPLE-RADIUS=500;X-TITLE=4400 Forbes Avenue:geo:-79.9495881,40.4435041
END:VEVENT
BEGIN:VEVENT
DTSTART;TZID=America/New_York:20141109T140000
DTEND;TZID=America/New_York:20141109T150000
DTSTAMP:20260422T071321
CREATED:20141031T021942Z
LAST-MODIFIED:20141031T021942Z
UID:6894-1415541600-1415545200@playpittsburgh.com
SUMMARY:Ballet FUNdamentals presents The Nutcracker! : A Sensory-Friendly Performance
DESCRIPTION:Partnering with the Pittsburgh Ballet Theater\, children will experience the magic of The Nutcracker in a new way: Dance and move to the music of Tchaikovsky\, touch costumes and pointe shoes\, and meet a ballerina. \nContact:\nChildren’s Department – Main\n412.622.3122\nchildren@carnegielibrary.org
URL:https://playpittsburgh.com/event/ballet-fundamentals-presents-the-nutcracker-a-sensory-friendly-performance/
LOCATION:Carnegie Library of Pittsburgh (Oakland)\, 4400 Forbes Avenue\, Pittsburgh\, 15213 \, United States
ATTACH;FMTTYPE=:
GEO:40.4435041;-79.9495881
X-APPLE-STRUCTURED-LOCATION;VALUE=URI;X-ADDRESS=Carnegie Library of Pittsburgh (Oakland) 4400 Forbes Avenue Pittsburgh 15213  United States;X-APPLE-RADIUS=500;X-TITLE=4400 Forbes Avenue:geo:-79.9495881,40.4435041
END:VEVENT
BEGIN:VEVENT
DTSTART;TZID=America/New_York:20141007T180000
DTEND;TZID=America/New_York:20141007T193000
DTSTAMP:20260422T071321
CREATED:20140904T161416Z
LAST-MODIFIED:20140904T161416Z
UID:3674-1412704800-1412710200@playpittsburgh.com
SUMMARY:Hands-On Workshop @ Carnegie Library
DESCRIPTION:Join the HOW\, a series of hands-on workshops for adults and teens. Learn from skilled craftspeople. Roberta Jones\, from Laurel Mountain Bees in Murrysville\, will teach you how to make your own homemade soap using beeswax. Materials provided. Registration is required for this event. Register by calling 412.622.3151 or online at carnegielibrary.org.
URL:https://playpittsburgh.com/event/hands-on-workshop-carnegie-library/
LOCATION:Carnegie Library of Pittsburgh (Oakland)\, 4400 Forbes Avenue\, Pittsburgh\, 15213 \, United States
CATEGORIES:Free,RADical Days
GEO:40.4435041;-79.9495881
X-APPLE-STRUCTURED-LOCATION;VALUE=URI;X-ADDRESS=Carnegie Library of Pittsburgh (Oakland) 4400 Forbes Avenue Pittsburgh 15213  United States;X-APPLE-RADIUS=500;X-TITLE=4400 Forbes Avenue:geo:-79.9495881,40.4435041
END:VEVENT
BEGIN:VEVENT
DTSTART;TZID=America/New_York:20141005T130000
DTEND;TZID=America/New_York:20141005T143000
DTSTAMP:20260422T071321
CREATED:20140904T154824Z
LAST-MODIFIED:20140904T154824Z
UID:3669-1412514000-1412519400@playpittsburgh.com
SUMMARY:Prime Stage and Carnegie Library of Pittsburgh present Jekyl & Hyde
DESCRIPTION:Prime Stage Theatre presents a sneak preview of our world premiere of Strange Case of Dr. Jekyll and Mr. Hyde at Carnegie Library in Oakland. Great for the entire family. Hear the script and meet the cast before it opens.\nCLP – Main\, First Floor Quiet Reading Room\nFree admission 1-2:30pm
URL:https://playpittsburgh.com/event/prime-stage-and-carnegie-library-of-pittsburgh-present-jekyl-hyde/
LOCATION:Carnegie Library of Pittsburgh (Oakland)\, 4400 Forbes Avenue\, Pittsburgh\, 15213 \, United States
CATEGORIES:Free,Performing Arts,RADical Days
GEO:40.4435041;-79.9495881
X-APPLE-STRUCTURED-LOCATION;VALUE=URI;X-ADDRESS=Carnegie Library of Pittsburgh (Oakland) 4400 Forbes Avenue Pittsburgh 15213  United States;X-APPLE-RADIUS=500;X-TITLE=4400 Forbes Avenue:geo:-79.9495881,40.4435041
END:VEVENT
BEGIN:VEVENT
DTSTART;TZID=America/New_York:20141005T130000
DTEND;TZID=America/New_York:20141005T143000
DTSTAMP:20260422T071321
CREATED:20140904T154824Z
LAST-MODIFIED:20140904T154824Z
UID:6734-1412514000-1412519400@playpittsburgh.com
SUMMARY:Prime Stage and Carnegie Library of Pittsburgh present Jekyl & Hyde
DESCRIPTION:Prime Stage Theatre presents a sneak preview of our world premiere of Strange Case of Dr. Jekyll and Mr. Hyde at Carnegie Library in Oakland. Great for the entire family. Hear the script and meet the cast before it opens.\nCLP – Main\, First Floor Quiet Reading Room\nFree admission 1-2:30pm
URL:https://playpittsburgh.com/event/prime-stage-and-carnegie-library-of-pittsburgh-present-jekyl-hyde-2/
LOCATION:Carnegie Library of Pittsburgh (Oakland)\, 4400 Forbes Avenue\, Pittsburgh\, 15213 \, United States
CATEGORIES:Free,Performing Arts,RADical Days
GEO:40.4435041;-79.9495881
X-APPLE-STRUCTURED-LOCATION;VALUE=URI;X-ADDRESS=Carnegie Library of Pittsburgh (Oakland) 4400 Forbes Avenue Pittsburgh 15213  United States;X-APPLE-RADIUS=500;X-TITLE=4400 Forbes Avenue:geo:-79.9495881,40.4435041
END:VEVENT
BEGIN:VEVENT
DTSTART;TZID=America/New_York:20140928T140000
DTEND;TZID=America/New_York:20140928T170000
DTSTAMP:20260422T071321
CREATED:20140902T022900Z
LAST-MODIFIED:20140902T053746Z
UID:3591-1411912800-1411923600@playpittsburgh.com
SUMMARY:Carnegie Library of Pittsburgh - World Kaleidoscope presents Pittsburgh Taiko
DESCRIPTION:Pittsburgh Taiko performs regional Japanese drumming styles and is dedicated to bringing the art and spirit of Japanese taiko drumming to Pittsburgh. The group strives to educate community members about both ensemble taiko drumming (kumidaiko) and Japanese culture.
URL:https://playpittsburgh.com/event/carnegie-library-of-pittsburgh-world-kaleidoscope-presents-pittsburgh-taiko/
LOCATION:Carnegie Library of Pittsburgh (Oakland)\, 4400 Forbes Avenue\, Pittsburgh\, 15213 \, United States
CATEGORIES:Free,RADical Days
GEO:40.4435041;-79.9495881
X-APPLE-STRUCTURED-LOCATION;VALUE=URI;X-ADDRESS=Carnegie Library of Pittsburgh (Oakland) 4400 Forbes Avenue Pittsburgh 15213  United States;X-APPLE-RADIUS=500;X-TITLE=4400 Forbes Avenue:geo:-79.9495881,40.4435041
END:VEVENT
BEGIN:VEVENT
DTSTART;TZID=America/New_York:20140715T130000
DTEND;TZID=America/New_York:20140715T150000
DTSTAMP:20260422T071321
CREATED:20140714T195444Z
LAST-MODIFIED:20140714T195444Z
UID:2596-1405429200-1405436400@playpittsburgh.com
SUMMARY:Art Class With Tangled Princess!
DESCRIPTION:Join the Tangled Princess for 2 hours of art fun! The Tangled princess will be giving an art lesson as well as just coloring in some pages. Coloring pages\, markers\, pencils\, and colored pencils will be supplied. Event will take place in the Children’s Area in the library.
URL:https://playpittsburgh.com/event/art-class-with-tangled-princess/
LOCATION:Carnegie Library of Pittsburgh (Oakland)\, 4400 Forbes Avenue\, Pittsburgh\, 15213 \, United States
CATEGORIES:Free,Indoor Play
GEO:40.4435041;-79.9495881
X-APPLE-STRUCTURED-LOCATION;VALUE=URI;X-ADDRESS=Carnegie Library of Pittsburgh (Oakland) 4400 Forbes Avenue Pittsburgh 15213  United States;X-APPLE-RADIUS=500;X-TITLE=4400 Forbes Avenue:geo:-79.9495881,40.4435041
END:VEVENT
BEGIN:VEVENT
DTSTART;TZID=America/New_York:20140608T122000
DTEND;TZID=America/New_York:20140608T153000
DTSTAMP:20260422T071321
CREATED:20140522T162053Z
LAST-MODIFIED:20140522T162053Z
UID:1502-1402230000-1402241400@playpittsburgh.com
SUMMARY:14th Annual Summer Reading Extravaganza
DESCRIPTION:An afternoon of free family activities at Carnegie Library of Pittsburgh(Oakland). Enjoy an encore presentation of the puppet show\, Anansi and the Moss-Covered Rock\, at 12:20\, 1:30\, 2:30 and 3:30 pm.
URL:https://playpittsburgh.com/event/14th-annual-summer-reading-extravaganza/
LOCATION:Carnegie Library of Pittsburgh (Oakland)\, 4400 Forbes Avenue\, Pittsburgh\, 15213 \, United States
CATEGORIES:Festivals,Free,Indoor Play
GEO:40.4435041;-79.9495881
X-APPLE-STRUCTURED-LOCATION;VALUE=URI;X-ADDRESS=Carnegie Library of Pittsburgh (Oakland) 4400 Forbes Avenue Pittsburgh 15213  United States;X-APPLE-RADIUS=500;X-TITLE=4400 Forbes Avenue:geo:-79.9495881,40.4435041
END:VEVENT
END:VCALENDAR