BEGIN:VCALENDAR
VERSION:2.0
PRODID:-//Play Pittsburgh - ECPv6.15.20//NONSGML v1.0//EN
CALSCALE:GREGORIAN
METHOD:PUBLISH
X-WR-CALNAME:Play Pittsburgh
X-ORIGINAL-URL:https://playpittsburgh.com
X-WR-CALDESC:Events for Play Pittsburgh
REFRESH-INTERVAL;VALUE=DURATION:PT1H
X-Robots-Tag:noindex
X-PUBLISHED-TTL:PT1H
BEGIN:VTIMEZONE
TZID:America/New_York
BEGIN:DAYLIGHT
TZOFFSETFROM:-0500
TZOFFSETTO:-0400
TZNAME:EDT
DTSTART:20130310T070000
END:DAYLIGHT
BEGIN:STANDARD
TZOFFSETFROM:-0400
TZOFFSETTO:-0500
TZNAME:EST
DTSTART:20131103T060000
END:STANDARD
BEGIN:DAYLIGHT
TZOFFSETFROM:-0500
TZOFFSETTO:-0400
TZNAME:EDT
DTSTART:20140309T070000
END:DAYLIGHT
BEGIN:STANDARD
TZOFFSETFROM:-0400
TZOFFSETTO:-0500
TZNAME:EST
DTSTART:20141102T060000
END:STANDARD
BEGIN:DAYLIGHT
TZOFFSETFROM:-0500
TZOFFSETTO:-0400
TZNAME:EDT
DTSTART:20150308T070000
END:DAYLIGHT
BEGIN:STANDARD
TZOFFSETFROM:-0400
TZOFFSETTO:-0500
TZNAME:EST
DTSTART:20151101T060000
END:STANDARD
END:VTIMEZONE
BEGIN:VEVENT
DTSTART;TZID=America/New_York:20141011T140000
DTEND;TZID=America/New_York:20141011T150000
DTSTAMP:20260424T064138
CREATED:20140904T174443Z
LAST-MODIFIED:20140904T174525Z
UID:3693-1413036000-1413039600@playpittsburgh.com
SUMMARY:Carnegie Library of Pittsburgh (Hazelwood) Ballet FUNdamentals
DESCRIPTION:Get an insider’s look at the story\, dancing and magic of the upcoming Pittsburgh Ballet Theatre performance of The Sleeping Beauty. Enjoy a special storytime and learn about ballet from a ballerina. Recommended for children age 3 to 11.
URL:https://playpittsburgh.com/event/carnegie-library-of-pittsburgh-hazelwood-ballet-fundamentals/
LOCATION:Carnegie Library (Hazelwood)\, 5006 Second Avenue \, Pittsburgh\, PA\, 15207\, United States
CATEGORIES:Free,RADical Days
GEO:40.408317;-79.9436286
X-APPLE-STRUCTURED-LOCATION;VALUE=URI;X-ADDRESS=Carnegie Library (Hazelwood) 5006 Second Avenue  Pittsburgh PA 15207 United States;X-APPLE-RADIUS=500;X-TITLE=5006 Second Avenue:geo:-79.9436286,40.408317
END:VEVENT
END:VCALENDAR