BEGIN:VCALENDAR
VERSION:2.0
PRODID:-//Play Pittsburgh - ECPv6.15.20//NONSGML v1.0//EN
CALSCALE:GREGORIAN
METHOD:PUBLISH
X-WR-CALNAME:Play Pittsburgh
X-ORIGINAL-URL:https://playpittsburgh.com
X-WR-CALDESC:Events for Play Pittsburgh
REFRESH-INTERVAL;VALUE=DURATION:PT1H
X-Robots-Tag:noindex
X-PUBLISHED-TTL:PT1H
BEGIN:VTIMEZONE
TZID:America/New_York
BEGIN:DAYLIGHT
TZOFFSETFROM:-0500
TZOFFSETTO:-0400
TZNAME:EDT
DTSTART:20140309T070000
END:DAYLIGHT
BEGIN:STANDARD
TZOFFSETFROM:-0400
TZOFFSETTO:-0500
TZNAME:EST
DTSTART:20141102T060000
END:STANDARD
BEGIN:DAYLIGHT
TZOFFSETFROM:-0500
TZOFFSETTO:-0400
TZNAME:EDT
DTSTART:20150308T070000
END:DAYLIGHT
BEGIN:STANDARD
TZOFFSETFROM:-0400
TZOFFSETTO:-0500
TZNAME:EST
DTSTART:20151101T060000
END:STANDARD
BEGIN:DAYLIGHT
TZOFFSETFROM:-0500
TZOFFSETTO:-0400
TZNAME:EDT
DTSTART:20160313T070000
END:DAYLIGHT
BEGIN:STANDARD
TZOFFSETFROM:-0400
TZOFFSETTO:-0500
TZNAME:EST
DTSTART:20161106T060000
END:STANDARD
END:VTIMEZONE
BEGIN:VEVENT
DTSTART;TZID=America/New_York:20150328T130000
DTEND;TZID=America/New_York:20150328T140000
DTSTAMP:20260422T160746
CREATED:20150325T134111Z
LAST-MODIFIED:20150325T134111Z
UID:5645-1427547600-1427551200@playpittsburgh.com
SUMMARY:Green Tree Spring Magic
DESCRIPTION:Spring Magic is an afternoon of springtime fun for younger kids. The Easter Bunny will be on hand to meet and greet the kids\, there will be crafts\, snacks\, and a magic show! Bring your camera. \nSpring Magic is FREE\, but you MUST register in advance. No registrations will be accepted at the door.
URL:https://playpittsburgh.com/event/green-tree-spring-magic/
LOCATION:Carlisle Social Hall\, 825 Poplar Street\, Green Tree\, PA\, 15220\, United States
GEO:40.4190512;-80.0494253
X-APPLE-STRUCTURED-LOCATION;VALUE=URI;X-ADDRESS=Carlisle Social Hall 825 Poplar Street Green Tree PA 15220 United States;X-APPLE-RADIUS=500;X-TITLE=825 Poplar Street:geo:-80.0494253,40.4190512
END:VEVENT
END:VCALENDAR