BEGIN:VCALENDAR
VERSION:2.0
PRODID:-//Play Pittsburgh - ECPv6.15.20//NONSGML v1.0//EN
CALSCALE:GREGORIAN
METHOD:PUBLISH
X-WR-CALNAME:Play Pittsburgh
X-ORIGINAL-URL:https://playpittsburgh.com
X-WR-CALDESC:Events for Play Pittsburgh
REFRESH-INTERVAL;VALUE=DURATION:PT1H
X-Robots-Tag:noindex
X-PUBLISHED-TTL:PT1H
BEGIN:VTIMEZONE
TZID:America/New_York
BEGIN:DAYLIGHT
TZOFFSETFROM:-0500
TZOFFSETTO:-0400
TZNAME:EDT
DTSTART:20130310T070000
END:DAYLIGHT
BEGIN:STANDARD
TZOFFSETFROM:-0400
TZOFFSETTO:-0500
TZNAME:EST
DTSTART:20131103T060000
END:STANDARD
BEGIN:DAYLIGHT
TZOFFSETFROM:-0500
TZOFFSETTO:-0400
TZNAME:EDT
DTSTART:20140309T070000
END:DAYLIGHT
BEGIN:STANDARD
TZOFFSETFROM:-0400
TZOFFSETTO:-0500
TZNAME:EST
DTSTART:20141102T060000
END:STANDARD
BEGIN:DAYLIGHT
TZOFFSETFROM:-0500
TZOFFSETTO:-0400
TZNAME:EDT
DTSTART:20150308T070000
END:DAYLIGHT
BEGIN:STANDARD
TZOFFSETFROM:-0400
TZOFFSETTO:-0500
TZNAME:EST
DTSTART:20151101T060000
END:STANDARD
END:VTIMEZONE
BEGIN:VEVENT
DTSTART;VALUE=DATE:20140703
DTEND;VALUE=DATE:20140705
DTSTAMP:20260422T071020
CREATED:20140625T230142Z
LAST-MODIFIED:20140625T230142Z
UID:2108-1404345600-1404518399@playpittsburgh.com
SUMMARY:Brentwood Fourth of July Celebration
DESCRIPTION:July 3rd \n6:00 P.M. – 9:30 P.M. BRENTWOOD STREET FAIR\nBrownsville Road from Brentwood Library to Brentwood Presbyterian Church\nSponsored by the Brentwood Business Owners Association\nFood booths\, vendors\, businesses\, music\n*Activities for the children at the Library \n6:30 PM BATTLE OF THE BARREL\, Brentwood Municipal Building\nSponsored by the Brentwood Volunteer Fire Department\nCome cheer on your local Fire Department as they compete! \n9:00 PM HOUSE DECORATING CONTEST WINNERS ANNOUNCED\nBrentwood Municipal Building \n  \nJuly 4th \n9:00 A.M. 30TH ANNUAL BRENTWOOD FIRECRACKER 5-K RACE \nRace begins at Brentwood Towne Square on Brownsville Road \n10:00 A.M. FLY-OVER TO HONOR OUR VETERANS \n10:00 A.M. PARADE ON BROWNSVILLE ROAD\nParade Route: Assembles at Brownsville & Sankey Avenues with full parade\nviewing beginning after “old Giant Eagle lot”; proceeds along Brownsville\nRoad to Brentwood Towne Square at Dewalt Avenue\nA PARADE OF HOMETOWN STARS\nTom Atkins\, Honorary Grand Marshal\nAccomplished Movie\, TV and Stage Actor\,\nCarrick native and former Brentwood resident\nFeaturing Veteran Units\, Pennsylvania National Guard\, 9th PA Reserves\, Brentwood\nSpartan Marching Band\, Baldwin Highlander Marching Band\, Syria Shrine Units\, Steel City\nAngels\, Pittsburgh Firefighter’s Memorial Pipe Band\, Scout Units\, Brentwood Presbyterian\nFood Bank\, local fire departments\, local elected officials\, and much\, much more!! \n9:40 P.M. FIREWORKS DISPLAY\nRain Date for Fireworks is Saturday\, July 5th
URL:https://playpittsburgh.com/event/brentwood-fourth-of-july-celebration/
LOCATION:Brentwood Towne Square\, Brownsville Road\, Brentwood\, PA\, 15227\, United States
CATEGORIES:Festivals,Free,Outdoor
GEO:40.3733591;-79.9754855
X-APPLE-STRUCTURED-LOCATION;VALUE=URI;X-ADDRESS=Brentwood Towne Square Brownsville Road Brentwood PA 15227 United States;X-APPLE-RADIUS=500;X-TITLE=Brownsville Road:geo:-79.9754855,40.3733591
END:VEVENT
END:VCALENDAR