BEGIN:VCALENDAR
VERSION:2.0
PRODID:-//Play Pittsburgh - ECPv6.15.20//NONSGML v1.0//EN
CALSCALE:GREGORIAN
METHOD:PUBLISH
X-WR-CALNAME:Play Pittsburgh
X-ORIGINAL-URL:https://playpittsburgh.com
X-WR-CALDESC:Events for Play Pittsburgh
REFRESH-INTERVAL;VALUE=DURATION:PT1H
X-Robots-Tag:noindex
X-PUBLISHED-TTL:PT1H
BEGIN:VTIMEZONE
TZID:America/New_York
BEGIN:DAYLIGHT
TZOFFSETFROM:-0500
TZOFFSETTO:-0400
TZNAME:EDT
DTSTART:20140309T070000
END:DAYLIGHT
BEGIN:STANDARD
TZOFFSETFROM:-0400
TZOFFSETTO:-0500
TZNAME:EST
DTSTART:20141102T060000
END:STANDARD
BEGIN:DAYLIGHT
TZOFFSETFROM:-0500
TZOFFSETTO:-0400
TZNAME:EDT
DTSTART:20150308T070000
END:DAYLIGHT
BEGIN:STANDARD
TZOFFSETFROM:-0400
TZOFFSETTO:-0500
TZNAME:EST
DTSTART:20151101T060000
END:STANDARD
BEGIN:DAYLIGHT
TZOFFSETFROM:-0500
TZOFFSETTO:-0400
TZNAME:EDT
DTSTART:20160313T070000
END:DAYLIGHT
BEGIN:STANDARD
TZOFFSETFROM:-0400
TZOFFSETTO:-0500
TZNAME:EST
DTSTART:20161106T060000
END:STANDARD
END:VTIMEZONE
BEGIN:VEVENT
DTSTART;TZID=America/New_York:20150328T110000
DTEND;TZID=America/New_York:20150328T120000
DTSTAMP:20260422T092422
CREATED:20150325T003301Z
LAST-MODIFIED:20150325T003301Z
UID:5614-1427540400-1427544000@playpittsburgh.com
SUMMARY:Brackenridge Borough Easter Egg Hunt
DESCRIPTION:For Brackenridge Residents Only. Children will be divided into 5 age groups: 1-3\, 4-5\, 6-7\, 8-9\, 10-12 years old.. Bring your camera for pictures with the Easter Bunny. Free Pony rides\, petting zoo\, and face painting. 2 Easter prize baskets per age group. Please check your eggs before leaving to see if you have a winning coupon.
URL:https://playpittsburgh.com/event/brackenridge-borough-easter-egg-hunt/
LOCATION:Brackenridge Park\, 1000 Brackenridge Avenue\, Brackenridge\, PA\, 15014\, United States
GEO:40.604642;-79.739232
X-APPLE-STRUCTURED-LOCATION;VALUE=URI;X-ADDRESS=Brackenridge Park 1000 Brackenridge Avenue Brackenridge PA 15014 United States;X-APPLE-RADIUS=500;X-TITLE=1000 Brackenridge Avenue:geo:-79.739232,40.604642
END:VEVENT
END:VCALENDAR