BEGIN:VCALENDAR
VERSION:2.0
PRODID:-//Play Pittsburgh - ECPv6.15.20//NONSGML v1.0//EN
CALSCALE:GREGORIAN
METHOD:PUBLISH
X-WR-CALNAME:Play Pittsburgh
X-ORIGINAL-URL:https://playpittsburgh.com
X-WR-CALDESC:Events for Play Pittsburgh
REFRESH-INTERVAL;VALUE=DURATION:PT1H
X-Robots-Tag:noindex
X-PUBLISHED-TTL:PT1H
BEGIN:VTIMEZONE
TZID:America/New_York
BEGIN:DAYLIGHT
TZOFFSETFROM:-0500
TZOFFSETTO:-0400
TZNAME:EDT
DTSTART:20130310T070000
END:DAYLIGHT
BEGIN:STANDARD
TZOFFSETFROM:-0400
TZOFFSETTO:-0500
TZNAME:EST
DTSTART:20131103T060000
END:STANDARD
BEGIN:DAYLIGHT
TZOFFSETFROM:-0500
TZOFFSETTO:-0400
TZNAME:EDT
DTSTART:20140309T070000
END:DAYLIGHT
BEGIN:STANDARD
TZOFFSETFROM:-0400
TZOFFSETTO:-0500
TZNAME:EST
DTSTART:20141102T060000
END:STANDARD
BEGIN:DAYLIGHT
TZOFFSETFROM:-0500
TZOFFSETTO:-0400
TZNAME:EDT
DTSTART:20150308T070000
END:DAYLIGHT
BEGIN:STANDARD
TZOFFSETFROM:-0400
TZOFFSETTO:-0500
TZNAME:EST
DTSTART:20151101T060000
END:STANDARD
END:VTIMEZONE
BEGIN:VEVENT
DTSTART;TZID=America/New_York:20141011T100000
DTEND;TZID=America/New_York:20141011T113000
DTSTAMP:20260424T045018
CREATED:20140717T161658Z
LAST-MODIFIED:20140717T171838Z
UID:2685-1413021600-1413027000@playpittsburgh.com
SUMMARY:Tyke Hike @ Blue Slide Playground
DESCRIPTION:Come and join Venture Outdoors for a Tyke Hike! They welcome parents or caregivers with children–newborn to 5 years old. Explore nature\, touch the trees and look for little critters on these easy walks in the park. Adults and children can make new play date friends! Hikes will be trail-friendly for strollers\, slings\, child-carriers or on foot. Strollers must be able to maneuver off road. Children on foot should wear tennis shoes. Craft and snacks provided after the hike! Weather permitting. Pre-registration requested. Walk-ups are welcome at $12 per child. \nRegister here.
URL:https://playpittsburgh.com/event/tyke-hyke-blue-slide-playground-2/
LOCATION:Blue Slide Playground\, 2005 Beechwood Blvd\, Pittsburgh\, 15217\, United States
CATEGORIES:Outdoor
GEO:40.4359686;-79.9090817
X-APPLE-STRUCTURED-LOCATION;VALUE=URI;X-ADDRESS=Blue Slide Playground 2005 Beechwood Blvd Pittsburgh 15217 United States;X-APPLE-RADIUS=500;X-TITLE=2005 Beechwood Blvd:geo:-79.9090817,40.4359686
END:VEVENT
BEGIN:VEVENT
DTSTART;TZID=America/New_York:20140913T100000
DTEND;TZID=America/New_York:20140913T130000
DTSTAMP:20260424T045018
CREATED:20140421T230733Z
LAST-MODIFIED:20140912T162052Z
UID:650-1410602400-1410613200@playpittsburgh.com
SUMMARY:Alphabet Trail and Tales
DESCRIPTION:Take a walk in beautiful Frick Park and discover 26 great ways to have fun along the Alphabet Trail. It’s zany fun from A to Z! \nJoin Citiparks for the annual Alphabet Trail and Tales\, a free early and elementary aged literacy event for the entire family. Each year\, Alphabet Trail and Tales presents the best in children’s books. Interactive\, hand-painted story sets create a backdrop for a day of reading and fun. Follow the Alphabet Trail to enjoy art\, music\, games and activities.
URL:https://playpittsburgh.com/event/alphabet-trail-and-tales/
LOCATION:Blue Slide Playground\, 2005 Beechwood Blvd\, Pittsburgh\, 15217\, United States
CATEGORIES:Free,Outdoor
GEO:40.4359686;-79.9090817
X-APPLE-STRUCTURED-LOCATION;VALUE=URI;X-ADDRESS=Blue Slide Playground 2005 Beechwood Blvd Pittsburgh 15217 United States;X-APPLE-RADIUS=500;X-TITLE=2005 Beechwood Blvd:geo:-79.9090817,40.4359686
END:VEVENT
BEGIN:VEVENT
DTSTART;TZID=America/New_York:20140827T100000
DTEND;TZID=America/New_York:20140827T113000
DTSTAMP:20260424T045018
CREATED:20140717T161541Z
LAST-MODIFIED:20140717T171849Z
UID:2684-1409133600-1409139000@playpittsburgh.com
SUMMARY:Tyke Hike @ Blue Slide Playground
DESCRIPTION:Come and join Venture Outdoors for a Tyke Hike! They welcome parents or caregivers with children–newborn to 5 years old. Explore nature\, touch the trees and look for little critters on these easy walks in the park. Adults and children can make new play date friends! Hikes will be trail-friendly for strollers\, slings\, child-carriers or on foot. Strollers must be able to maneuver off road. Children on foot should wear tennis shoes. Craft and snacks provided after the hike! Weather permitting. Pre-registration requested. Walk-ups are welcome at $12 per child. \nRegister here.
URL:https://playpittsburgh.com/event/tyke-hyke-blue-slide-playground/
LOCATION:Blue Slide Playground\, 2005 Beechwood Blvd\, Pittsburgh\, 15217\, United States
CATEGORIES:Outdoor
GEO:40.4359686;-79.9090817
X-APPLE-STRUCTURED-LOCATION;VALUE=URI;X-ADDRESS=Blue Slide Playground 2005 Beechwood Blvd Pittsburgh 15217 United States;X-APPLE-RADIUS=500;X-TITLE=2005 Beechwood Blvd:geo:-79.9090817,40.4359686
END:VEVENT
END:VCALENDAR