BEGIN:VCALENDAR
VERSION:2.0
PRODID:-//Play Pittsburgh - ECPv6.15.20//NONSGML v1.0//EN
CALSCALE:GREGORIAN
METHOD:PUBLISH
X-ORIGINAL-URL:https://playpittsburgh.com
X-WR-CALDESC:Events for Play Pittsburgh
REFRESH-INTERVAL;VALUE=DURATION:PT1H
X-Robots-Tag:noindex
X-PUBLISHED-TTL:PT1H
BEGIN:VTIMEZONE
TZID:America/New_York
BEGIN:DAYLIGHT
TZOFFSETFROM:-0500
TZOFFSETTO:-0400
TZNAME:EDT
DTSTART:20130310T070000
END:DAYLIGHT
BEGIN:STANDARD
TZOFFSETFROM:-0400
TZOFFSETTO:-0500
TZNAME:EST
DTSTART:20131103T060000
END:STANDARD
BEGIN:DAYLIGHT
TZOFFSETFROM:-0500
TZOFFSETTO:-0400
TZNAME:EDT
DTSTART:20140309T070000
END:DAYLIGHT
BEGIN:STANDARD
TZOFFSETFROM:-0400
TZOFFSETTO:-0500
TZNAME:EST
DTSTART:20141102T060000
END:STANDARD
BEGIN:DAYLIGHT
TZOFFSETFROM:-0500
TZOFFSETTO:-0400
TZNAME:EDT
DTSTART:20150308T070000
END:DAYLIGHT
BEGIN:STANDARD
TZOFFSETFROM:-0400
TZOFFSETTO:-0500
TZNAME:EST
DTSTART:20151101T060000
END:STANDARD
END:VTIMEZONE
BEGIN:VEVENT
DTSTART;TZID=America/New_York:20141220T090000
DTEND;TZID=America/New_York:20141220T100000
DTSTAMP:20260422T071010
CREATED:20141205T024047Z
LAST-MODIFIED:20141205T024047Z
UID:8214-1419066000-1419069600@playpittsburgh.com
SUMMARY:Breakfast with Santa at Blue Line Grille
DESCRIPTION:Breakfast Buffet with Santa at Blue Line Grille. Doors open at 9am. Breakfast includes pancakes\, eggs\, bacon\, sausage\, potatoes\, toast\, bagels and fruit salad.\nEach child will recieve a gift bag from Santa and a polaroid!\nIceburgh (Penguins’ Mascot) will be there taking pictures\, too!\nIf a child brings a toy to donate to Toys For Tots\, they receive a FREE breakfast buffet!
URL:https://playpittsburgh.com/event/breakfast-with-santa-at-blue-line-grille/2014-12-20/
LOCATION:Blue Line Grille\, 1014 Fifth Avenue\, Pittsburgh \, PA\, 15219\, United States
GEO:40.4387704;-79.9903133
X-APPLE-STRUCTURED-LOCATION;VALUE=URI;X-ADDRESS=Blue Line Grille 1014 Fifth Avenue Pittsburgh  PA 15219 United States;X-APPLE-RADIUS=500;X-TITLE=1014 Fifth Avenue:geo:-79.9903133,40.4387704
END:VEVENT
BEGIN:VEVENT
DTSTART;TZID=America/New_York:20141213T090000
DTEND;TZID=America/New_York:20141213T100000
DTSTAMP:20260422T071010
CREATED:20141205T024047Z
LAST-MODIFIED:20141205T024047Z
UID:5165-1418461200-1418464800@playpittsburgh.com
SUMMARY:Breakfast with Santa at Blue Line Grille
DESCRIPTION:Breakfast Buffet with Santa at Blue Line Grille. Doors open at 9am. Breakfast includes pancakes\, eggs\, bacon\, sausage\, potatoes\, toast\, bagels and fruit salad.\nEach child will recieve a gift bag from Santa and a polaroid!\nIceburgh (Penguins’ Mascot) will be there taking pictures\, too!\nIf a child brings a toy to donate to Toys For Tots\, they receive a FREE breakfast buffet!
URL:https://playpittsburgh.com/event/breakfast-with-santa-at-blue-line-grille/2014-12-13/
LOCATION:Blue Line Grille\, 1014 Fifth Avenue\, Pittsburgh \, PA\, 15219\, United States
GEO:40.4387704;-79.9903133
X-APPLE-STRUCTURED-LOCATION;VALUE=URI;X-ADDRESS=Blue Line Grille 1014 Fifth Avenue Pittsburgh  PA 15219 United States;X-APPLE-RADIUS=500;X-TITLE=1014 Fifth Avenue:geo:-79.9903133,40.4387704
END:VEVENT
END:VCALENDAR