BEGIN:VCALENDAR
VERSION:2.0
PRODID:-//Play Pittsburgh - ECPv6.15.20//NONSGML v1.0//EN
CALSCALE:GREGORIAN
METHOD:PUBLISH
X-WR-CALNAME:Play Pittsburgh
X-ORIGINAL-URL:https://playpittsburgh.com
X-WR-CALDESC:Events for Play Pittsburgh
REFRESH-INTERVAL;VALUE=DURATION:PT1H
X-Robots-Tag:noindex
X-PUBLISHED-TTL:PT1H
BEGIN:VTIMEZONE
TZID:America/New_York
BEGIN:DAYLIGHT
TZOFFSETFROM:-0500
TZOFFSETTO:-0400
TZNAME:EDT
DTSTART:20130310T070000
END:DAYLIGHT
BEGIN:STANDARD
TZOFFSETFROM:-0400
TZOFFSETTO:-0500
TZNAME:EST
DTSTART:20131103T060000
END:STANDARD
BEGIN:DAYLIGHT
TZOFFSETFROM:-0500
TZOFFSETTO:-0400
TZNAME:EDT
DTSTART:20140309T070000
END:DAYLIGHT
BEGIN:STANDARD
TZOFFSETFROM:-0400
TZOFFSETTO:-0500
TZNAME:EST
DTSTART:20141102T060000
END:STANDARD
BEGIN:DAYLIGHT
TZOFFSETFROM:-0500
TZOFFSETTO:-0400
TZNAME:EDT
DTSTART:20150308T070000
END:DAYLIGHT
BEGIN:STANDARD
TZOFFSETFROM:-0400
TZOFFSETTO:-0500
TZNAME:EST
DTSTART:20151101T060000
END:STANDARD
END:VTIMEZONE
BEGIN:VEVENT
DTSTART;TZID=America/New_York:20140919T100000
DTEND;TZID=America/New_York:20140919T130000
DTSTAMP:20260422T012158
CREATED:20140918T073326Z
LAST-MODIFIED:20140918T073326Z
UID:3870-1411120800-1411131600@playpittsburgh.com
SUMMARY:Preschool Storytime @ Bethel Park Library
DESCRIPTION:Preschoolers will have fun engaging with books\, singing\, and making a letter-themed craft. Let’s read our way through the alphabet. For 3 1/2-5 year olds. \nMost Fridays @ 10am\, 11am and 1pm. Check their website for details.
URL:https://playpittsburgh.com/event/preschool-storytime-bethel-park-library/2014-09-19/
LOCATION:Bethel Park Library\, 5100 W Library Ave #4\, Pittsburgh \, PA\, 15102\, United States
CATEGORIES:Free
ATTACH;FMTTYPE=:
GEO:40.3327601;-80.0315086
X-APPLE-STRUCTURED-LOCATION;VALUE=URI;X-ADDRESS=Bethel Park Library 5100 W Library Ave #4 Pittsburgh  PA 15102 United States;X-APPLE-RADIUS=500;X-TITLE=5100 W Library Ave #4:geo:-80.0315086,40.3327601
END:VEVENT
END:VCALENDAR