BEGIN:VCALENDAR
VERSION:2.0
PRODID:-//Play Pittsburgh - ECPv6.15.20//NONSGML v1.0//EN
CALSCALE:GREGORIAN
METHOD:PUBLISH
X-ORIGINAL-URL:https://playpittsburgh.com
X-WR-CALDESC:Events for Play Pittsburgh
REFRESH-INTERVAL;VALUE=DURATION:PT1H
X-Robots-Tag:noindex
X-PUBLISHED-TTL:PT1H
BEGIN:VTIMEZONE
TZID:America/New_York
BEGIN:DAYLIGHT
TZOFFSETFROM:-0500
TZOFFSETTO:-0400
TZNAME:EDT
DTSTART:20130310T070000
END:DAYLIGHT
BEGIN:STANDARD
TZOFFSETFROM:-0400
TZOFFSETTO:-0500
TZNAME:EST
DTSTART:20131103T060000
END:STANDARD
BEGIN:DAYLIGHT
TZOFFSETFROM:-0500
TZOFFSETTO:-0400
TZNAME:EDT
DTSTART:20140309T070000
END:DAYLIGHT
BEGIN:STANDARD
TZOFFSETFROM:-0400
TZOFFSETTO:-0500
TZNAME:EST
DTSTART:20141102T060000
END:STANDARD
BEGIN:DAYLIGHT
TZOFFSETFROM:-0500
TZOFFSETTO:-0400
TZNAME:EDT
DTSTART:20150308T070000
END:DAYLIGHT
BEGIN:STANDARD
TZOFFSETFROM:-0400
TZOFFSETTO:-0500
TZNAME:EST
DTSTART:20151101T060000
END:STANDARD
END:VTIMEZONE
BEGIN:VEVENT
DTSTART;TZID=America/New_York:20141203T184500
DTEND;TZID=America/New_York:20141203T193000
DTSTAMP:20260422T130430
CREATED:20141114T010526Z
LAST-MODIFIED:20141114T010526Z
UID:4442-1417632300-1417635000@playpittsburgh.com
SUMMARY:Bethel Park Tree Lighting Ceremony
DESCRIPTION:The Bethel Park Annual Tree Lighting Ceremony will kick off the Holiday season on December 3rd with it’s annual Christmas Tree Lighting Ceremony. Festivities begin at 6:45 pm and will run until 7:30 at the Bethel Park Community Center.\nA visit from Santa is expected!\nThe Bethel Park High School Brass Enssemble and the Independence Middle School Choir will provide holiday music.
URL:https://playpittsburgh.com/event/bethel-park-tree-lighting-ceremony/
LOCATION:Bethel Park Community Center\, 5151 Park Avenue\, Bethel Park \, 15102\, United States
ATTACH;FMTTYPE=:
GEO:40.330915;-80.0288811
X-APPLE-STRUCTURED-LOCATION;VALUE=URI;X-ADDRESS=Bethel Park Community Center 5151 Park Avenue Bethel Park  15102 United States;X-APPLE-RADIUS=500;X-TITLE=5151 Park Avenue:geo:-80.0288811,40.330915
END:VEVENT
BEGIN:VEVENT
DTSTART;TZID=America/New_York:20140526T072000
DTEND;TZID=America/New_York:20140526T120000
DTSTAMP:20260422T130430
CREATED:20140523T012129Z
LAST-MODIFIED:20140523T012129Z
UID:1556-1401088800-1401105600@playpittsburgh.com
SUMMARY:American Legion's Annual Parade @ Bethel Park
DESCRIPTION:The American Legion’s Annual Parade and Cemetery Service on Memorial Day strive towards public awareness and remembrance of those who gave their lives for freedom—the supreme sacrifice for their country. Marchers carrying flags representing each service branch will participate and escort 8-10 riflemen who will serve as an honor guard attending to the flags. \nPrior to the parade\, the Veterans Memorial Committee will be sponsoring coffee and doughnuts at 7:20 a.m. in Bethel Park’s Municipal Council Chambers followed by a 7:30 a.m. ceremony at the Veteran’s Memorial located in front of the Municipal Building. Additional names will be added to the over 3\,500 already in place on the Veteran’s Memorial representing those from the American Revolution to today. \nFollowing the ceremony\, the Memorial Day Parade will begin at the Municipal Building and end at the Bethel Cemetery\, adjacent to Bethel Presbyterian Church on Bethel Church Road. A Memorial Day service will be held immediately after the parade. The public is encouraged to attend and participate in honoring our veterans. \nAnyone wishing to be in the parade can contact George Tracey at 412-600-6725. In case of rain\, the Memorial Service will be moved to Bethel Park Community Center.
URL:https://playpittsburgh.com/event/american-legions-annual-parade-bethel-park/
LOCATION:Bethel Park Community Center\, 5151 Park Avenue\, Bethel Park \, 15102\, United States
CATEGORIES:Free,Outdoor
GEO:40.330915;-80.0288811
X-APPLE-STRUCTURED-LOCATION;VALUE=URI;X-ADDRESS=Bethel Park Community Center 5151 Park Avenue Bethel Park  15102 United States;X-APPLE-RADIUS=500;X-TITLE=5151 Park Avenue:geo:-80.0288811,40.330915
END:VEVENT
BEGIN:VEVENT
DTSTART;TZID=America/New_York:20140526T072000
DTEND;TZID=America/New_York:20140526T120000
DTSTAMP:20260422T130430
CREATED:20140523T012129Z
LAST-MODIFIED:20140523T012129Z
UID:6147-1401088800-1401105600@playpittsburgh.com
SUMMARY:American Legion's Annual Parade @ Bethel Park
DESCRIPTION:The American Legion’s Annual Parade and Cemetery Service on Memorial Day strive towards public awareness and remembrance of those who gave their lives for freedom—the supreme sacrifice for their country. Marchers carrying flags representing each service branch will participate and escort 8-10 riflemen who will serve as an honor guard attending to the flags. \nPrior to the parade\, the Veterans Memorial Committee will be sponsoring coffee and doughnuts at 7:20 a.m. in Bethel Park’s Municipal Council Chambers followed by a 7:30 a.m. ceremony at the Veteran’s Memorial located in front of the Municipal Building. Additional names will be added to the over 3\,500 already in place on the Veteran’s Memorial representing those from the American Revolution to today. \nFollowing the ceremony\, the Memorial Day Parade will begin at the Municipal Building and end at the Bethel Cemetery\, adjacent to Bethel Presbyterian Church on Bethel Church Road. A Memorial Day service will be held immediately after the parade. The public is encouraged to attend and participate in honoring our veterans. \nAnyone wishing to be in the parade can contact George Tracey at 412-600-6725. In case of rain\, the Memorial Service will be moved to Bethel Park Community Center.
URL:https://playpittsburgh.com/event/american-legions-annual-parade-bethel-park-2/
LOCATION:Bethel Park Community Center\, 5151 Park Avenue\, Bethel Park \, 15102\, United States
CATEGORIES:Free,Outdoor
GEO:40.330915;-80.0288811
X-APPLE-STRUCTURED-LOCATION;VALUE=URI;X-ADDRESS=Bethel Park Community Center 5151 Park Avenue Bethel Park  15102 United States;X-APPLE-RADIUS=500;X-TITLE=5151 Park Avenue:geo:-80.0288811,40.330915
END:VEVENT
END:VCALENDAR