BEGIN:VCALENDAR
VERSION:2.0
PRODID:-//Play Pittsburgh - ECPv6.15.20//NONSGML v1.0//EN
CALSCALE:GREGORIAN
METHOD:PUBLISH
X-WR-CALNAME:Play Pittsburgh
X-ORIGINAL-URL:https://playpittsburgh.com
X-WR-CALDESC:Events for Play Pittsburgh
REFRESH-INTERVAL;VALUE=DURATION:PT1H
X-Robots-Tag:noindex
X-PUBLISHED-TTL:PT1H
BEGIN:VTIMEZONE
TZID:America/New_York
BEGIN:DAYLIGHT
TZOFFSETFROM:-0500
TZOFFSETTO:-0400
TZNAME:EDT
DTSTART:20130310T070000
END:DAYLIGHT
BEGIN:STANDARD
TZOFFSETFROM:-0400
TZOFFSETTO:-0500
TZNAME:EST
DTSTART:20131103T060000
END:STANDARD
BEGIN:DAYLIGHT
TZOFFSETFROM:-0500
TZOFFSETTO:-0400
TZNAME:EDT
DTSTART:20140309T070000
END:DAYLIGHT
BEGIN:STANDARD
TZOFFSETFROM:-0400
TZOFFSETTO:-0500
TZNAME:EST
DTSTART:20141102T060000
END:STANDARD
BEGIN:DAYLIGHT
TZOFFSETFROM:-0500
TZOFFSETTO:-0400
TZNAME:EDT
DTSTART:20150308T070000
END:DAYLIGHT
BEGIN:STANDARD
TZOFFSETFROM:-0400
TZOFFSETTO:-0500
TZNAME:EST
DTSTART:20151101T060000
END:STANDARD
END:VTIMEZONE
BEGIN:VEVENT
DTSTART;TZID=America/New_York:20140704T120000
DTEND;TZID=America/New_York:20140704T180000
DTSTAMP:20260424T063023
CREATED:20140626T012135Z
LAST-MODIFIED:20140626T012135Z
UID:2133-1404475200-1404496800@playpittsburgh.com
SUMMARY:Independence Day at Belmont
DESCRIPTION:$1 all day admission to the Belmont Complex!
URL:https://playpittsburgh.com/event/independence-day-at-belmont/
LOCATION:Belmont Complex\, 415 Butler Rd.\, Kittanning\, PA\, 16201\, United States
CATEGORIES:Festivals,Free,Outdoor
GEO:40.8144025;-79.5348484
X-APPLE-STRUCTURED-LOCATION;VALUE=URI;X-ADDRESS=Belmont Complex 415 Butler Rd. Kittanning PA 16201 United States;X-APPLE-RADIUS=500;X-TITLE=415 Butler Rd.:geo:-79.5348484,40.8144025
END:VEVENT
END:VCALENDAR