BEGIN:VCALENDAR
VERSION:2.0
PRODID:-//Play Pittsburgh - ECPv6.15.20//NONSGML v1.0//EN
CALSCALE:GREGORIAN
METHOD:PUBLISH
X-WR-CALNAME:Play Pittsburgh
X-ORIGINAL-URL:https://playpittsburgh.com
X-WR-CALDESC:Events for Play Pittsburgh
REFRESH-INTERVAL;VALUE=DURATION:PT1H
X-Robots-Tag:noindex
X-PUBLISHED-TTL:PT1H
BEGIN:VTIMEZONE
TZID:America/New_York
BEGIN:DAYLIGHT
TZOFFSETFROM:-0500
TZOFFSETTO:-0400
TZNAME:EDT
DTSTART:20130310T070000
END:DAYLIGHT
BEGIN:STANDARD
TZOFFSETFROM:-0400
TZOFFSETTO:-0500
TZNAME:EST
DTSTART:20131103T060000
END:STANDARD
BEGIN:DAYLIGHT
TZOFFSETFROM:-0500
TZOFFSETTO:-0400
TZNAME:EDT
DTSTART:20140309T070000
END:DAYLIGHT
BEGIN:STANDARD
TZOFFSETFROM:-0400
TZOFFSETTO:-0500
TZNAME:EST
DTSTART:20141102T060000
END:STANDARD
BEGIN:DAYLIGHT
TZOFFSETFROM:-0500
TZOFFSETTO:-0400
TZNAME:EDT
DTSTART:20150308T070000
END:DAYLIGHT
BEGIN:STANDARD
TZOFFSETFROM:-0400
TZOFFSETTO:-0500
TZNAME:EST
DTSTART:20151101T060000
END:STANDARD
BEGIN:DAYLIGHT
TZOFFSETFROM:-0500
TZOFFSETTO:-0400
TZNAME:EDT
DTSTART:20160313T070000
END:DAYLIGHT
BEGIN:STANDARD
TZOFFSETFROM:-0400
TZOFFSETTO:-0500
TZNAME:EST
DTSTART:20161106T060000
END:STANDARD
END:VTIMEZONE
BEGIN:VEVENT
DTSTART;TZID=America/New_York:20150404T110000
DTEND;TZID=America/New_York:20150404T140000
DTSTAMP:20260424T082832
CREATED:20150328T220836Z
LAST-MODIFIED:20150328T220836Z
UID:5922-1428145200-1428156000@playpittsburgh.com
SUMMARY:The Great Pittsburgh Eagle Egg Hunt
DESCRIPTION:Celebrate the region’s Bald Eagles at Beechwood Nature Preserve’s Easter egg hunts at 11:30\, 12:30 and 1:30. Free event!
URL:https://playpittsburgh.com/event/the-great-pittsburgh-eagle-egg-hunt/
LOCATION:Beechwood Farms Nature Reserve\, 614 Dorseyville Rd\, Fox Chapel\, PA\, 15238\, United States
CATEGORIES:Festivals,Free
GEO:40.542569;-79.905324
X-APPLE-STRUCTURED-LOCATION;VALUE=URI;X-ADDRESS=Beechwood Farms Nature Reserve 614 Dorseyville Rd Fox Chapel PA 15238 United States;X-APPLE-RADIUS=500;X-TITLE=614 Dorseyville Rd:geo:-79.905324,40.542569
END:VEVENT
BEGIN:VEVENT
DTSTART;TZID=America/New_York:20141113T100000
DTEND;TZID=America/New_York:20141113T110000
DTSTAMP:20260424T082832
CREATED:20141031T033053Z
LAST-MODIFIED:20141031T033053Z
UID:6901-1415872800-1415876400@playpittsburgh.com
SUMMARY:Preschool Nature Programs Beechwood Nature Preserve
DESCRIPTION:Give your 3-5 year old a head start on a lifetime of loving the outdoors. Fledglings programs incorporate stories\, a walk\, and activities to introduce new and fun nature themes to young participants. Parent or caregiver must be present. \nAdmission \n\n$4.00 Member Adult\n$4.00 Member Child\n$6.00 Non Member Adult\n$6.00 Non Member Child
URL:https://playpittsburgh.com/event/preschool-nature-programs-beechwood-nature-preserve/
LOCATION:Beechwood Farms Nature Reserve\, 614 Dorseyville Rd\, Fox Chapel\, PA\, 15238\, United States
ATTACH;FMTTYPE=:
GEO:40.542569;-79.905324
X-APPLE-STRUCTURED-LOCATION;VALUE=URI;X-ADDRESS=Beechwood Farms Nature Reserve 614 Dorseyville Rd Fox Chapel PA 15238 United States;X-APPLE-RADIUS=500;X-TITLE=614 Dorseyville Rd:geo:-79.905324,40.542569
END:VEVENT
BEGIN:VEVENT
DTSTART;TZID=America/New_York:20141007T190000
DTEND;TZID=America/New_York:20141007T200000
DTSTAMP:20260424T082832
CREATED:20140904T164155Z
LAST-MODIFIED:20140904T164155Z
UID:3675-1412708400-1412712000@playpittsburgh.com
SUMMARY:FREE Nighttime Owl Prowl @ Beechwood Fam Nature Reserve
DESCRIPTION:Join Audubon for a naturalist-led evening walk through the trails at Beechwood Farms Nature Reserve. We’ll listen for owls and other creatures that come out a night. Appropriate for all ages. Reservation required. Space is limited\, so register early. Visit aswp.org to register or call (412) 963-6100
URL:https://playpittsburgh.com/event/free-nighttime-owl-prowl-beechwood-fam-nature-reserve-2/
LOCATION:Beechwood Farms Nature Reserve\, 614 Dorseyville Rd\, Fox Chapel\, PA\, 15238\, United States
CATEGORIES:Free,Outdoor,RADical Days
GEO:40.542569;-79.905324
X-APPLE-STRUCTURED-LOCATION;VALUE=URI;X-ADDRESS=Beechwood Farms Nature Reserve 614 Dorseyville Rd Fox Chapel PA 15238 United States;X-APPLE-RADIUS=500;X-TITLE=614 Dorseyville Rd:geo:-79.905324,40.542569
END:VEVENT
BEGIN:VEVENT
DTSTART;TZID=America/New_York:20141004T100000
DTEND;TZID=America/New_York:20141004T110000
DTSTAMP:20260424T082832
CREATED:20140904T055320Z
LAST-MODIFIED:20140904T055419Z
UID:3658-1412416800-1412420400@playpittsburgh.com
SUMMARY:Bird Walk @ Beechwood Farms Nature Preserve
DESCRIPTION:Audubon Society of Western PA -Beechwood Farms Nature Reserve Birding Walk\nFree admission: 10am\nJoin Audubon for a naturalist-led walk on the trails at Beechwood Farms Nature Resrve. We’ll be on the lookout for birds migrating through the reserve. Appropriate for all ages. Reservation required. Space is limited\, so register early. Visit aswp.org to register or call (412) 963-6100
URL:https://playpittsburgh.com/event/bird-walk-beechwood-farms-nature-preserve/
LOCATION:Beechwood Farms Nature Reserve\, 614 Dorseyville Rd\, Fox Chapel\, PA\, 15238\, United States
CATEGORIES:Animal Attractions,Free,Outdoor
GEO:40.542569;-79.905324
X-APPLE-STRUCTURED-LOCATION;VALUE=URI;X-ADDRESS=Beechwood Farms Nature Reserve 614 Dorseyville Rd Fox Chapel PA 15238 United States;X-APPLE-RADIUS=500;X-TITLE=614 Dorseyville Rd:geo:-79.905324,40.542569
END:VEVENT
BEGIN:VEVENT
DTSTART;TZID=America/New_York:20140930T190000
DTEND;TZID=America/New_York:20140930T200000
DTSTAMP:20260424T082832
CREATED:20140902T023711Z
LAST-MODIFIED:20140902T023711Z
UID:3595-1412103600-1412107200@playpittsburgh.com
SUMMARY:FREE Nighttime Owl Prowl @ Beechwood Fam Nature Reserve
DESCRIPTION:Join Audubon for a naturalist-led evening walk through the trails at Beechwood Farms Nature Reserve. We’ll listen for owls and other creatures that come out a night. Appropriate for all ages. Reservation required. Space is limited\, so register early. Visit aswp.org to register or call (412) 963-6100
URL:https://playpittsburgh.com/event/free-nighttime-owl-prowl-beechwood-fam-nature-reserve/
LOCATION:Beechwood Farms Nature Reserve\, 614 Dorseyville Rd\, Fox Chapel\, PA\, 15238\, United States
CATEGORIES:Free,Outdoor
GEO:40.542569;-79.905324
X-APPLE-STRUCTURED-LOCATION;VALUE=URI;X-ADDRESS=Beechwood Farms Nature Reserve 614 Dorseyville Rd Fox Chapel PA 15238 United States;X-APPLE-RADIUS=500;X-TITLE=614 Dorseyville Rd:geo:-79.905324,40.542569
END:VEVENT
BEGIN:VEVENT
DTSTART;TZID=America/New_York:20140911T100000
DTEND;TZID=America/New_York:20140911T110000
DTSTAMP:20260424T082832
CREATED:20140828T224414Z
LAST-MODIFIED:20140828T224414Z
UID:3289-1410429600-1410433200@playpittsburgh.com
SUMMARY:Fledglings Preschool Program at Beechwood Nature Preserve
DESCRIPTION:Give your 3-5 year old a head start on a lifetime of loving the outdoors. Fledglings programs incorporate stories\, a walk\, and activities to introduce new and fun nature themes to young participants. Parent or caregiver must be present. \nBeechwood Farms Nature Reserve is the headquarters of the Audubon Society of Western Pennsylvania. ASWP manages and operates the five miles of trails and 134 acres of sanctuary at Beechwood Farms under a lease agreement with property holder\, Western Pennsylvania Conservancy. Its facilities include Educational Classrooms\, the Audubon Nature Store\, the Teacher Resource Center\, a Natural History Library\, the Evans Nature Center auditorium. TBeechwood Farms Nature Reserve is the headquarters of the Audubon Society of Western Pennsylvania. \n\n$4.00 Member Adult\n$4.00 Member Child\n$6.00 Non member Adult\n$6.00 Non member Child
URL:https://playpittsburgh.com/event/fledglings-preschool-program-at-beechwood-nature-preserve/
LOCATION:Beechwood Farms Nature Reserve\, 614 Dorseyville Rd\, Fox Chapel\, PA\, 15238\, United States
CATEGORIES:Outdoor
GEO:40.542569;-79.905324
X-APPLE-STRUCTURED-LOCATION;VALUE=URI;X-ADDRESS=Beechwood Farms Nature Reserve 614 Dorseyville Rd Fox Chapel PA 15238 United States;X-APPLE-RADIUS=500;X-TITLE=614 Dorseyville Rd:geo:-79.905324,40.542569
END:VEVENT
BEGIN:VEVENT
DTSTART;TZID=America/New_York:20140904T100000
DTEND;TZID=America/New_York:20140904T110000
DTSTAMP:20260424T082832
CREATED:20140828T223941Z
LAST-MODIFIED:20140828T223941Z
UID:3287-1409824800-1409828400@playpittsburgh.com
SUMMARY:Babes in the Woods at Beechwood Nature Preserve
DESCRIPTION:Play in nature is an important part of a childhood development and well-being. Parents and toddlers (3 and under) will delight in using sight\, sound\, touch and smell to discover the natural world. Strollers/Baby Backpacks welcome. Bring your little one in a baby carrier and enjoy a leisurely guided stroll on the reserves. Parent or caregiver must be present. \nBeechwood Farms Nature Reserve is the headquarters of the Audubon Society of Western Pennsylvania. ASWP manages and operates the five miles of trails and 134 acres of sanctuary at Beechwood Farms under a lease agreement with property holder\, Western Pennsylvania Conservancy. Its facilities include Educational Classrooms\, the Audubon Nature Store\, the Teacher Resource Center\, a Natural History Library\, the Evans Nature Center auditorium. TBeechwood Farms Nature Reserve is the headquarters of the Audubon Society of Western Pennsylvania. \n\n$4.00 Member Adult\n$4.00 Member Child\n$6.00 Non member Adult\n$6.00 Non member Child
URL:https://playpittsburgh.com/event/babes-in-the-woods-at-beechwood-nature-preserve/
LOCATION:Beechwood Farms Nature Reserve\, 614 Dorseyville Rd\, Fox Chapel\, PA\, 15238\, United States
CATEGORIES:Outdoor
GEO:40.542569;-79.905324
X-APPLE-STRUCTURED-LOCATION;VALUE=URI;X-ADDRESS=Beechwood Farms Nature Reserve 614 Dorseyville Rd Fox Chapel PA 15238 United States;X-APPLE-RADIUS=500;X-TITLE=614 Dorseyville Rd:geo:-79.905324,40.542569
END:VEVENT
BEGIN:VEVENT
DTSTART;TZID=America/New_York:20140807T100000
DTEND;TZID=America/New_York:20140807T110000
DTSTAMP:20260424T082832
CREATED:20140728T201847Z
LAST-MODIFIED:20140728T201847Z
UID:2827-1407405600-1407409200@playpittsburgh.com
SUMMARY:Babes in the Woods
DESCRIPTION:Child/Preschool program at Beechwood Nature Preserve. Even the smallest children delight in a day outside! Bring your little one in a baby carrier and enjoy a leisurely guided stroll on our reserves. Parent or caregiver must be present. \nAdmission:\n$4.00	Member Adult\n$4.00	Member Child\n$6.00	Non member Adult\n$6.00	Non member Child
URL:https://playpittsburgh.com/event/babes-in-the-woods/
LOCATION:Beechwood Farms Nature Reserve\, 614 Dorseyville Rd\, Fox Chapel\, PA\, 15238\, United States
CATEGORIES:Outdoor
GEO:40.542569;-79.905324
X-APPLE-STRUCTURED-LOCATION;VALUE=URI;X-ADDRESS=Beechwood Farms Nature Reserve 614 Dorseyville Rd Fox Chapel PA 15238 United States;X-APPLE-RADIUS=500;X-TITLE=614 Dorseyville Rd:geo:-79.905324,40.542569
END:VEVENT
END:VCALENDAR