BEGIN:VCALENDAR
VERSION:2.0
PRODID:-//Play Pittsburgh - ECPv6.15.20//NONSGML v1.0//EN
CALSCALE:GREGORIAN
METHOD:PUBLISH
X-WR-CALNAME:Play Pittsburgh
X-ORIGINAL-URL:https://playpittsburgh.com
X-WR-CALDESC:Events for Play Pittsburgh
REFRESH-INTERVAL;VALUE=DURATION:PT1H
X-Robots-Tag:noindex
X-PUBLISHED-TTL:PT1H
BEGIN:VTIMEZONE
TZID:America/New_York
BEGIN:DAYLIGHT
TZOFFSETFROM:-0500
TZOFFSETTO:-0400
TZNAME:EDT
DTSTART:20130310T070000
END:DAYLIGHT
BEGIN:STANDARD
TZOFFSETFROM:-0400
TZOFFSETTO:-0500
TZNAME:EST
DTSTART:20131103T060000
END:STANDARD
BEGIN:DAYLIGHT
TZOFFSETFROM:-0500
TZOFFSETTO:-0400
TZNAME:EDT
DTSTART:20140309T070000
END:DAYLIGHT
BEGIN:STANDARD
TZOFFSETFROM:-0400
TZOFFSETTO:-0500
TZNAME:EST
DTSTART:20141102T060000
END:STANDARD
BEGIN:DAYLIGHT
TZOFFSETFROM:-0500
TZOFFSETTO:-0400
TZNAME:EDT
DTSTART:20150308T070000
END:DAYLIGHT
BEGIN:STANDARD
TZOFFSETFROM:-0400
TZOFFSETTO:-0500
TZNAME:EST
DTSTART:20151101T060000
END:STANDARD
END:VTIMEZONE
BEGIN:VEVENT
DTSTART;TZID=America/New_York:20141201T130000
DTEND;TZID=America/New_York:20141201T140000
DTSTAMP:20260422T044142
CREATED:20141201T073238Z
LAST-MODIFIED:20141201T073238Z
UID:4756-1417438800-1417442400@playpittsburgh.com
SUMMARY:Decorating Gingerbread House at Baldwin Library
DESCRIPTION:Another “no school” Monday\, so bring your friends to the library to make a gingerbread house just in time for the holidays!  Cartons provided\, but please bring one can of icing and one bag of candy to share with the group.   Registration required.
URL:https://playpittsburgh.com/event/decorating-gingerbread-house-at-baldwin-library/
LOCATION:Baldwin Library\, 41 Macek Dr #115\, Pittsburgh\, PA\, 15227\, United States
GEO:40.3575878;-79.9642672
X-APPLE-STRUCTURED-LOCATION;VALUE=URI;X-ADDRESS=Baldwin Library 41 Macek Dr #115 Pittsburgh PA 15227 United States;X-APPLE-RADIUS=500;X-TITLE=41 Macek Dr #115:geo:-79.9642672,40.3575878
END:VEVENT
BEGIN:VEVENT
DTSTART;TZID=America/New_York:20141119T183000
DTEND;TZID=America/New_York:20141119T200000
DTSTAMP:20260422T044142
CREATED:20141103T015951Z
LAST-MODIFIED:20141103T015951Z
UID:6918-1416421800-1416427200@playpittsburgh.com
SUMMARY:Family Movie Night\, "How to Train a Dragon 2" at Baldwin Library
DESCRIPTION:PJs\, Pillows\, and Popcorn – Family Movie Nights at 6:30 pm / No registration required \nEvery month\, as part of the Patron Appreciation Day\, the Baldwin Library will feature a new release family movie that your whole family will enjoy! Kids can bring their blankets\, pillows and stuffed friend – we will provide the popcorn!
URL:https://playpittsburgh.com/event/family-movie-night-how-to-train-a-dragon-2-at-baldwin-library/
LOCATION:Baldwin Library\, 41 Macek Dr #115\, Pittsburgh\, PA\, 15227\, United States
CATEGORIES:Indoor Play
ATTACH;FMTTYPE=:
GEO:40.3575878;-79.9642672
X-APPLE-STRUCTURED-LOCATION;VALUE=URI;X-ADDRESS=Baldwin Library 41 Macek Dr #115 Pittsburgh PA 15227 United States;X-APPLE-RADIUS=500;X-TITLE=41 Macek Dr #115:geo:-79.9642672,40.3575878
END:VEVENT
BEGIN:VEVENT
DTSTART;TZID=America/New_York:20141107T183000
DTEND;TZID=America/New_York:20141107T193000
DTSTAMP:20260422T044142
CREATED:20141030T234156Z
LAST-MODIFIED:20141030T234156Z
UID:6882-1415385000-1415388600@playpittsburgh.com
SUMMARY:Firefighters visit Baldwin Library
DESCRIPTION:Firefighters will visit the library to talk about being a firefighter & fire safety. Then you will have an opportunity to explore their fire trucks! \nFREE firefighter hats will be provided to the children. Online registration is requested or call the library- (412) 885-2255
URL:https://playpittsburgh.com/event/firefighters-visit-baldwin-library/
LOCATION:Baldwin Library\, 41 Macek Dr #115\, Pittsburgh\, PA\, 15227\, United States
ATTACH;FMTTYPE=:
GEO:40.3575878;-79.9642672
X-APPLE-STRUCTURED-LOCATION;VALUE=URI;X-ADDRESS=Baldwin Library 41 Macek Dr #115 Pittsburgh PA 15227 United States;X-APPLE-RADIUS=500;X-TITLE=41 Macek Dr #115:geo:-79.9642672,40.3575878
END:VEVENT
BEGIN:VEVENT
DTSTART;TZID=America/New_York:20141104T080000
DTEND;TZID=America/New_York:20141104T170000
DTSTAMP:20260422T044142
CREATED:20141030T213419Z
LAST-MODIFIED:20141030T213419Z
UID:6865-1415088000-1415120400@playpittsburgh.com
SUMMARY:Fall Book Sale at Baldwin Library
DESCRIPTION:Buy used books at the Baldwin Library! \n\nTuesday\, November 4th: 8:00 AM – 8:00 PM\nWednesday\, November 5th: 10 AM\nThursday\, November 6th: 10:00 AM – 8:00 PM\nFriday\, November 7th: 10:00 AM – 5:00 PM\nSaturday\, November 8th: 10:00 AM – 12:00 PM
URL:https://playpittsburgh.com/event/fall-book-sale-at-baldwin-library/2014-11-04/
LOCATION:Baldwin Library\, 41 Macek Dr #115\, Pittsburgh\, PA\, 15227\, United States
ATTACH;FMTTYPE=:
GEO:40.3575878;-79.9642672
X-APPLE-STRUCTURED-LOCATION;VALUE=URI;X-ADDRESS=Baldwin Library 41 Macek Dr #115 Pittsburgh PA 15227 United States;X-APPLE-RADIUS=500;X-TITLE=41 Macek Dr #115:geo:-79.9642672,40.3575878
END:VEVENT
END:VCALENDAR