BEGIN:VCALENDAR
VERSION:2.0
PRODID:-//Play Pittsburgh - ECPv6.15.20//NONSGML v1.0//EN
CALSCALE:GREGORIAN
METHOD:PUBLISH
X-WR-CALNAME:Play Pittsburgh
X-ORIGINAL-URL:https://playpittsburgh.com
X-WR-CALDESC:Events for Play Pittsburgh
REFRESH-INTERVAL;VALUE=DURATION:PT1H
X-Robots-Tag:noindex
X-PUBLISHED-TTL:PT1H
BEGIN:VTIMEZONE
TZID:America/New_York
BEGIN:DAYLIGHT
TZOFFSETFROM:-0500
TZOFFSETTO:-0400
TZNAME:EDT
DTSTART:20130310T070000
END:DAYLIGHT
BEGIN:STANDARD
TZOFFSETFROM:-0400
TZOFFSETTO:-0500
TZNAME:EST
DTSTART:20131103T060000
END:STANDARD
BEGIN:DAYLIGHT
TZOFFSETFROM:-0500
TZOFFSETTO:-0400
TZNAME:EDT
DTSTART:20140309T070000
END:DAYLIGHT
BEGIN:STANDARD
TZOFFSETFROM:-0400
TZOFFSETTO:-0500
TZNAME:EST
DTSTART:20141102T060000
END:STANDARD
BEGIN:DAYLIGHT
TZOFFSETFROM:-0500
TZOFFSETTO:-0400
TZNAME:EDT
DTSTART:20150308T070000
END:DAYLIGHT
BEGIN:STANDARD
TZOFFSETFROM:-0400
TZOFFSETTO:-0500
TZNAME:EST
DTSTART:20151101T060000
END:STANDARD
END:VTIMEZONE
BEGIN:VEVENT
DTSTART;TZID=America/New_York:20140527T153000
DTEND;TZID=America/New_York:20140527T173000
DTSTAMP:20260422T110845
CREATED:20140523T155638Z
LAST-MODIFIED:20140523T155638Z
UID:1588-1401204600-1401211800@playpittsburgh.com
SUMMARY:Homework Help @ Assemble
DESCRIPTION:Got Homework? Need help? BRING IT! There are free snacks and big brains to help you. You probably know the answers already any way. Sometimes it just easier when you have a friend. All grades welcome! Just come on by!
URL:https://playpittsburgh.com/event/homework-help-assemble/2014-05-27/
LOCATION:Assemble\, 5125 Penn Ave\, Pittsburgh\, PA\, 15224\, United States
CATEGORIES:Free
GEO:40.4650516;-79.9418044
X-APPLE-STRUCTURED-LOCATION;VALUE=URI;X-ADDRESS=Assemble 5125 Penn Ave Pittsburgh PA 15224 United States;X-APPLE-RADIUS=500;X-TITLE=5125 Penn Ave:geo:-79.9418044,40.4650516
END:VEVENT
BEGIN:VEVENT
DTSTART;TZID=America/New_York:20140507T163000
DTEND;TZID=America/New_York:20140507T183000
DTSTAMP:20260422T110845
CREATED:20140506T175930Z
LAST-MODIFIED:20140506T175930Z
UID:1170-1399480200-1399487400@playpittsburgh.com
SUMMARY:Robots! A Learning Party
DESCRIPTION:Robots! What is a circuit and what is it used for? How do you make an arduino and how is it programmed? How can I build a simple robot on my own?  How are robotics used in the real world? \nCan’t wait to learn more about robotics?  Join Assemble for a Learning Party on Wednesday\, May 7th\, anytime between 4:30 and 6:30 pm. This free fun is open to all ages – we invite kids\, youth\, and grown ups too! Hands-on learning activities will be led by local makers\, scientists\, artists\, and technologists. All materials provided.
URL:https://playpittsburgh.com/event/robots-a-learning-party/
LOCATION:Assemble\, 5125 Penn Ave\, Pittsburgh\, PA\, 15224\, United States
CATEGORIES:Free,Indoor Play
ORGANIZER;CN="Assemble ":MAILTO:info@assemble.org
GEO:40.4650516;-79.9418044
X-APPLE-STRUCTURED-LOCATION;VALUE=URI;X-ADDRESS=Assemble 5125 Penn Ave Pittsburgh PA 15224 United States;X-APPLE-RADIUS=500;X-TITLE=5125 Penn Ave:geo:-79.9418044,40.4650516
END:VEVENT
BEGIN:VEVENT
DTSTART;VALUE=DATE:20140503
DTEND;VALUE=DATE:20140504
DTSTAMP:20260422T110845
CREATED:20140428T175408Z
LAST-MODIFIED:20140901T185435Z
UID:991-1399075200-1399161599@playpittsburgh.com
SUMMARY:Saturday Crafternoon at Assemble
DESCRIPTION:Visit Assemble for Saturday Crafternoons. They promote project-based learning\, hands-on making\, experimentation and community engagement for youth ages 5-10 through free DIY workshops with local makers. This year\, Crafternoons are offering more make-and-take activities\, creating new DIY community-focused projects\, connecting STEAM learning with craft\, introducing environmental issues to youth\, and catalyzing the creation of an Assemble DIY.org clubhouse. Our goal is to empower youth to be confident makers\, foster a love of DIY projects\, promote connected learning\, and activate an interest in their community and city. \nThis project supported in part by the Spark Fund for Early Learning at The Sprout Fund\, the Rockwell Foundation\, and the Junior League of Pittsburgh. \nCheck their Facebook page for upcoming events and times.
URL:https://playpittsburgh.com/event/saturday-crafternoon-at-assemble/2014-05-03/
LOCATION:Assemble\, 5125 Penn Ave\, Pittsburgh\, PA\, 15224\, United States
CATEGORIES:Free
GEO:40.4650516;-79.9418044
X-APPLE-STRUCTURED-LOCATION;VALUE=URI;X-ADDRESS=Assemble 5125 Penn Ave Pittsburgh PA 15224 United States;X-APPLE-RADIUS=500;X-TITLE=5125 Penn Ave:geo:-79.9418044,40.4650516
END:VEVENT
END:VCALENDAR