BEGIN:VCALENDAR
VERSION:2.0
PRODID:-//Play Pittsburgh - ECPv6.15.20//NONSGML v1.0//EN
CALSCALE:GREGORIAN
METHOD:PUBLISH
X-ORIGINAL-URL:https://playpittsburgh.com
X-WR-CALDESC:Events for Play Pittsburgh
REFRESH-INTERVAL;VALUE=DURATION:PT1H
X-Robots-Tag:noindex
X-PUBLISHED-TTL:PT1H
BEGIN:VTIMEZONE
TZID:America/New_York
BEGIN:DAYLIGHT
TZOFFSETFROM:-0500
TZOFFSETTO:-0400
TZNAME:EDT
DTSTART:20130310T070000
END:DAYLIGHT
BEGIN:STANDARD
TZOFFSETFROM:-0400
TZOFFSETTO:-0500
TZNAME:EST
DTSTART:20131103T060000
END:STANDARD
BEGIN:DAYLIGHT
TZOFFSETFROM:-0500
TZOFFSETTO:-0400
TZNAME:EDT
DTSTART:20140309T070000
END:DAYLIGHT
BEGIN:STANDARD
TZOFFSETFROM:-0400
TZOFFSETTO:-0500
TZNAME:EST
DTSTART:20141102T060000
END:STANDARD
BEGIN:DAYLIGHT
TZOFFSETFROM:-0500
TZOFFSETTO:-0400
TZNAME:EDT
DTSTART:20150308T070000
END:DAYLIGHT
BEGIN:STANDARD
TZOFFSETFROM:-0400
TZOFFSETTO:-0500
TZNAME:EST
DTSTART:20151101T060000
END:STANDARD
END:VTIMEZONE
BEGIN:VEVENT
DTSTART;TZID=America/New_York:20140607T080000
DTEND;TZID=America/New_York:20140607T120000
DTSTAMP:20260422T132630
CREATED:20140507T161047Z
LAST-MODIFIED:20140507T161047Z
UID:1186-1402128000-1402142400@playpittsburgh.com
SUMMARY:Westmoreland County Airshow
DESCRIPTION:Watch as jets\, planes and parachuters take to the sky. Pilots display their flying skills and the capabilities of their aircrafts to spectators by means of mid-air aerobatic displays. The event will feature the US Navy Blue Angels with additional featured acts from Raider’s Demo Team\, GEICO Skytypers\, Golden Knights\, Matt Chapman\, Jacquie B. Airshows and Andrew McKennas.
URL:https://playpittsburgh.com/event/westmoreland-county-airshow/
LOCATION:Arnold Palmer Regional Airport\, 148 Aviation Ln\, Latrobe\, PA\, 15650\, United States
CATEGORIES:Outdoor,Performing Arts
GEO:40.2712635;-79.4053235
X-APPLE-STRUCTURED-LOCATION;VALUE=URI;X-ADDRESS=Arnold Palmer Regional Airport 148 Aviation Ln Latrobe PA 15650 United States;X-APPLE-RADIUS=500;X-TITLE=148 Aviation Ln:geo:-79.4053235,40.2712635
END:VEVENT
END:VCALENDAR