BEGIN:VCALENDAR
VERSION:2.0
PRODID:-//Play Pittsburgh - ECPv6.15.20//NONSGML v1.0//EN
CALSCALE:GREGORIAN
METHOD:PUBLISH
X-WR-CALNAME:Play Pittsburgh
X-ORIGINAL-URL:https://playpittsburgh.com
X-WR-CALDESC:Events for Play Pittsburgh
REFRESH-INTERVAL;VALUE=DURATION:PT1H
X-Robots-Tag:noindex
X-PUBLISHED-TTL:PT1H
BEGIN:VTIMEZONE
TZID:America/New_York
BEGIN:DAYLIGHT
TZOFFSETFROM:-0500
TZOFFSETTO:-0400
TZNAME:EDT
DTSTART:20130310T070000
END:DAYLIGHT
BEGIN:STANDARD
TZOFFSETFROM:-0400
TZOFFSETTO:-0500
TZNAME:EST
DTSTART:20131103T060000
END:STANDARD
BEGIN:DAYLIGHT
TZOFFSETFROM:-0500
TZOFFSETTO:-0400
TZNAME:EDT
DTSTART:20140309T070000
END:DAYLIGHT
BEGIN:STANDARD
TZOFFSETFROM:-0400
TZOFFSETTO:-0500
TZNAME:EST
DTSTART:20141102T060000
END:STANDARD
BEGIN:DAYLIGHT
TZOFFSETFROM:-0500
TZOFFSETTO:-0400
TZNAME:EDT
DTSTART:20150308T070000
END:DAYLIGHT
BEGIN:STANDARD
TZOFFSETFROM:-0400
TZOFFSETTO:-0500
TZNAME:EST
DTSTART:20151101T060000
END:STANDARD
END:VTIMEZONE
BEGIN:VEVENT
DTSTART;TZID=America/New_York:20140927T120000
DTEND;TZID=America/New_York:20140927T160000
DTSTAMP:20260421T232955
CREATED:20140901T180526Z
LAST-MODIFIED:20140901T180526Z
UID:3462-1411819200-1411833600@playpittsburgh.com
SUMMARY:Johnny Appleseed Birthday Party @ Apple Castle
DESCRIPTION:Join Apple Castle as the celebrate the birthday of John Chapman!  They’ll have story time with Johnny\, crafts\, carnival games\, our new apple slingshot and more fun for the entire family! \nEvent is free to attend; some games will have a charge.
URL:https://playpittsburgh.com/event/johnny-appleseed-birthday-party-apple-castle/
LOCATION:Apple Castle LLC\, 277 State Route 18\, New Wilmington\, PA\, 16142\, United States
CATEGORIES:Festivals,Outdoor
GEO:41.0932999;-80.3585142
X-APPLE-STRUCTURED-LOCATION;VALUE=URI;X-ADDRESS=Apple Castle LLC 277 State Route 18 New Wilmington PA 16142 United States;X-APPLE-RADIUS=500;X-TITLE=277 State Route 18:geo:-80.3585142,41.0932999
END:VEVENT
END:VCALENDAR