BEGIN:VCALENDAR
VERSION:2.0
PRODID:-//Play Pittsburgh - ECPv6.15.20//NONSGML v1.0//EN
CALSCALE:GREGORIAN
METHOD:PUBLISH
X-ORIGINAL-URL:https://playpittsburgh.com
X-WR-CALDESC:Events for Play Pittsburgh
REFRESH-INTERVAL;VALUE=DURATION:PT1H
X-Robots-Tag:noindex
X-PUBLISHED-TTL:PT1H
BEGIN:VTIMEZONE
TZID:America/New_York
BEGIN:DAYLIGHT
TZOFFSETFROM:-0500
TZOFFSETTO:-0400
TZNAME:EDT
DTSTART:20140309T070000
END:DAYLIGHT
BEGIN:STANDARD
TZOFFSETFROM:-0400
TZOFFSETTO:-0500
TZNAME:EST
DTSTART:20141102T060000
END:STANDARD
BEGIN:DAYLIGHT
TZOFFSETFROM:-0500
TZOFFSETTO:-0400
TZNAME:EDT
DTSTART:20150308T070000
END:DAYLIGHT
BEGIN:STANDARD
TZOFFSETFROM:-0400
TZOFFSETTO:-0500
TZNAME:EST
DTSTART:20151101T060000
END:STANDARD
BEGIN:DAYLIGHT
TZOFFSETFROM:-0500
TZOFFSETTO:-0400
TZNAME:EDT
DTSTART:20160313T070000
END:DAYLIGHT
BEGIN:STANDARD
TZOFFSETFROM:-0400
TZOFFSETTO:-0500
TZNAME:EST
DTSTART:20161106T060000
END:STANDARD
END:VTIMEZONE
BEGIN:VEVENT
DTSTART;TZID=America/New_York:20150331T160000
DTEND;TZID=America/New_York:20150331T173000
DTSTAMP:20260422T073345
CREATED:20150326T183525Z
LAST-MODIFIED:20150326T183525Z
UID:5818-1427817600-1427823000@playpittsburgh.com
SUMMARY:Sanctuary - A Support Group for Teens
DESCRIPTION:This support group is available to teens between the ages of 14 and 17 who may be depressed or struggling. Space is limited.\nWednesdays from 4:00pm to 5:30pm at Anchorpoint Counseling Ministry January 28th-April 1st (10 weeks). Call Michael (ext .127) or Cassy (ext. 129) to sign-up or if you have questions.
URL:https://playpittsburgh.com/event/sanctuary-a-support-group-for-teens/
LOCATION:Anchorpoint Counseling Ministry\,  800 McKnight Park Drive\, Suite 802 \, Pittsburgh\, PA\, 15237\, United States
GEO:40.5352049;-80.0072904
X-APPLE-STRUCTURED-LOCATION;VALUE=URI;X-ADDRESS=Anchorpoint Counseling Ministry  800 McKnight Park Drive Suite 802  Pittsburgh PA 15237 United States;X-APPLE-RADIUS=500;X-TITLE=800 McKnight Park Drive\, Suite 802:geo:-80.0072904,40.5352049
END:VEVENT
END:VCALENDAR