BEGIN:VCALENDAR
VERSION:2.0
PRODID:-//Play Pittsburgh - ECPv6.15.20//NONSGML v1.0//EN
CALSCALE:GREGORIAN
METHOD:PUBLISH
X-ORIGINAL-URL:https://playpittsburgh.com
X-WR-CALDESC:Events for Play Pittsburgh
REFRESH-INTERVAL;VALUE=DURATION:PT1H
X-Robots-Tag:noindex
X-PUBLISHED-TTL:PT1H
BEGIN:VTIMEZONE
TZID:America/New_York
BEGIN:DAYLIGHT
TZOFFSETFROM:-0500
TZOFFSETTO:-0400
TZNAME:EDT
DTSTART:20130310T070000
END:DAYLIGHT
BEGIN:STANDARD
TZOFFSETFROM:-0400
TZOFFSETTO:-0500
TZNAME:EST
DTSTART:20131103T060000
END:STANDARD
BEGIN:DAYLIGHT
TZOFFSETFROM:-0500
TZOFFSETTO:-0400
TZNAME:EDT
DTSTART:20140309T070000
END:DAYLIGHT
BEGIN:STANDARD
TZOFFSETFROM:-0400
TZOFFSETTO:-0500
TZNAME:EST
DTSTART:20141102T060000
END:STANDARD
BEGIN:DAYLIGHT
TZOFFSETFROM:-0500
TZOFFSETTO:-0400
TZNAME:EDT
DTSTART:20150308T070000
END:DAYLIGHT
BEGIN:STANDARD
TZOFFSETFROM:-0400
TZOFFSETTO:-0500
TZNAME:EST
DTSTART:20151101T060000
END:STANDARD
END:VTIMEZONE
BEGIN:VEVENT
DTSTART;TZID=America/New_York:20141011T120000
DTEND;TZID=America/New_York:20141011T140000
DTSTAMP:20260422T063710
CREATED:20141010T145841Z
LAST-MODIFIED:20141010T145842Z
UID:4008-1413028800-1413036000@playpittsburgh.com
SUMMARY:Fall Family Day at Amplify Church
DESCRIPTION:Join Amplify Church in this free family-friendly event! There will be crafts\, games\, cookie decorating\, pumpkin decorating\, family relay races and a tons of fall fun! 
URL:https://playpittsburgh.com/event/fall-family-day-at-amplify-church/
LOCATION:Amplify Church (City Campus)\, 1918 Smallman Street\, Pittsburgh \, PA\, 15222\, United States
CATEGORIES:Free,Indoor Play
GEO:40.4513778;-79.9851599
X-APPLE-STRUCTURED-LOCATION;VALUE=URI;X-ADDRESS=Amplify Church (City Campus) 1918 Smallman Street Pittsburgh  PA 15222 United States;X-APPLE-RADIUS=500;X-TITLE=1918 Smallman Street:geo:-79.9851599,40.4513778
END:VEVENT
END:VCALENDAR