BEGIN:VCALENDAR
VERSION:2.0
PRODID:-//Play Pittsburgh - ECPv6.15.20//NONSGML v1.0//EN
CALSCALE:GREGORIAN
METHOD:PUBLISH
X-WR-CALNAME:Play Pittsburgh
X-ORIGINAL-URL:https://playpittsburgh.com
X-WR-CALDESC:Events for Play Pittsburgh
REFRESH-INTERVAL;VALUE=DURATION:PT1H
X-Robots-Tag:noindex
X-PUBLISHED-TTL:PT1H
BEGIN:VTIMEZONE
TZID:America/New_York
BEGIN:DAYLIGHT
TZOFFSETFROM:-0500
TZOFFSETTO:-0400
TZNAME:EDT
DTSTART:20130310T070000
END:DAYLIGHT
BEGIN:STANDARD
TZOFFSETFROM:-0400
TZOFFSETTO:-0500
TZNAME:EST
DTSTART:20131103T060000
END:STANDARD
BEGIN:DAYLIGHT
TZOFFSETFROM:-0500
TZOFFSETTO:-0400
TZNAME:EDT
DTSTART:20140309T070000
END:DAYLIGHT
BEGIN:STANDARD
TZOFFSETFROM:-0400
TZOFFSETTO:-0500
TZNAME:EST
DTSTART:20141102T060000
END:STANDARD
BEGIN:DAYLIGHT
TZOFFSETFROM:-0500
TZOFFSETTO:-0400
TZNAME:EDT
DTSTART:20150308T070000
END:DAYLIGHT
BEGIN:STANDARD
TZOFFSETFROM:-0400
TZOFFSETTO:-0500
TZNAME:EST
DTSTART:20151101T060000
END:STANDARD
END:VTIMEZONE
BEGIN:VEVENT
DTSTART;TZID=America/New_York:20140421T080000
DTEND;TZID=America/New_York:20140421T170000
DTSTAMP:20260422T030826
CREATED:20140421T235957Z
LAST-MODIFIED:20140421T235957Z
UID:673-1398067200-1398099600@playpittsburgh.com
SUMMARY:Allegheny Observatory Tour
DESCRIPTION:The Allegheny Observatory is an astronomical research institution\, a part of the Department of Physics and Astronomy at the University of Pittsburgh. The facility is listed on the National Register of Historical Places and is designated as a Pennsylvania state and Pittsburgh History and Landmarks Foundation historic landmark. \nNight tours are every Thursday from from April through August. \nAll tours begin at 8 p.m. and last until approximately 10 p.m. A short slide or film presentation is shown followed by a walking tour of the building finally ending up at the 13″ Fitz-Clark refractor (one of only two in existence). If it’s a clear night you would be shown whatever celestial objects are within range of the telescope that night. The tours are free of charge but you must have a reservation. To make a reservation call 412-321-2400 between the hours of 1:00 p.m. and 5:00 p.m. Monday through Friday.
URL:https://playpittsburgh.com/event/allegheny-observatory-tour-19/
LOCATION:Allegheny Observatory\, 159 Riverview Ave\, Pittsburgh\, PA\, 15214\, United States
CATEGORIES:Free
GEO:40.4821487;-80.0205428
X-APPLE-STRUCTURED-LOCATION;VALUE=URI;X-ADDRESS=Allegheny Observatory 159 Riverview Ave Pittsburgh PA 15214 United States;X-APPLE-RADIUS=500;X-TITLE=159 Riverview Ave:geo:-80.0205428,40.4821487
END:VEVENT
END:VCALENDAR