BEGIN:VCALENDAR
VERSION:2.0
PRODID:-//Play Pittsburgh - ECPv6.15.20//NONSGML v1.0//EN
CALSCALE:GREGORIAN
METHOD:PUBLISH
X-ORIGINAL-URL:https://playpittsburgh.com
X-WR-CALDESC:Events for Play Pittsburgh
REFRESH-INTERVAL;VALUE=DURATION:PT1H
X-Robots-Tag:noindex
X-PUBLISHED-TTL:PT1H
BEGIN:VTIMEZONE
TZID:America/New_York
BEGIN:DAYLIGHT
TZOFFSETFROM:-0500
TZOFFSETTO:-0400
TZNAME:EDT
DTSTART:20130310T070000
END:DAYLIGHT
BEGIN:STANDARD
TZOFFSETFROM:-0400
TZOFFSETTO:-0500
TZNAME:EST
DTSTART:20131103T060000
END:STANDARD
BEGIN:DAYLIGHT
TZOFFSETFROM:-0500
TZOFFSETTO:-0400
TZNAME:EDT
DTSTART:20140309T070000
END:DAYLIGHT
BEGIN:STANDARD
TZOFFSETFROM:-0400
TZOFFSETTO:-0500
TZNAME:EST
DTSTART:20141102T060000
END:STANDARD
BEGIN:DAYLIGHT
TZOFFSETFROM:-0500
TZOFFSETTO:-0400
TZNAME:EDT
DTSTART:20150308T070000
END:DAYLIGHT
BEGIN:STANDARD
TZOFFSETFROM:-0400
TZOFFSETTO:-0500
TZNAME:EST
DTSTART:20151101T060000
END:STANDARD
BEGIN:DAYLIGHT
TZOFFSETFROM:-0500
TZOFFSETTO:-0400
TZNAME:EDT
DTSTART:20160313T070000
END:DAYLIGHT
BEGIN:STANDARD
TZOFFSETFROM:-0400
TZOFFSETTO:-0500
TZNAME:EST
DTSTART:20161106T060000
END:STANDARD
END:VTIMEZONE
BEGIN:VEVENT
DTSTART;TZID=America/New_York:20150327T183000
DTEND;TZID=America/New_York:20150327T203000
DTSTAMP:20260422T045836
CREATED:20150324T192846Z
LAST-MODIFIED:20150324T192846Z
UID:5534-1427481000-1427488200@playpittsburgh.com
SUMMARY:Annual Flashlight Easter Egg Hunt at Alameda Park
DESCRIPTION:Take part in the Butler County Parks and Recreation Department annual Flashlight Easter Egg Hunt March 27\, 2015! \nCome out to Alameda Park for a fun-filled hunt like you have never done before. Easter eggs have been hidden all around the Masonic Shelter and playground areas! This event is designed for children ages toddler thru 10. Bring your flashlight and meet up at the Masonic Shelter for popcorn and hotdogs. \nRumor has it we will also be visited by a very special furry friend! \nThe Flashlight Easter Egg Hunt will take place at the Masonic Shelter from 6:30pm-8:30pm. \nPre-register by March 6th and your cost is only $5.00. After March 6th the fee is $7.00. Register early and save! Pre-registration is required. \nDon’t forget your flashlight!
URL:https://playpittsburgh.com/event/annual-flashlight-easter-egg-hunt-at-alameda-park/
LOCATION:Alameda Park\, 184 Alameda Park Road\, Butler\, PA\, 16001\, United States
GEO:40.876105;-79.929832
X-APPLE-STRUCTURED-LOCATION;VALUE=URI;X-ADDRESS=Alameda Park 184 Alameda Park Road Butler PA 16001 United States;X-APPLE-RADIUS=500;X-TITLE=184 Alameda Park Road:geo:-79.929832,40.876105
END:VEVENT
BEGIN:VEVENT
DTSTART;TZID=America/New_York:20141122T170000
DTEND;TZID=America/New_York:20141122T200000
DTSTAMP:20260422T045836
CREATED:20141103T022725Z
LAST-MODIFIED:20141103T022725Z
UID:4333-1416675600-1416686400@playpittsburgh.com
SUMMARY:Flashlight Candy Cane Hunt
DESCRIPTION:Join us for what is sure to be a fun evening. We are having our Annual Light Up Night of Alameda Park\, and we want you to join us! Divine Ridge\, a praise band from Butler\, will lead us in singing all of our favorite Christmas Carols. We are also going to be looking for all the candy canes that have been rumored to be hidden around the Carousel Shelter! Bring your flashlight and after decorating a bag for the candy canes\, we will go and look for the hidden candy canes. In between our searches we can enjoy some hot chocolate and popcorn while singing carols with Divine Ridge and our special guest Santa! Pre-registration is required. The cost is $5.00 per child for pre-registration up through November 7. Registration after November 7 will be $7.00. Save when you register early! The fun starts at 5:00 p.m. at the Carousel Shelter.
URL:https://playpittsburgh.com/event/flashlight-candy-cane-hunt/
LOCATION:Alameda Park\, 184 Alameda Park Road\, Butler\, PA\, 16001\, United States
ATTACH;FMTTYPE=:
GEO:40.876105;-79.929832
X-APPLE-STRUCTURED-LOCATION;VALUE=URI;X-ADDRESS=Alameda Park 184 Alameda Park Road Butler PA 16001 United States;X-APPLE-RADIUS=500;X-TITLE=184 Alameda Park Road:geo:-79.929832,40.876105
END:VEVENT
BEGIN:VEVENT
DTSTART;TZID=America/New_York:20140929T090000
DTEND;TZID=America/New_York:20140929T170000
DTSTAMP:20260422T045836
CREATED:20140830T170644Z
LAST-MODIFIED:20140830T170644Z
UID:3313-1411981200-1412010000@playpittsburgh.com
SUMMARY:Alameda Septemberfest
DESCRIPTION:The Alameda Septemberfest (formerly Alameda Fall Fest)\, Fishing Tournament\, Car Cruise\,The Toot and Scoot 5k\, and The Craft and Vendor Show Sunday\, September 29 The 16th Annual Fall Fest is back\, and we have a new look! Admission is still FREE! Fees for vendors\, car cruisers\, anglers\, and 5k participants can be found at the Butler County Parks and Recreation Office\, if not listed below. We still have our Award Winning Youth Fishing Tournament (yes\, we have live fish in Alameda Pool)\, along with games\, a petting zoo\, mini-pony rides\, face-painting\, inflatable jump castles and slide\, activities\, music\, prizes\, and the Annual Alameda Fall Fest Car Cruise put on by Butler Pentastars Car Club. This year we are introducing our new Craft and Vendor Show\, along with welcoming the Butler Lions Club Toot and Scoot 5k! We will have food vendors\, crafters\, and vendors of all types with us during the Fall Fest. The Craft and Vendor Show will be from 9:00 a.m. until 5:p.m.
URL:https://playpittsburgh.com/event/alameda-septemberfest/
LOCATION:Alameda Park\, 184 Alameda Park Road\, Butler\, PA\, 16001\, United States
CATEGORIES:Festivals,Free,Outdoor
GEO:40.876105;-79.929832
X-APPLE-STRUCTURED-LOCATION;VALUE=URI;X-ADDRESS=Alameda Park 184 Alameda Park Road Butler PA 16001 United States;X-APPLE-RADIUS=500;X-TITLE=184 Alameda Park Road:geo:-79.929832,40.876105
END:VEVENT
END:VCALENDAR