BEGIN:VCALENDAR
VERSION:2.0
PRODID:-//Play Pittsburgh - ECPv6.15.20//NONSGML v1.0//EN
CALSCALE:GREGORIAN
METHOD:PUBLISH
X-ORIGINAL-URL:https://playpittsburgh.com
X-WR-CALDESC:Events for Play Pittsburgh
REFRESH-INTERVAL;VALUE=DURATION:PT1H
X-Robots-Tag:noindex
X-PUBLISHED-TTL:PT1H
BEGIN:VTIMEZONE
TZID:America/New_York
BEGIN:DAYLIGHT
TZOFFSETFROM:-0500
TZOFFSETTO:-0400
TZNAME:EDT
DTSTART:20130310T070000
END:DAYLIGHT
BEGIN:STANDARD
TZOFFSETFROM:-0400
TZOFFSETTO:-0500
TZNAME:EST
DTSTART:20131103T060000
END:STANDARD
BEGIN:DAYLIGHT
TZOFFSETFROM:-0500
TZOFFSETTO:-0400
TZNAME:EDT
DTSTART:20140309T070000
END:DAYLIGHT
BEGIN:STANDARD
TZOFFSETFROM:-0400
TZOFFSETTO:-0500
TZNAME:EST
DTSTART:20141102T060000
END:STANDARD
BEGIN:DAYLIGHT
TZOFFSETFROM:-0500
TZOFFSETTO:-0400
TZNAME:EDT
DTSTART:20150308T070000
END:DAYLIGHT
BEGIN:STANDARD
TZOFFSETFROM:-0400
TZOFFSETTO:-0500
TZNAME:EST
DTSTART:20151101T060000
END:STANDARD
END:VTIMEZONE
BEGIN:VEVENT
DTSTART;TZID=America/New_York:20140823T120000
DTEND;TZID=America/New_York:20140823T160000
DTSTAMP:20260422T053050
CREATED:20140729T212836Z
LAST-MODIFIED:20140729T212836Z
UID:2906-1408795200-1408809600@playpittsburgh.com
SUMMARY:Family Outdoors Festival
DESCRIPTION:Join Venture Outdoors for an afternoon of outdoor fun for the whole family! The Venture Outdoors Family Outdoors Festival at Allegheny Commons has free beginner-friendly activities for everyone to experience. Try a Tyke Hike\, scaling a climbing wall\, paddling a kayak on Lake Elizabeth\, using a GPS unit to find secret treasures\, biking around the park or participating in crafts and other activities for kids of all ages.
URL:https://playpittsburgh.com/event/family-outdoors-festival/
LOCATION:Allegheny Commons Park\, Arch Street\, Pittsburgh\, PA\, 15221\, United States
CATEGORIES:Festivals,Free,Outdoor
ORGANIZER;CN="Venture Outdoors":MAILTO:nfo@ventureoutdoors.org
GEO:40.4556975;-80.0088202
X-APPLE-STRUCTURED-LOCATION;VALUE=URI;X-ADDRESS=Allegheny Commons Park Arch Street Pittsburgh PA 15221 United States;X-APPLE-RADIUS=500;X-TITLE=Arch Street:geo:-80.0088202,40.4556975
END:VEVENT
BEGIN:VEVENT
DTSTART;TZID=America/New_York:20140521T100000
DTEND;TZID=America/New_York:20140521T113000
DTSTAMP:20260422T053050
CREATED:20140507T174501Z
LAST-MODIFIED:20140507T174501Z
UID:1214-1400666400-1400671800@playpittsburgh.com
SUMMARY:Tykes & Tandems at Allegheny Commons
DESCRIPTION:Join Venture Outdoors at Allegheny Commons for a Tykes & Tandems kayak experience. Start with a walk along the paved paths through the park\, share your favorite nature stories and end at Lake Elizabeth where the kayaks await! No experience needed. Kayak lesson and snack are included. Minimum weight is 35 pounds. One adult per child on site while kayaking is required. Pre-registration is required.
URL:https://playpittsburgh.com/event/tykes-tandems-at-allegheny-commons/
LOCATION:Allegheny Commons Park\, Arch Street\, Pittsburgh\, PA\, 15221\, United States
CATEGORIES:Outdoor
ORGANIZER;CN="Venture Outdoors":MAILTO:nfo@ventureoutdoors.org
GEO:40.4556975;-80.0088202
X-APPLE-STRUCTURED-LOCATION;VALUE=URI;X-ADDRESS=Allegheny Commons Park Arch Street Pittsburgh PA 15221 United States;X-APPLE-RADIUS=500;X-TITLE=Arch Street:geo:-80.0088202,40.4556975
END:VEVENT
BEGIN:VEVENT
DTSTART;TZID=America/New_York:20140521T100000
DTEND;TZID=America/New_York:20140521T113000
DTSTAMP:20260422T053050
CREATED:20140507T174501Z
LAST-MODIFIED:20140507T174501Z
UID:6114-1400666400-1400671800@playpittsburgh.com
SUMMARY:Tykes & Tandems at Allegheny Commons
DESCRIPTION:Join Venture Outdoors at Allegheny Commons for a Tykes & Tandems kayak experience. Start with a walk along the paved paths through the park\, share your favorite nature stories and end at Lake Elizabeth where the kayaks await! No experience needed. Kayak lesson and snack are included. Minimum weight is 35 pounds. One adult per child on site while kayaking is required. Pre-registration is required.
URL:https://playpittsburgh.com/event/tykes-tandems-at-allegheny-commons-2/
LOCATION:Allegheny Commons Park\, Arch Street\, Pittsburgh\, PA\, 15221\, United States
CATEGORIES:Outdoor
ORGANIZER;CN="Venture Outdoors":MAILTO:nfo@ventureoutdoors.org
GEO:40.4556975;-80.0088202
X-APPLE-STRUCTURED-LOCATION;VALUE=URI;X-ADDRESS=Allegheny Commons Park Arch Street Pittsburgh PA 15221 United States;X-APPLE-RADIUS=500;X-TITLE=Arch Street:geo:-80.0088202,40.4556975
END:VEVENT
BEGIN:VEVENT
DTSTART;TZID=America/New_York:20140515T100000
DTEND;TZID=America/New_York:20140515T113000
DTSTAMP:20260422T053050
CREATED:20140507T173733Z
LAST-MODIFIED:20140717T171906Z
UID:1212-1400148000-1400153400@playpittsburgh.com
SUMMARY:Tyke Hike at Schenley Park
DESCRIPTION:Come and join Venture Outdoors for a Tyke Hike! Parents and caregivers with children: newborn to 5 years old are welcome. Explore nature\, touch the trees and look for little critters on these easy walks in the park. Hikes will be trail-friendly for strollers\, slings\, child-carriers or on foot. Strollers must be able to maneuver off road. Children on foot should wear tennis shoes. Crafts and snacks provided after the hike! Weather permitting. Pre-registration requested. Walk-ups are welcome at $12 per child. 
URL:https://playpittsburgh.com/event/tyke-hyke-at-schenley-park/
LOCATION:Schenley Park\, 5410 Bartlett St\, Pittsburgh\, PA\, 15217\, United States
CATEGORIES:Outdoor
ORGANIZER;CN="Venture Outdoors":MAILTO:nfo@ventureoutdoors.org
GEO:40.4331473;-79.9360299
X-APPLE-STRUCTURED-LOCATION;VALUE=URI;X-ADDRESS=Schenley Park 5410 Bartlett St Pittsburgh PA 15217 United States;X-APPLE-RADIUS=500;X-TITLE=5410 Bartlett St:geo:-79.9360299,40.4331473
END:VEVENT
BEGIN:VEVENT
DTSTART;TZID=America/New_York:20140507T100000
DTEND;TZID=America/New_York:20140507T113000
DTSTAMP:20260422T053050
CREATED:20140507T172237Z
LAST-MODIFIED:20140717T171911Z
UID:1209-1399456800-1399462200@playpittsburgh.com
SUMMARY:Tyke Hike at Mellon Park
DESCRIPTION:Come and join Venture Outdoors for a Tyke Hike! Parents and caregivers with children: newborn to 5 years old are welcome. Explore nature\, touch the trees and look for little critters on these easy walks in the park. Hikes will be trail-friendly for strollers\, slings\, child-carriers or on foot. Strollers must be able to maneuver off road. Children on foot should wear tennis shoes. Crafts and snacks provided after the hike! Weather permitting. Pre-registration requested. Walk-ups are welcome at $12 per child. 
URL:https://playpittsburgh.com/event/tyke-hyke-at-mellon-park/
LOCATION:Mellon Park\, 6300 Fifth Ave\, Pittsburgh \, PA\, 15232\, United States
CATEGORIES:Outdoor
ORGANIZER;CN="Venture Outdoors":MAILTO:nfo@ventureoutdoors.org
GEO:40.4528685;-79.9207289
X-APPLE-STRUCTURED-LOCATION;VALUE=URI;X-ADDRESS=Mellon Park 6300 Fifth Ave Pittsburgh  PA 15232 United States;X-APPLE-RADIUS=500;X-TITLE=6300 Fifth Ave:geo:-79.9207289,40.4528685
END:VEVENT
BEGIN:VEVENT
DTSTART;TZID=America/New_York:20140507T080000
DTEND;TZID=America/New_York:20140507T170000
DTSTAMP:20260422T053050
CREATED:20140507T180944Z
LAST-MODIFIED:20140717T171919Z
UID:1216-1399449600-1399482000@playpittsburgh.com
SUMMARY:Tyke Hike @ North Park
DESCRIPTION:Come and join Venture Outdoors for a Tyke Hike! Parents and caregivers with children: newborn to 5 years old are welcome. Explore nature\, touch the trees and look for little critters on these easy walks in the park. Hikes will be trail-friendly for strollers\, slings\, child-carriers or on foot. Strollers must be able to maneuver off road. Children on foot should wear tennis shoes. Crafts and snacks provided after the hike! Weather permitting. Pre-registration requested. Walk-ups are welcome at $12 per child. 
URL:https://playpittsburgh.com/event/tyke-hyke-at-north-park/
LOCATION:North Park\, Pearce Mill Road\, Pittsburgh\, PA\, 15101\, United States
CATEGORIES:Outdoor
ORGANIZER;CN="Venture Outdoors":MAILTO:nfo@ventureoutdoors.org
GEO:40.6060347;-80.0069905
X-APPLE-STRUCTURED-LOCATION;VALUE=URI;X-ADDRESS=North Park Pearce Mill Road Pittsburgh PA 15101 United States;X-APPLE-RADIUS=500;X-TITLE=Pearce Mill Road:geo:-80.0069905,40.6060347
END:VEVENT
END:VCALENDAR