BEGIN:VCALENDAR
VERSION:2.0
PRODID:-//Play Pittsburgh - ECPv6.15.20//NONSGML v1.0//EN
CALSCALE:GREGORIAN
METHOD:PUBLISH
X-WR-CALNAME:Play Pittsburgh
X-ORIGINAL-URL:https://playpittsburgh.com
X-WR-CALDESC:Events for Play Pittsburgh
REFRESH-INTERVAL;VALUE=DURATION:PT1H
X-Robots-Tag:noindex
X-PUBLISHED-TTL:PT1H
BEGIN:VTIMEZONE
TZID:America/New_York
BEGIN:DAYLIGHT
TZOFFSETFROM:-0500
TZOFFSETTO:-0400
TZNAME:EDT
DTSTART:20130310T070000
END:DAYLIGHT
BEGIN:STANDARD
TZOFFSETFROM:-0400
TZOFFSETTO:-0500
TZNAME:EST
DTSTART:20131103T060000
END:STANDARD
BEGIN:DAYLIGHT
TZOFFSETFROM:-0500
TZOFFSETTO:-0400
TZNAME:EDT
DTSTART:20140309T070000
END:DAYLIGHT
BEGIN:STANDARD
TZOFFSETFROM:-0400
TZOFFSETTO:-0500
TZNAME:EST
DTSTART:20141102T060000
END:STANDARD
BEGIN:DAYLIGHT
TZOFFSETFROM:-0500
TZOFFSETTO:-0400
TZNAME:EDT
DTSTART:20150308T070000
END:DAYLIGHT
BEGIN:STANDARD
TZOFFSETFROM:-0400
TZOFFSETTO:-0500
TZNAME:EST
DTSTART:20151101T060000
END:STANDARD
END:VTIMEZONE
BEGIN:VEVENT
DTSTART;TZID=America/New_York:20140610T100000
DTEND;TZID=America/New_York:20140610T113000
DTSTAMP:20260422T021158
CREATED:20140424T201303Z
LAST-MODIFIED:20140424T201303Z
UID:970-1402394400-1402399800@playpittsburgh.com
SUMMARY:KidsPlay at Market Square
DESCRIPTION:Enliven and enrich your child’s summer with KidsPlay at Market Square. Children and their families/caregivers can enjoy fun and educational programs and activities complete with crafts and special guests. Children can plant their own tree one week\, see how cartoons come to life the next\, and even touch a real fire truck\, all in Downtown’s historic Market Square. The free program series produced by the Pittsburgh Downtown Partnership (PDP)\, introduces children to a new and exciting learning experience in one of Downtown’s most popular destinations. \n Programs are geared toward pre-school aged children and welcome families\, caregivers\, schools\, day cares and camps. \nFollowing\, KidsPlay be sure to visit with Carnegie Library of Pittsburgh’s Reading Room on Tuesdays. After the special children’s programming\, visitors can walk a few short steps to the mobile library and choose a new book for only $1 or $2.
URL:https://playpittsburgh.com/event/kidsplay-at-market-square/2014-06-10/
LOCATION:Market Square\, 23 Market Place\, Forbes Avenue and Market Place\, Pittsburgh\, PA\, 15222\, United States
CATEGORIES:Free,Outdoor
GEO:40.4400253;-80.0030034
X-APPLE-STRUCTURED-LOCATION;VALUE=URI;X-ADDRESS=Market Square 23 Market Place Forbes Avenue and Market Place Pittsburgh PA 15222 United States;X-APPLE-RADIUS=500;X-TITLE=23 Market Place\, Forbes Avenue and Market Place:geo:-80.0030034,40.4400253
END:VEVENT
END:VCALENDAR