BEGIN:VCALENDAR
VERSION:2.0
PRODID:-//Play Pittsburgh - ECPv6.15.20//NONSGML v1.0//EN
CALSCALE:GREGORIAN
METHOD:PUBLISH
X-WR-CALNAME:Play Pittsburgh
X-ORIGINAL-URL:https://playpittsburgh.com
X-WR-CALDESC:Events for Play Pittsburgh
REFRESH-INTERVAL;VALUE=DURATION:PT1H
X-Robots-Tag:noindex
X-PUBLISHED-TTL:PT1H
BEGIN:VTIMEZONE
TZID:America/New_York
BEGIN:DAYLIGHT
TZOFFSETFROM:-0500
TZOFFSETTO:-0400
TZNAME:EDT
DTSTART:20130310T070000
END:DAYLIGHT
BEGIN:STANDARD
TZOFFSETFROM:-0400
TZOFFSETTO:-0500
TZNAME:EST
DTSTART:20131103T060000
END:STANDARD
BEGIN:DAYLIGHT
TZOFFSETFROM:-0500
TZOFFSETTO:-0400
TZNAME:EDT
DTSTART:20140309T070000
END:DAYLIGHT
BEGIN:STANDARD
TZOFFSETFROM:-0400
TZOFFSETTO:-0500
TZNAME:EST
DTSTART:20141102T060000
END:STANDARD
BEGIN:DAYLIGHT
TZOFFSETFROM:-0500
TZOFFSETTO:-0400
TZNAME:EDT
DTSTART:20150308T070000
END:DAYLIGHT
BEGIN:STANDARD
TZOFFSETFROM:-0400
TZOFFSETTO:-0500
TZNAME:EST
DTSTART:20151101T060000
END:STANDARD
END:VTIMEZONE
BEGIN:VEVENT
DTSTART;VALUE=DATE:20140822
DTEND;VALUE=DATE:20140825
DTSTAMP:20260422T093252
CREATED:20140507T213040Z
LAST-MODIFIED:20140507T213040Z
UID:1233-1408665600-1408924799@playpittsburgh.com
SUMMARY:Just Between Friends Consignment Sale
DESCRIPTION:Buy\, shop or sell gently used children’s items as the Just Between Friends sale.
URL:https://playpittsburgh.com/event/just-between-friends-consignment-sale/
LOCATION:Monroeville Convention Center\, 209 Mall Boulevard\, Monroeville \, PA\, 15146\, United States
GEO:40.4326326;-79.790801
X-APPLE-STRUCTURED-LOCATION;VALUE=URI;X-ADDRESS=Monroeville Convention Center 209 Mall Boulevard Monroeville  PA 15146 United States;X-APPLE-RADIUS=500;X-TITLE=209 Mall Boulevard:geo:-79.790801,40.4326326
END:VEVENT
END:VCALENDAR