BEGIN:VCALENDAR
VERSION:2.0
PRODID:-//Play Pittsburgh - ECPv6.15.20//NONSGML v1.0//EN
CALSCALE:GREGORIAN
METHOD:PUBLISH
X-ORIGINAL-URL:https://playpittsburgh.com
X-WR-CALDESC:Events for Play Pittsburgh
REFRESH-INTERVAL;VALUE=DURATION:PT1H
X-Robots-Tag:noindex
X-PUBLISHED-TTL:PT1H
BEGIN:VTIMEZONE
TZID:America/New_York
BEGIN:DAYLIGHT
TZOFFSETFROM:-0500
TZOFFSETTO:-0400
TZNAME:EDT
DTSTART:20130310T070000
END:DAYLIGHT
BEGIN:STANDARD
TZOFFSETFROM:-0400
TZOFFSETTO:-0500
TZNAME:EST
DTSTART:20131103T060000
END:STANDARD
BEGIN:DAYLIGHT
TZOFFSETFROM:-0500
TZOFFSETTO:-0400
TZNAME:EDT
DTSTART:20140309T070000
END:DAYLIGHT
BEGIN:STANDARD
TZOFFSETFROM:-0400
TZOFFSETTO:-0500
TZNAME:EST
DTSTART:20141102T060000
END:STANDARD
BEGIN:DAYLIGHT
TZOFFSETFROM:-0500
TZOFFSETTO:-0400
TZNAME:EDT
DTSTART:20150308T070000
END:DAYLIGHT
BEGIN:STANDARD
TZOFFSETFROM:-0400
TZOFFSETTO:-0500
TZNAME:EST
DTSTART:20151101T060000
END:STANDARD
END:VTIMEZONE
BEGIN:VEVENT
DTSTART;TZID=America/New_York:20140608T090000
DTEND;TZID=America/New_York:20140608T150000
DTSTAMP:20260422T082427
CREATED:20140527T234257Z
LAST-MODIFIED:20140527T234257Z
UID:1795-1402218000-1402239600@playpittsburgh.com
SUMMARY:Pittsburgh Urban Chicken Coop Tour
DESCRIPTION:The Pittsburgh Urban Chicken Coop Tour is a one-day\, self-guided tour of urban chicken coops in the City of Pittsburgh brought to you by the Pittsburgh Pro-Poultry People (P4). \n  \nHow it Works:\nTickets can be purchased on the morning of the tour at several coffee shops\, stores\, homesteads\, and other locations that will be announced.  Stay tuned. \nOnce you purchase your ticket\, you will receive a map and list of addresses for all of the coops.  It is self guided from there\, but is spread throughout Pittsburgh\, so having your own transportation is necessary.  You can visit the coops in any order.  Pick a few or visit all of them! \nThere will likely be a guided bike tour as well\, but Pittsburgh being Pittsburgh\, we recommended this option for seasoned bikers. \n  \nWhat You’ll Get: \nThe tour seeks to educate visitors about keeping hens and delight them with garden ideas and backyard sustainability projects. Open to adults and children\, the tour showcases various styles of chicken coops and breeds. Urban chicken farmers are on hand at each location to discuss the how-to’s of chicken keeping. There are opportunities to photograph and get to know the chickens up close and personal. A wide-variety of coop styles\, as well as the surrounding backyard gardens\, make the tour interesting and fun for the whole family!
URL:https://playpittsburgh.com/event/pittsburgh-urban-chicken-coop-tour/
CATEGORIES:Outdoor
ORGANIZER;CN="Chicks in the Hood":MAILTO:pittsburgh.pro.poultry.people@gmail.com 
END:VEVENT
END:VCALENDAR