BEGIN:VCALENDAR
VERSION:2.0
PRODID:-//Play Pittsburgh - ECPv6.15.20//NONSGML v1.0//EN
CALSCALE:GREGORIAN
METHOD:PUBLISH
X-WR-CALNAME:Play Pittsburgh
X-ORIGINAL-URL:https://playpittsburgh.com
X-WR-CALDESC:Events for Play Pittsburgh
REFRESH-INTERVAL;VALUE=DURATION:PT1H
X-Robots-Tag:noindex
X-PUBLISHED-TTL:PT1H
BEGIN:VTIMEZONE
TZID:America/New_York
BEGIN:DAYLIGHT
TZOFFSETFROM:-0500
TZOFFSETTO:-0400
TZNAME:EDT
DTSTART:20150308T070000
END:DAYLIGHT
BEGIN:STANDARD
TZOFFSETFROM:-0400
TZOFFSETTO:-0500
TZNAME:EST
DTSTART:20151101T060000
END:STANDARD
BEGIN:DAYLIGHT
TZOFFSETFROM:-0500
TZOFFSETTO:-0400
TZNAME:EDT
DTSTART:20160313T070000
END:DAYLIGHT
BEGIN:STANDARD
TZOFFSETFROM:-0400
TZOFFSETTO:-0500
TZNAME:EST
DTSTART:20161106T060000
END:STANDARD
BEGIN:DAYLIGHT
TZOFFSETFROM:-0500
TZOFFSETTO:-0400
TZNAME:EDT
DTSTART:20170312T070000
END:DAYLIGHT
BEGIN:STANDARD
TZOFFSETFROM:-0400
TZOFFSETTO:-0500
TZNAME:EST
DTSTART:20171105T060000
END:STANDARD
END:VTIMEZONE
BEGIN:VEVENT
DTSTART;TZID=America/New_York:20161031T103000
DTEND;TZID=America/New_York:20161031T110000
DTSTAMP:20260421T133142
CREATED:20150325T220723Z
LAST-MODIFIED:20150325T220723Z
UID:9779-1477909800-1477911600@playpittsburgh.com
SUMMARY:Story time at Soergel Orchards
DESCRIPTION:Join Soergel Orchards for their weekly story time with songs\, coloring page\, and craft. The group meets in front of McIntosh Hall.
URL:https://playpittsburgh.com/event/story-time-at-soergel-orchards-2/2016-10-31/
LOCATION:Soergel Orchards\, 2573 Brandt School Road\, Wexford\, PA\, 15090\, United States
CATEGORIES:Free
GEO:40.612184;-80.092151
X-APPLE-STRUCTURED-LOCATION;VALUE=URI;X-ADDRESS=Soergel Orchards 2573 Brandt School Road Wexford PA 15090 United States;X-APPLE-RADIUS=500;X-TITLE=2573 Brandt School Road:geo:-80.092151,40.612184
END:VEVENT
BEGIN:VEVENT
DTSTART;TZID=America/New_York:20161028T100000
DTEND;TZID=America/New_York:20161028T140000
DTSTAMP:20260421T133142
CREATED:20160729T141303Z
LAST-MODIFIED:20160729T141303Z
UID:10070-1477648800-1477663200@playpittsburgh.com
SUMMARY:Mellon Park Farmers Market
DESCRIPTION:Wide variety of farm-fresh fruits\, vegetables\, meats\, cheese and baked goods conveniently located in the city! Visit the Farmers Market every Friday morning and afternoon in Mellon Park through November 18th.
URL:https://playpittsburgh.com/event/mellon-park-farmers-market/2016-10-28/
LOCATION:Mellon Square\, 6300 Fifth Ave\, Pittsburgh\, PA\, 15232\, United States
GEO:40.4528685;-79.9207289
X-APPLE-STRUCTURED-LOCATION;VALUE=URI;X-ADDRESS=Mellon Square 6300 Fifth Ave Pittsburgh PA 15232 United States;X-APPLE-RADIUS=500;X-TITLE=6300 Fifth Ave:geo:-79.9207289,40.4528685
END:VEVENT
BEGIN:VEVENT
DTSTART;TZID=America/New_York:20161024T110000
DTEND;TZID=America/New_York:20161024T120000
DTSTAMP:20260421T133142
CREATED:20160731T134257Z
LAST-MODIFIED:20160731T134257Z
UID:10134-1477306800-1477310400@playpittsburgh.com
SUMMARY:Free Toddler Storytime at Learning Express Cranberry
DESCRIPTION:Come for a snack\, story and craft every Monday from 11am – 12pm at the Learning Express in Cranberry. Free but RSVP required for material prep!
URL:https://playpittsburgh.com/event/free-toddler-storytime-learning-express-cranberry/2016-10-24/
LOCATION:Learning Express Cranberry\, 20418 Route 19\, Cranberry Township\, PA\, 16066\, United States
GEO:40.6945626;-80.104383
X-APPLE-STRUCTURED-LOCATION;VALUE=URI;X-ADDRESS=Learning Express Cranberry 20418 Route 19 Cranberry Township PA 16066 United States;X-APPLE-RADIUS=500;X-TITLE=20418 Route 19:geo:-80.104383,40.6945626
END:VEVENT
BEGIN:VEVENT
DTSTART;TZID=America/New_York:20161024T103000
DTEND;TZID=America/New_York:20161024T110000
DTSTAMP:20260421T133142
CREATED:20150325T220723Z
LAST-MODIFIED:20150325T220723Z
UID:9778-1477305000-1477306800@playpittsburgh.com
SUMMARY:Story time at Soergel Orchards
DESCRIPTION:Join Soergel Orchards for their weekly story time with songs\, coloring page\, and craft. The group meets in front of McIntosh Hall.
URL:https://playpittsburgh.com/event/story-time-at-soergel-orchards-2/2016-10-24/
LOCATION:Soergel Orchards\, 2573 Brandt School Road\, Wexford\, PA\, 15090\, United States
CATEGORIES:Free
GEO:40.612184;-80.092151
X-APPLE-STRUCTURED-LOCATION;VALUE=URI;X-ADDRESS=Soergel Orchards 2573 Brandt School Road Wexford PA 15090 United States;X-APPLE-RADIUS=500;X-TITLE=2573 Brandt School Road:geo:-80.092151,40.612184
END:VEVENT
BEGIN:VEVENT
DTSTART;TZID=America/New_York:20161021T100000
DTEND;TZID=America/New_York:20161021T140000
DTSTAMP:20260421T133142
CREATED:20160729T141303Z
LAST-MODIFIED:20160729T141303Z
UID:10069-1477044000-1477058400@playpittsburgh.com
SUMMARY:Mellon Park Farmers Market
DESCRIPTION:Wide variety of farm-fresh fruits\, vegetables\, meats\, cheese and baked goods conveniently located in the city! Visit the Farmers Market every Friday morning and afternoon in Mellon Park through November 18th.
URL:https://playpittsburgh.com/event/mellon-park-farmers-market/2016-10-21/
LOCATION:Mellon Square\, 6300 Fifth Ave\, Pittsburgh\, PA\, 15232\, United States
GEO:40.4528685;-79.9207289
X-APPLE-STRUCTURED-LOCATION;VALUE=URI;X-ADDRESS=Mellon Square 6300 Fifth Ave Pittsburgh PA 15232 United States;X-APPLE-RADIUS=500;X-TITLE=6300 Fifth Ave:geo:-79.9207289,40.4528685
END:VEVENT
BEGIN:VEVENT
DTSTART;TZID=America/New_York:20161017T110000
DTEND;TZID=America/New_York:20161017T120000
DTSTAMP:20260421T133142
CREATED:20160731T134257Z
LAST-MODIFIED:20160731T134257Z
UID:10133-1476702000-1476705600@playpittsburgh.com
SUMMARY:Free Toddler Storytime at Learning Express Cranberry
DESCRIPTION:Come for a snack\, story and craft every Monday from 11am – 12pm at the Learning Express in Cranberry. Free but RSVP required for material prep!
URL:https://playpittsburgh.com/event/free-toddler-storytime-learning-express-cranberry/2016-10-17/
LOCATION:Learning Express Cranberry\, 20418 Route 19\, Cranberry Township\, PA\, 16066\, United States
GEO:40.6945626;-80.104383
X-APPLE-STRUCTURED-LOCATION;VALUE=URI;X-ADDRESS=Learning Express Cranberry 20418 Route 19 Cranberry Township PA 16066 United States;X-APPLE-RADIUS=500;X-TITLE=20418 Route 19:geo:-80.104383,40.6945626
END:VEVENT
BEGIN:VEVENT
DTSTART;TZID=America/New_York:20161017T103000
DTEND;TZID=America/New_York:20161017T110000
DTSTAMP:20260421T133142
CREATED:20150325T220723Z
LAST-MODIFIED:20150325T220723Z
UID:9777-1476700200-1476702000@playpittsburgh.com
SUMMARY:Story time at Soergel Orchards
DESCRIPTION:Join Soergel Orchards for their weekly story time with songs\, coloring page\, and craft. The group meets in front of McIntosh Hall.
URL:https://playpittsburgh.com/event/story-time-at-soergel-orchards-2/2016-10-17/
LOCATION:Soergel Orchards\, 2573 Brandt School Road\, Wexford\, PA\, 15090\, United States
CATEGORIES:Free
GEO:40.612184;-80.092151
X-APPLE-STRUCTURED-LOCATION;VALUE=URI;X-ADDRESS=Soergel Orchards 2573 Brandt School Road Wexford PA 15090 United States;X-APPLE-RADIUS=500;X-TITLE=2573 Brandt School Road:geo:-80.092151,40.612184
END:VEVENT
BEGIN:VEVENT
DTSTART;TZID=America/New_York:20161014T100000
DTEND;TZID=America/New_York:20161014T140000
DTSTAMP:20260421T133142
CREATED:20160729T141303Z
LAST-MODIFIED:20160729T141303Z
UID:10068-1476439200-1476453600@playpittsburgh.com
SUMMARY:Mellon Park Farmers Market
DESCRIPTION:Wide variety of farm-fresh fruits\, vegetables\, meats\, cheese and baked goods conveniently located in the city! Visit the Farmers Market every Friday morning and afternoon in Mellon Park through November 18th.
URL:https://playpittsburgh.com/event/mellon-park-farmers-market/2016-10-14/
LOCATION:Mellon Square\, 6300 Fifth Ave\, Pittsburgh\, PA\, 15232\, United States
GEO:40.4528685;-79.9207289
X-APPLE-STRUCTURED-LOCATION;VALUE=URI;X-ADDRESS=Mellon Square 6300 Fifth Ave Pittsburgh PA 15232 United States;X-APPLE-RADIUS=500;X-TITLE=6300 Fifth Ave:geo:-79.9207289,40.4528685
END:VEVENT
BEGIN:VEVENT
DTSTART;TZID=America/New_York:20161010T110000
DTEND;TZID=America/New_York:20161010T120000
DTSTAMP:20260421T133142
CREATED:20160731T134257Z
LAST-MODIFIED:20160731T134257Z
UID:10132-1476097200-1476100800@playpittsburgh.com
SUMMARY:Free Toddler Storytime at Learning Express Cranberry
DESCRIPTION:Come for a snack\, story and craft every Monday from 11am – 12pm at the Learning Express in Cranberry. Free but RSVP required for material prep!
URL:https://playpittsburgh.com/event/free-toddler-storytime-learning-express-cranberry/2016-10-10/
LOCATION:Learning Express Cranberry\, 20418 Route 19\, Cranberry Township\, PA\, 16066\, United States
GEO:40.6945626;-80.104383
X-APPLE-STRUCTURED-LOCATION;VALUE=URI;X-ADDRESS=Learning Express Cranberry 20418 Route 19 Cranberry Township PA 16066 United States;X-APPLE-RADIUS=500;X-TITLE=20418 Route 19:geo:-80.104383,40.6945626
END:VEVENT
BEGIN:VEVENT
DTSTART;TZID=America/New_York:20161010T103000
DTEND;TZID=America/New_York:20161010T110000
DTSTAMP:20260421T133142
CREATED:20150325T220723Z
LAST-MODIFIED:20150325T220723Z
UID:9776-1476095400-1476097200@playpittsburgh.com
SUMMARY:Story time at Soergel Orchards
DESCRIPTION:Join Soergel Orchards for their weekly story time with songs\, coloring page\, and craft. The group meets in front of McIntosh Hall.
URL:https://playpittsburgh.com/event/story-time-at-soergel-orchards-2/2016-10-10/
LOCATION:Soergel Orchards\, 2573 Brandt School Road\, Wexford\, PA\, 15090\, United States
CATEGORIES:Free
GEO:40.612184;-80.092151
X-APPLE-STRUCTURED-LOCATION;VALUE=URI;X-ADDRESS=Soergel Orchards 2573 Brandt School Road Wexford PA 15090 United States;X-APPLE-RADIUS=500;X-TITLE=2573 Brandt School Road:geo:-80.092151,40.612184
END:VEVENT
BEGIN:VEVENT
DTSTART;TZID=America/New_York:20161007T100000
DTEND;TZID=America/New_York:20161007T140000
DTSTAMP:20260421T133142
CREATED:20160729T141303Z
LAST-MODIFIED:20160729T141303Z
UID:10067-1475834400-1475848800@playpittsburgh.com
SUMMARY:Mellon Park Farmers Market
DESCRIPTION:Wide variety of farm-fresh fruits\, vegetables\, meats\, cheese and baked goods conveniently located in the city! Visit the Farmers Market every Friday morning and afternoon in Mellon Park through November 18th.
URL:https://playpittsburgh.com/event/mellon-park-farmers-market/2016-10-07/
LOCATION:Mellon Square\, 6300 Fifth Ave\, Pittsburgh\, PA\, 15232\, United States
GEO:40.4528685;-79.9207289
X-APPLE-STRUCTURED-LOCATION;VALUE=URI;X-ADDRESS=Mellon Square 6300 Fifth Ave Pittsburgh PA 15232 United States;X-APPLE-RADIUS=500;X-TITLE=6300 Fifth Ave:geo:-79.9207289,40.4528685
END:VEVENT
BEGIN:VEVENT
DTSTART;TZID=America/New_York:20161003T110000
DTEND;TZID=America/New_York:20161003T120000
DTSTAMP:20260421T133142
CREATED:20160731T134257Z
LAST-MODIFIED:20160731T134257Z
UID:10131-1475492400-1475496000@playpittsburgh.com
SUMMARY:Free Toddler Storytime at Learning Express Cranberry
DESCRIPTION:Come for a snack\, story and craft every Monday from 11am – 12pm at the Learning Express in Cranberry. Free but RSVP required for material prep!
URL:https://playpittsburgh.com/event/free-toddler-storytime-learning-express-cranberry/2016-10-03/
LOCATION:Learning Express Cranberry\, 20418 Route 19\, Cranberry Township\, PA\, 16066\, United States
GEO:40.6945626;-80.104383
X-APPLE-STRUCTURED-LOCATION;VALUE=URI;X-ADDRESS=Learning Express Cranberry 20418 Route 19 Cranberry Township PA 16066 United States;X-APPLE-RADIUS=500;X-TITLE=20418 Route 19:geo:-80.104383,40.6945626
END:VEVENT
BEGIN:VEVENT
DTSTART;TZID=America/New_York:20161003T103000
DTEND;TZID=America/New_York:20161003T110000
DTSTAMP:20260421T133142
CREATED:20150325T220723Z
LAST-MODIFIED:20150325T220723Z
UID:9775-1475490600-1475492400@playpittsburgh.com
SUMMARY:Story time at Soergel Orchards
DESCRIPTION:Join Soergel Orchards for their weekly story time with songs\, coloring page\, and craft. The group meets in front of McIntosh Hall.
URL:https://playpittsburgh.com/event/story-time-at-soergel-orchards-2/2016-10-03/
LOCATION:Soergel Orchards\, 2573 Brandt School Road\, Wexford\, PA\, 15090\, United States
CATEGORIES:Free
GEO:40.612184;-80.092151
X-APPLE-STRUCTURED-LOCATION;VALUE=URI;X-ADDRESS=Soergel Orchards 2573 Brandt School Road Wexford PA 15090 United States;X-APPLE-RADIUS=500;X-TITLE=2573 Brandt School Road:geo:-80.092151,40.612184
END:VEVENT
BEGIN:VEVENT
DTSTART;TZID=America/New_York:20160930T173000
DTEND;TZID=America/New_York:20160930T203000
DTSTAMP:20260421T133142
CREATED:20160701T024428Z
LAST-MODIFIED:20160701T024428Z
UID:9346-1475256600-1475267400@playpittsburgh.com
SUMMARY:Snapology Parents Night Out
DESCRIPTION:Parents Night Out is a 2-3 hour window of opportunity for kids to play and create in the Discovery Center while parents and caregivers have some time to do whatever what they’d like! \nSnapology‘s educated and caring staff will watch over and guide your kiddos in building\, creating\, and using their imaginations. \nChildren ages 5+ may be dropped off. Children ages 1-4 are welcome\, but a parent must stay to supervise them.
URL:https://playpittsburgh.com/event/snapology-parents-night/2016-09-30/
LOCATION:Snapology (Bethel Park)\, 1699 Washington Rd\, Mt Lebanon\, PA\, 15228\, United States
CATEGORIES:Indoor Play
GEO:40.3491516;-80.0514502
X-APPLE-STRUCTURED-LOCATION;VALUE=URI;X-ADDRESS=Snapology (Bethel Park) 1699 Washington Rd Mt Lebanon PA 15228 United States;X-APPLE-RADIUS=500;X-TITLE=1699 Washington Rd:geo:-80.0514502,40.3491516
END:VEVENT
BEGIN:VEVENT
DTSTART;TZID=America/New_York:20160930T100000
DTEND;TZID=America/New_York:20160930T140000
DTSTAMP:20260421T133142
CREATED:20160729T141303Z
LAST-MODIFIED:20160729T141303Z
UID:10066-1475229600-1475244000@playpittsburgh.com
SUMMARY:Mellon Park Farmers Market
DESCRIPTION:Wide variety of farm-fresh fruits\, vegetables\, meats\, cheese and baked goods conveniently located in the city! Visit the Farmers Market every Friday morning and afternoon in Mellon Park through November 18th.
URL:https://playpittsburgh.com/event/mellon-park-farmers-market/2016-09-30/
LOCATION:Mellon Square\, 6300 Fifth Ave\, Pittsburgh\, PA\, 15232\, United States
GEO:40.4528685;-79.9207289
X-APPLE-STRUCTURED-LOCATION;VALUE=URI;X-ADDRESS=Mellon Square 6300 Fifth Ave Pittsburgh PA 15232 United States;X-APPLE-RADIUS=500;X-TITLE=6300 Fifth Ave:geo:-79.9207289,40.4528685
END:VEVENT
BEGIN:VEVENT
DTSTART;TZID=America/New_York:20160926T110000
DTEND;TZID=America/New_York:20160926T120000
DTSTAMP:20260421T133142
CREATED:20160731T134257Z
LAST-MODIFIED:20160731T134257Z
UID:10130-1474887600-1474891200@playpittsburgh.com
SUMMARY:Free Toddler Storytime at Learning Express Cranberry
DESCRIPTION:Come for a snack\, story and craft every Monday from 11am – 12pm at the Learning Express in Cranberry. Free but RSVP required for material prep!
URL:https://playpittsburgh.com/event/free-toddler-storytime-learning-express-cranberry/2016-09-26/
LOCATION:Learning Express Cranberry\, 20418 Route 19\, Cranberry Township\, PA\, 16066\, United States
GEO:40.6945626;-80.104383
X-APPLE-STRUCTURED-LOCATION;VALUE=URI;X-ADDRESS=Learning Express Cranberry 20418 Route 19 Cranberry Township PA 16066 United States;X-APPLE-RADIUS=500;X-TITLE=20418 Route 19:geo:-80.104383,40.6945626
END:VEVENT
BEGIN:VEVENT
DTSTART;TZID=America/New_York:20160926T103000
DTEND;TZID=America/New_York:20160926T110000
DTSTAMP:20260421T133142
CREATED:20150325T220723Z
LAST-MODIFIED:20150325T220723Z
UID:9774-1474885800-1474887600@playpittsburgh.com
SUMMARY:Story time at Soergel Orchards
DESCRIPTION:Join Soergel Orchards for their weekly story time with songs\, coloring page\, and craft. The group meets in front of McIntosh Hall.
URL:https://playpittsburgh.com/event/story-time-at-soergel-orchards-2/2016-09-26/
LOCATION:Soergel Orchards\, 2573 Brandt School Road\, Wexford\, PA\, 15090\, United States
CATEGORIES:Free
GEO:40.612184;-80.092151
X-APPLE-STRUCTURED-LOCATION;VALUE=URI;X-ADDRESS=Soergel Orchards 2573 Brandt School Road Wexford PA 15090 United States;X-APPLE-RADIUS=500;X-TITLE=2573 Brandt School Road:geo:-80.092151,40.612184
END:VEVENT
BEGIN:VEVENT
DTSTART;TZID=America/New_York:20160923T173000
DTEND;TZID=America/New_York:20160923T203000
DTSTAMP:20260421T133142
CREATED:20160701T024428Z
LAST-MODIFIED:20160701T024428Z
UID:9344-1474651800-1474662600@playpittsburgh.com
SUMMARY:Snapology Parents Night Out
DESCRIPTION:Parents Night Out is a 2-3 hour window of opportunity for kids to play and create in the Discovery Center while parents and caregivers have some time to do whatever what they’d like! \nSnapology‘s educated and caring staff will watch over and guide your kiddos in building\, creating\, and using their imaginations. \nChildren ages 5+ may be dropped off. Children ages 1-4 are welcome\, but a parent must stay to supervise them.
URL:https://playpittsburgh.com/event/snapology-parents-night/2016-09-23/
LOCATION:Snapology (Bethel Park)\, 1699 Washington Rd\, Mt Lebanon\, PA\, 15228\, United States
CATEGORIES:Indoor Play
GEO:40.3491516;-80.0514502
X-APPLE-STRUCTURED-LOCATION;VALUE=URI;X-ADDRESS=Snapology (Bethel Park) 1699 Washington Rd Mt Lebanon PA 15228 United States;X-APPLE-RADIUS=500;X-TITLE=1699 Washington Rd:geo:-80.0514502,40.3491516
END:VEVENT
BEGIN:VEVENT
DTSTART;TZID=America/New_York:20160923T100000
DTEND;TZID=America/New_York:20160923T140000
DTSTAMP:20260421T133142
CREATED:20160729T141303Z
LAST-MODIFIED:20160729T141303Z
UID:10065-1474624800-1474639200@playpittsburgh.com
SUMMARY:Mellon Park Farmers Market
DESCRIPTION:Wide variety of farm-fresh fruits\, vegetables\, meats\, cheese and baked goods conveniently located in the city! Visit the Farmers Market every Friday morning and afternoon in Mellon Park through November 18th.
URL:https://playpittsburgh.com/event/mellon-park-farmers-market/2016-09-23/
LOCATION:Mellon Square\, 6300 Fifth Ave\, Pittsburgh\, PA\, 15232\, United States
GEO:40.4528685;-79.9207289
X-APPLE-STRUCTURED-LOCATION;VALUE=URI;X-ADDRESS=Mellon Square 6300 Fifth Ave Pittsburgh PA 15232 United States;X-APPLE-RADIUS=500;X-TITLE=6300 Fifth Ave:geo:-79.9207289,40.4528685
END:VEVENT
BEGIN:VEVENT
DTSTART;TZID=America/New_York:20160919T110000
DTEND;TZID=America/New_York:20160919T120000
DTSTAMP:20260421T133142
CREATED:20160731T134257Z
LAST-MODIFIED:20160731T134257Z
UID:10129-1474282800-1474286400@playpittsburgh.com
SUMMARY:Free Toddler Storytime at Learning Express Cranberry
DESCRIPTION:Come for a snack\, story and craft every Monday from 11am – 12pm at the Learning Express in Cranberry. Free but RSVP required for material prep!
URL:https://playpittsburgh.com/event/free-toddler-storytime-learning-express-cranberry/2016-09-19/
LOCATION:Learning Express Cranberry\, 20418 Route 19\, Cranberry Township\, PA\, 16066\, United States
GEO:40.6945626;-80.104383
X-APPLE-STRUCTURED-LOCATION;VALUE=URI;X-ADDRESS=Learning Express Cranberry 20418 Route 19 Cranberry Township PA 16066 United States;X-APPLE-RADIUS=500;X-TITLE=20418 Route 19:geo:-80.104383,40.6945626
END:VEVENT
BEGIN:VEVENT
DTSTART;TZID=America/New_York:20160919T103000
DTEND;TZID=America/New_York:20160919T110000
DTSTAMP:20260421T133142
CREATED:20150325T220723Z
LAST-MODIFIED:20150325T220723Z
UID:9773-1474281000-1474282800@playpittsburgh.com
SUMMARY:Story time at Soergel Orchards
DESCRIPTION:Join Soergel Orchards for their weekly story time with songs\, coloring page\, and craft. The group meets in front of McIntosh Hall.
URL:https://playpittsburgh.com/event/story-time-at-soergel-orchards-2/2016-09-19/
LOCATION:Soergel Orchards\, 2573 Brandt School Road\, Wexford\, PA\, 15090\, United States
CATEGORIES:Free
GEO:40.612184;-80.092151
X-APPLE-STRUCTURED-LOCATION;VALUE=URI;X-ADDRESS=Soergel Orchards 2573 Brandt School Road Wexford PA 15090 United States;X-APPLE-RADIUS=500;X-TITLE=2573 Brandt School Road:geo:-80.092151,40.612184
END:VEVENT
BEGIN:VEVENT
DTSTART;TZID=America/New_York:20160916T173000
DTEND;TZID=America/New_York:20160916T203000
DTSTAMP:20260421T133142
CREATED:20160701T024428Z
LAST-MODIFIED:20160701T024428Z
UID:9343-1474047000-1474057800@playpittsburgh.com
SUMMARY:Snapology Parents Night Out
DESCRIPTION:Parents Night Out is a 2-3 hour window of opportunity for kids to play and create in the Discovery Center while parents and caregivers have some time to do whatever what they’d like! \nSnapology‘s educated and caring staff will watch over and guide your kiddos in building\, creating\, and using their imaginations. \nChildren ages 5+ may be dropped off. Children ages 1-4 are welcome\, but a parent must stay to supervise them.
URL:https://playpittsburgh.com/event/snapology-parents-night/2016-09-16/
LOCATION:Snapology (Bethel Park)\, 1699 Washington Rd\, Mt Lebanon\, PA\, 15228\, United States
CATEGORIES:Indoor Play
GEO:40.3491516;-80.0514502
X-APPLE-STRUCTURED-LOCATION;VALUE=URI;X-ADDRESS=Snapology (Bethel Park) 1699 Washington Rd Mt Lebanon PA 15228 United States;X-APPLE-RADIUS=500;X-TITLE=1699 Washington Rd:geo:-80.0514502,40.3491516
END:VEVENT
BEGIN:VEVENT
DTSTART;TZID=America/New_York:20160916T100000
DTEND;TZID=America/New_York:20160916T140000
DTSTAMP:20260421T133142
CREATED:20160729T141303Z
LAST-MODIFIED:20160729T141303Z
UID:10064-1474020000-1474034400@playpittsburgh.com
SUMMARY:Mellon Park Farmers Market
DESCRIPTION:Wide variety of farm-fresh fruits\, vegetables\, meats\, cheese and baked goods conveniently located in the city! Visit the Farmers Market every Friday morning and afternoon in Mellon Park through November 18th.
URL:https://playpittsburgh.com/event/mellon-park-farmers-market/2016-09-16/
LOCATION:Mellon Square\, 6300 Fifth Ave\, Pittsburgh\, PA\, 15232\, United States
GEO:40.4528685;-79.9207289
X-APPLE-STRUCTURED-LOCATION;VALUE=URI;X-ADDRESS=Mellon Square 6300 Fifth Ave Pittsburgh PA 15232 United States;X-APPLE-RADIUS=500;X-TITLE=6300 Fifth Ave:geo:-79.9207289,40.4528685
END:VEVENT
BEGIN:VEVENT
DTSTART;TZID=America/New_York:20160912T110000
DTEND;TZID=America/New_York:20160912T120000
DTSTAMP:20260421T133142
CREATED:20160731T134257Z
LAST-MODIFIED:20160731T134257Z
UID:10128-1473678000-1473681600@playpittsburgh.com
SUMMARY:Free Toddler Storytime at Learning Express Cranberry
DESCRIPTION:Come for a snack\, story and craft every Monday from 11am – 12pm at the Learning Express in Cranberry. Free but RSVP required for material prep!
URL:https://playpittsburgh.com/event/free-toddler-storytime-learning-express-cranberry/2016-09-12/
LOCATION:Learning Express Cranberry\, 20418 Route 19\, Cranberry Township\, PA\, 16066\, United States
GEO:40.6945626;-80.104383
X-APPLE-STRUCTURED-LOCATION;VALUE=URI;X-ADDRESS=Learning Express Cranberry 20418 Route 19 Cranberry Township PA 16066 United States;X-APPLE-RADIUS=500;X-TITLE=20418 Route 19:geo:-80.104383,40.6945626
END:VEVENT
BEGIN:VEVENT
DTSTART;TZID=America/New_York:20160912T103000
DTEND;TZID=America/New_York:20160912T110000
DTSTAMP:20260421T133142
CREATED:20150325T220723Z
LAST-MODIFIED:20150325T220723Z
UID:9772-1473676200-1473678000@playpittsburgh.com
SUMMARY:Story time at Soergel Orchards
DESCRIPTION:Join Soergel Orchards for their weekly story time with songs\, coloring page\, and craft. The group meets in front of McIntosh Hall.
URL:https://playpittsburgh.com/event/story-time-at-soergel-orchards-2/2016-09-12/
LOCATION:Soergel Orchards\, 2573 Brandt School Road\, Wexford\, PA\, 15090\, United States
CATEGORIES:Free
GEO:40.612184;-80.092151
X-APPLE-STRUCTURED-LOCATION;VALUE=URI;X-ADDRESS=Soergel Orchards 2573 Brandt School Road Wexford PA 15090 United States;X-APPLE-RADIUS=500;X-TITLE=2573 Brandt School Road:geo:-80.092151,40.612184
END:VEVENT
BEGIN:VEVENT
DTSTART;TZID=America/New_York:20160909T173000
DTEND;TZID=America/New_York:20160909T203000
DTSTAMP:20260421T133142
CREATED:20160701T024428Z
LAST-MODIFIED:20160701T024428Z
UID:9342-1473442200-1473453000@playpittsburgh.com
SUMMARY:Snapology Parents Night Out
DESCRIPTION:Parents Night Out is a 2-3 hour window of opportunity for kids to play and create in the Discovery Center while parents and caregivers have some time to do whatever what they’d like! \nSnapology‘s educated and caring staff will watch over and guide your kiddos in building\, creating\, and using their imaginations. \nChildren ages 5+ may be dropped off. Children ages 1-4 are welcome\, but a parent must stay to supervise them.
URL:https://playpittsburgh.com/event/snapology-parents-night/2016-09-09/
LOCATION:Snapology (Bethel Park)\, 1699 Washington Rd\, Mt Lebanon\, PA\, 15228\, United States
CATEGORIES:Indoor Play
GEO:40.3491516;-80.0514502
X-APPLE-STRUCTURED-LOCATION;VALUE=URI;X-ADDRESS=Snapology (Bethel Park) 1699 Washington Rd Mt Lebanon PA 15228 United States;X-APPLE-RADIUS=500;X-TITLE=1699 Washington Rd:geo:-80.0514502,40.3491516
END:VEVENT
BEGIN:VEVENT
DTSTART;TZID=America/New_York:20160909T100000
DTEND;TZID=America/New_York:20160909T140000
DTSTAMP:20260421T133142
CREATED:20160729T141303Z
LAST-MODIFIED:20160729T141303Z
UID:10063-1473415200-1473429600@playpittsburgh.com
SUMMARY:Mellon Park Farmers Market
DESCRIPTION:Wide variety of farm-fresh fruits\, vegetables\, meats\, cheese and baked goods conveniently located in the city! Visit the Farmers Market every Friday morning and afternoon in Mellon Park through November 18th.
URL:https://playpittsburgh.com/event/mellon-park-farmers-market/2016-09-09/
LOCATION:Mellon Square\, 6300 Fifth Ave\, Pittsburgh\, PA\, 15232\, United States
GEO:40.4528685;-79.9207289
X-APPLE-STRUCTURED-LOCATION;VALUE=URI;X-ADDRESS=Mellon Square 6300 Fifth Ave Pittsburgh PA 15232 United States;X-APPLE-RADIUS=500;X-TITLE=6300 Fifth Ave:geo:-79.9207289,40.4528685
END:VEVENT
BEGIN:VEVENT
DTSTART;TZID=America/New_York:20160905T110000
DTEND;TZID=America/New_York:20160905T120000
DTSTAMP:20260421T133142
CREATED:20160731T134257Z
LAST-MODIFIED:20160731T134257Z
UID:10127-1473073200-1473076800@playpittsburgh.com
SUMMARY:Free Toddler Storytime at Learning Express Cranberry
DESCRIPTION:Come for a snack\, story and craft every Monday from 11am – 12pm at the Learning Express in Cranberry. Free but RSVP required for material prep!
URL:https://playpittsburgh.com/event/free-toddler-storytime-learning-express-cranberry/2016-09-05/
LOCATION:Learning Express Cranberry\, 20418 Route 19\, Cranberry Township\, PA\, 16066\, United States
GEO:40.6945626;-80.104383
X-APPLE-STRUCTURED-LOCATION;VALUE=URI;X-ADDRESS=Learning Express Cranberry 20418 Route 19 Cranberry Township PA 16066 United States;X-APPLE-RADIUS=500;X-TITLE=20418 Route 19:geo:-80.104383,40.6945626
END:VEVENT
BEGIN:VEVENT
DTSTART;TZID=America/New_York:20160905T103000
DTEND;TZID=America/New_York:20160905T110000
DTSTAMP:20260421T133142
CREATED:20150325T220723Z
LAST-MODIFIED:20150325T220723Z
UID:9771-1473071400-1473073200@playpittsburgh.com
SUMMARY:Story time at Soergel Orchards
DESCRIPTION:Join Soergel Orchards for their weekly story time with songs\, coloring page\, and craft. The group meets in front of McIntosh Hall.
URL:https://playpittsburgh.com/event/story-time-at-soergel-orchards-2/2016-09-05/
LOCATION:Soergel Orchards\, 2573 Brandt School Road\, Wexford\, PA\, 15090\, United States
CATEGORIES:Free
GEO:40.612184;-80.092151
X-APPLE-STRUCTURED-LOCATION;VALUE=URI;X-ADDRESS=Soergel Orchards 2573 Brandt School Road Wexford PA 15090 United States;X-APPLE-RADIUS=500;X-TITLE=2573 Brandt School Road:geo:-80.092151,40.612184
END:VEVENT
BEGIN:VEVENT
DTSTART;TZID=America/New_York:20160904T193000
DTEND;TZID=America/New_York:20160904T210000
DTSTAMP:20260421T133142
CREATED:20160710T132652Z
LAST-MODIFIED:20160710T132652Z
UID:9700-1473017400-1473022800@playpittsburgh.com
SUMMARY:Hartwood Acres Free Summer Concert Series
DESCRIPTION:All concerts are free and begin at 7:30pm unless otherwise noted.\nFood trucks are at all concerts starting at 6:00pm. \nJuly 10 – Delta Rae with Jeanne Jolly\nJuly 17 – The Ohio Players\nJuly 24 – Josh Ritter & The Royal City Band with Ferdinand the Bull\nJuly 31 – Randall Baumann’s Ramble\nAug. 7 – Lee Ritenour\nAug. 14 – Booker T’s Stax Revue\nAug. 21 – Pittsburgh Ballet Theatre\nAug. 28 – Flow Tribe\nSept. 4 – Allegheny County Music Festival featuring Rusted Root with Nevada Color\, Jim Donovan & Sun King Warriors
URL:https://playpittsburgh.com/event/hartwood-acres-free-summer-concert-series/2016-09-04/
LOCATION:Hartwood Acres\, 200 Hartwood Acres\, Pittsburgh\, PA\, 15238\, United States
GEO:40.5702568;-79.909023
X-APPLE-STRUCTURED-LOCATION;VALUE=URI;X-ADDRESS=Hartwood Acres 200 Hartwood Acres Pittsburgh PA 15238 United States;X-APPLE-RADIUS=500;X-TITLE=200 Hartwood Acres:geo:-79.909023,40.5702568
END:VEVENT
END:VCALENDAR