BEGIN:VCALENDAR
VERSION:2.0
PRODID:-//Play Pittsburgh - ECPv6.15.20//NONSGML v1.0//EN
CALSCALE:GREGORIAN
METHOD:PUBLISH
X-ORIGINAL-URL:https://playpittsburgh.com
X-WR-CALDESC:Events for Play Pittsburgh
REFRESH-INTERVAL;VALUE=DURATION:PT1H
X-Robots-Tag:noindex
X-PUBLISHED-TTL:PT1H
BEGIN:VTIMEZONE
TZID:America/New_York
BEGIN:DAYLIGHT
TZOFFSETFROM:-0500
TZOFFSETTO:-0400
TZNAME:EDT
DTSTART:20140309T070000
END:DAYLIGHT
BEGIN:STANDARD
TZOFFSETFROM:-0400
TZOFFSETTO:-0500
TZNAME:EST
DTSTART:20141102T060000
END:STANDARD
BEGIN:DAYLIGHT
TZOFFSETFROM:-0500
TZOFFSETTO:-0400
TZNAME:EDT
DTSTART:20150308T070000
END:DAYLIGHT
BEGIN:STANDARD
TZOFFSETFROM:-0400
TZOFFSETTO:-0500
TZNAME:EST
DTSTART:20151101T060000
END:STANDARD
BEGIN:DAYLIGHT
TZOFFSETFROM:-0500
TZOFFSETTO:-0400
TZNAME:EDT
DTSTART:20160313T070000
END:DAYLIGHT
BEGIN:STANDARD
TZOFFSETFROM:-0400
TZOFFSETTO:-0500
TZNAME:EST
DTSTART:20161106T060000
END:STANDARD
END:VTIMEZONE
BEGIN:VEVENT
DTSTART;TZID=America/New_York:20150403T093000
DTEND;TZID=America/New_York:20150403T103000
DTSTAMP:20260422T213003
CREATED:20150325T132153Z
LAST-MODIFIED:20150325T132153Z
UID:5637-1428053400-1428057000@playpittsburgh.com
SUMMARY:Trax Farm Breakfast with the Bunny
DESCRIPTION:Enjoy breakfast with the Easter Bunny! There will also be an opportunity to make a fun springtime craft and have the chance to enter a coloring contest. Reservations required. \nDates: March 28-29 & April 3-4
URL:https://playpittsburgh.com/event/trax-farm-breakfast-with-the-bunny-2/
LOCATION:Trax Farm\, 528 Trax Rd\, Finleyville \, PA\, 15332\, United States
GEO:40.2765472;-80.0307832
X-APPLE-STRUCTURED-LOCATION;VALUE=URI;X-ADDRESS=Trax Farm 528 Trax Rd Finleyville  PA 15332 United States;X-APPLE-RADIUS=500;X-TITLE=528 Trax Rd:geo:-80.0307832,40.2765472
END:VEVENT
BEGIN:VEVENT
DTSTART;TZID=America/New_York:20150403T090000
DTEND;TZID=America/New_York:20150403T150000
DTSTAMP:20260422T213003
CREATED:20150326T192301Z
LAST-MODIFIED:20150326T192301Z
UID:5857-1428051600-1428073200@playpittsburgh.com
SUMMARY:Science Fun Days - Day Camp at Carnegie Science Center
DESCRIPTION:Just for kids ages 4–10\, Holiday Camps are in session when school is out! Campers will play in the exhibits\, see a laser show or live theater show\, participate in a one-hour workshop\, plus see an Omnimax movie. \nApril 3rd and 6th\, 9 am – 3 pm each day \nFull day (ages 6–10): 9 am – 3 pm\nCost: $36 members / $40 non-members \nHalf day (ages 4–5): 9 am – noon\nCost: $20 members / $23 non-members \n 
URL:https://playpittsburgh.com/event/science-fun-days-day-camp-at-carnegie-science-center/
LOCATION:Carnegie Science Center\, One Allegheny Ave.\, Pittsburgh\, PA\, 15212\, United States
GEO:40.4456737;-80.0180996
X-APPLE-STRUCTURED-LOCATION;VALUE=URI;X-ADDRESS=Carnegie Science Center One Allegheny Ave. Pittsburgh PA 15212 United States;X-APPLE-RADIUS=500;X-TITLE=One Allegheny Ave.:geo:-80.0180996,40.4456737
END:VEVENT
BEGIN:VEVENT
DTSTART;VALUE=DATE:20150403
DTEND;VALUE=DATE:20150404
DTSTAMP:20260422T213003
CREATED:20150326T213835Z
LAST-MODIFIED:20150326T213835Z
UID:5901-1428019200-1428105599@playpittsburgh.com
SUMMARY:Good Friday
DESCRIPTION:
URL:https://playpittsburgh.com/event/good-friday/
END:VEVENT
BEGIN:VEVENT
DTSTART;TZID=America/New_York:20150402T193000
DTEND;TZID=America/New_York:20150402T220000
DTSTAMP:20260422T213003
CREATED:20150326T210939Z
LAST-MODIFIED:20150326T210939Z
UID:5875-1428003000-1428012000@playpittsburgh.com
SUMMARY:The Peking Acrobats at Byham Theater
DESCRIPTION:Watch as the world famous The Peking Acrobats dazzle with their amazing acrobatic performances – featured on numerous television shows and celebrity-studded TV Specials!
URL:https://playpittsburgh.com/event/the-peking-acrobats-at-byham-theater/
LOCATION:Byham Theater\, 101 6th St\, Pittsburgh\, PA\, 15222\, United States
GEO:40.4439183;-80.0018125
X-APPLE-STRUCTURED-LOCATION;VALUE=URI;X-ADDRESS=Byham Theater 101 6th St Pittsburgh PA 15222 United States;X-APPLE-RADIUS=500;X-TITLE=101 6th St:geo:-80.0018125,40.4439183
END:VEVENT
BEGIN:VEVENT
DTSTART;TZID=America/New_York:20150402T180000
DTEND;TZID=America/New_York:20150402T190000
DTSTAMP:20260422T213003
CREATED:20150326T213628Z
LAST-MODIFIED:20150326T213628Z
UID:5896-1427997600-1428001200@playpittsburgh.com
SUMMARY:Comic Lab 102 at Learning Express Robinson
DESCRIPTION:Comic Lab 102 – 5-week drawing course\, every Thursday in April at Learning Express in Robinson. \n$15- includes a sketch pad\, pencils\, eraser and a printed copy of the final comic book as well as 5 weeks of instruction. \nSpace is limited for this event\, so please call the store to RSVP. \n\nThursday\, April 2nd: Week 1- Recap/ 102 Intro/ Scripting/ Doodle/ Jam Session\nThursday\, April 9th: Week 2- Cartoons/ Style and Animation\nThursday\, April 16th: Week 3- Caricatures\nThursday\, April 23rd: Week 4- Inking\nThursday\, April 30th: Week 5- Coloring Party
URL:https://playpittsburgh.com/event/comic-lab-102-at-learning-express-robinson/2015-04-02/
LOCATION:United States
END:VEVENT
BEGIN:VEVENT
DTSTART;TZID=America/New_York:20150402T160000
DTEND;TZID=America/New_York:20150402T183000
DTSTAMP:20260422T213003
CREATED:20150326T181903Z
LAST-MODIFIED:20150326T181903Z
UID:5787-1427990400-1427999400@playpittsburgh.com
SUMMARY:Assemble After School Program
DESCRIPTION:Youth grades 4th – 8th are invited to participate in a free\, themed after school workshop Tuesdays\, Wednesdays\, and Thursdays from 4:00-6:30 pm\, (though June 4\, 2015) at Assemble. \n\nTuesdays – Imaginative Engineering\nWednesday – DIY Art\nThursday- Tech this out\n\nAssemble Afterschool is limited to 15 students. If you would like to sign up or have any further questions\, please email julia@assemblepgh.org
URL:https://playpittsburgh.com/event/assemble-after-school-program-3/2015-04-02/
LOCATION:Assemble\, 5125 Penn Ave\, Pittsburgh\, PA\, 15224\, United States
GEO:40.4650516;-79.9418044
X-APPLE-STRUCTURED-LOCATION;VALUE=URI;X-ADDRESS=Assemble 5125 Penn Ave Pittsburgh PA 15224 United States;X-APPLE-RADIUS=500;X-TITLE=5125 Penn Ave:geo:-79.9418044,40.4650516
END:VEVENT
BEGIN:VEVENT
DTSTART;TZID=America/New_York:20150402T090000
DTEND;TZID=America/New_York:20150402T110000
DTSTAMP:20260422T213003
CREATED:20150326T211934Z
LAST-MODIFIED:20150326T211934Z
UID:5884-1427965200-1427972400@playpittsburgh.com
SUMMARY:Egg Hunt and Family Skate at  Mt. Lebanon Ice Center
DESCRIPTION:Hunt for eggs in the snow piles! Play Date is held on the main rink and the egg hunt is held in the studio rink at approximately 10:00 a.m. (for kindergarten children and younger only). \nDon’t forget your bags to collect eggs!
URL:https://playpittsburgh.com/event/egg-hunt-and-family-skate-at-mt-lebanon-ice-center/
LOCATION:Mt. Lebanon Ice Center\, 900 Cedar Blvd\, Pittsburgh\, PA\, 15228\, United States
GEO:40.3742132;-80.0546587
X-APPLE-STRUCTURED-LOCATION;VALUE=URI;X-ADDRESS=Mt. Lebanon Ice Center 900 Cedar Blvd Pittsburgh PA 15228 United States;X-APPLE-RADIUS=500;X-TITLE=900 Cedar Blvd:geo:-80.0546587,40.3742132
END:VEVENT
BEGIN:VEVENT
DTSTART;VALUE=DATE:20150402
DTEND;VALUE=DATE:20150403
DTSTAMP:20260422T213003
CREATED:20150326T192936Z
LAST-MODIFIED:20150326T192936Z
UID:5859-1427932800-1428019199@playpittsburgh.com
SUMMARY:Shrine Circus at the CONSOL Energy Center
DESCRIPTION:Celebrating 66 years of the best family entertainment in Pittsburgh\, don’t miss this fun-filled extravaganza featuring The Amazing Spider-Man\, exotic animals\, and amazing thrill acts. \nEvent Times \n\nTHU\, APRIL 2 @ 7:00 PM\nFRI\, APRIL 3 @ 7:00 PM\nSAT\, APRIL 4 @ 10:30 AM\nSAT\, APRIL 4 @ 2:30 PM\nSAT\, APRIL 4 @ 7:00 PM
URL:https://playpittsburgh.com/event/shrine-circus-at-the-consol-energy-center/2015-04-02/
LOCATION:Consol Energy Center\, 1001 Fifth Ave\, Pittsburgh\, PA\, 15219\, United States
GEO:40.4397781;-79.9888158
X-APPLE-STRUCTURED-LOCATION;VALUE=URI;X-ADDRESS=Consol Energy Center 1001 Fifth Ave Pittsburgh PA 15219 United States;X-APPLE-RADIUS=500;X-TITLE=1001 Fifth Ave:geo:-79.9888158,40.4397781
END:VEVENT
BEGIN:VEVENT
DTSTART;TZID=America/New_York:20150401T183000
DTEND;TZID=America/New_York:20150401T200000
DTSTAMP:20260422T213003
CREATED:20150326T044640Z
LAST-MODIFIED:20150326T044640Z
UID:5733-1427913000-1427918400@playpittsburgh.com
SUMMARY:Expectant Parent Orientation at Kids Pediatric Plus
DESCRIPTION:These low-key\, no-pressure sessions give you a chance to see one of the Kids Pediatric Plus offices and meet one of the Kids Plus Docs\, who’ll deliver an informal presentation about what to expect after the delivery of your baby\, those crazy and exhilarating (and sometimes frightening) first few months of parenthood\, and some of the best features\, services\, and amenities of their award-winning practice.
URL:https://playpittsburgh.com/event/expectant-parent-orientation-at-kids-pediatric-plus/
LOCATION:Kids Plus Pediatrics – Pleasant Hills\, 850 Clairton Blvd\, Pittsburgh\, 15236\, United States
GEO:40.3223259;-79.944112
X-APPLE-STRUCTURED-LOCATION;VALUE=URI;X-ADDRESS=Kids Plus Pediatrics – Pleasant Hills 850 Clairton Blvd Pittsburgh 15236 United States;X-APPLE-RADIUS=500;X-TITLE=850 Clairton Blvd:geo:-79.944112,40.3223259
END:VEVENT
BEGIN:VEVENT
DTSTART;TZID=America/New_York:20150401T160000
DTEND;TZID=America/New_York:20150401T183000
DTSTAMP:20260422T213003
CREATED:20150326T181606Z
LAST-MODIFIED:20150326T181606Z
UID:5786-1427904000-1427913000@playpittsburgh.com
SUMMARY:Assemble After School Program
DESCRIPTION:Youth grades 4th – 8th are invited to participate in a free\, themed after school workshop Tuesdays\, Wednesdays\, and Thursdays from 4:00-6:30 pm\, (though June 4\, 2015) at Assemble. \n\nTuesdays – Imaginative Engineering\nWednesday – DIY Art\nThursday- Tech this out\n\nAssemble Afterschool is limited to 15 students. If you would like to sign up or have any further questions\, please email julia@assemblepgh.org
URL:https://playpittsburgh.com/event/assemble-after-school-program-2/2015-04-01/
LOCATION:Assemble\, 5125 Penn Ave\, Pittsburgh\, PA\, 15224\, United States
GEO:40.4650516;-79.9418044
X-APPLE-STRUCTURED-LOCATION;VALUE=URI;X-ADDRESS=Assemble 5125 Penn Ave Pittsburgh PA 15224 United States;X-APPLE-RADIUS=500;X-TITLE=5125 Penn Ave:geo:-79.9418044,40.4650516
END:VEVENT
BEGIN:VEVENT
DTSTART;TZID=America/New_York:20150401T110000
DTEND;TZID=America/New_York:20150401T120000
DTSTAMP:20260422T213003
CREATED:20150326T184829Z
LAST-MODIFIED:20150326T184829Z
UID:5834-1427886000-1427889600@playpittsburgh.com
SUMMARY:Weekly Playgroup at SeaBase Family Fun Center
DESCRIPTION:Join friends on Wednesday mornings at 11 for a weekly playgroup at SeaBase Family Fun Center! Ideal for ages 2-5. Includes a short story\, craft or activity and small snack. Free with admission.
URL:https://playpittsburgh.com/event/weekly-playgroup-at-seabase-family-fun-center/2015-04-01/
LOCATION:SeaBase Family Fun Center\, 770 E. Pittsburgh St\, Greensburg\, 15601
GEO:40.3013507;-79.5265785
X-APPLE-STRUCTURED-LOCATION;VALUE=URI;X-ADDRESS=SeaBase Family Fun Center 770 E. Pittsburgh St Greensburg 15601;X-APPLE-RADIUS=500;X-TITLE=770 E. Pittsburgh St:geo:-79.5265785,40.3013507
END:VEVENT
BEGIN:VEVENT
DTSTART;TZID=America/New_York:20150401T110000
DTEND;TZID=America/New_York:20150401T120000
DTSTAMP:20260422T213003
CREATED:20150326T184155Z
LAST-MODIFIED:20150326T184155Z
UID:5825-1427886000-1427889600@playpittsburgh.com
SUMMARY:Tot Time at the Children's Museum
DESCRIPTION:Read a story and enjoy hands on activities for children ages 18 months through 3 years and their caregivers. Sing\, dance and enjoy a snack! Each week stories and activities are inspired by a different theme. \n$6 for members\, $8 for non-members. Admission to the Museum not included. \nAdvance registration for Tot Time is recommended as class size is limited
URL:https://playpittsburgh.com/event/tot-time-at-the-childrens-museum-4/2015-04-01/
LOCATION:Children’s Museum of Pittsburgh\, 10 Children's Way\, Allegheny Square\, Pittsburgh\, PA\, 15212\, United States
GEO:40.4528353;-80.0064158
X-APPLE-STRUCTURED-LOCATION;VALUE=URI;X-ADDRESS=Children’s Museum of Pittsburgh 10 Children's Way Allegheny Square Pittsburgh PA 15212 United States;X-APPLE-RADIUS=500;X-TITLE=10 Children's Way\, Allegheny Square:geo:-80.0064158,40.4528353
END:VEVENT
BEGIN:VEVENT
DTSTART;TZID=America/New_York:20150401T103000
DTEND;TZID=America/New_York:20150401T130000
DTSTAMP:20260422T213003
CREATED:20150326T185404Z
LAST-MODIFIED:20150326T185404Z
UID:5844-1427884200-1427893200@playpittsburgh.com
SUMMARY:Story Time at Phipps Conservatory
DESCRIPTION:Enjoy a themed story and craft in the Children’s Discovery Garden at Phipps Conservatory – every Wednesdays at 10:30 a.m. or 1 p.m. Each story time session lasts approximately 30 mins.
URL:https://playpittsburgh.com/event/story-time-at-phipps-conservatory/
LOCATION:Phipps Conservatory\, 1 Schenley Dr\, Pittsburgh\, PA\, 15213\, United States
GEO:40.4390926;-79.9474873
X-APPLE-STRUCTURED-LOCATION;VALUE=URI;X-ADDRESS=Phipps Conservatory 1 Schenley Dr Pittsburgh PA 15213 United States;X-APPLE-RADIUS=500;X-TITLE=1 Schenley Dr:geo:-79.9474873,40.4390926
END:VEVENT
BEGIN:VEVENT
DTSTART;TZID=America/New_York:20150401T100000
DTEND;TZID=America/New_York:20150401T170000
DTSTAMP:20260422T213003
CREATED:20150325T142537Z
LAST-MODIFIED:20150325T142537Z
UID:5656-1427882400-1427907600@playpittsburgh.com
SUMMARY:FREE Admission at The Warhol Museum
DESCRIPTION:You and the entire family can enjoy FREE admission to The Warhol courtesy of The Jack Buncher Foundation.  THREE days of free museum admission during Pittsburgh Public Schools’ Spring Break Week! \nFREE Admission Days: March 31st\, April 1st and April 4th \nEach day they’re offering family-friendly activities and events\, like art-making activities in the galleries and extended studio hours!
URL:https://playpittsburgh.com/event/free-admission-at-the-warhol-museum-2/
LOCATION:The Andy Warhol Museum\, 117 Sandusky Street\,\, Pittsburgh\, PA\, 15212\, United States
CATEGORIES:Free,Museums
GEO:40.4483754;-80.0024908
X-APPLE-STRUCTURED-LOCATION;VALUE=URI;X-ADDRESS=The Andy Warhol Museum 117 Sandusky Street Pittsburgh PA 15212 United States;X-APPLE-RADIUS=500;X-TITLE=117 Sandusky Street\,:geo:-80.0024908,40.4483754
END:VEVENT
BEGIN:VEVENT
DTSTART;TZID=America/New_York:20150401T090000
DTEND;TZID=America/New_York:20150401T170000
DTSTAMP:20260422T213003
CREATED:20150328T235538Z
LAST-MODIFIED:20150328T235538Z
UID:5946-1427878800-1427907600@playpittsburgh.com
SUMMARY:Family Activities Day at Pittsburgh Botanic Gardens
DESCRIPTION:2015 Season opening day of Pittsburgh Botanic Gardens! Celebrate with miles of trails\, discovery stations\, Asian lotus pond\, the cedar gazebo\, apple orchards and herb gardens. Open 9am – 5pm. \nAdmission  \n\nAdults: $9\nSeniors 62+: $8\nStudent with ID: $8\nChildren 3-18: $6\nChildren under 3: Free
URL:https://playpittsburgh.com/event/family-activities-day-at-pittsburgh-botanic-gardens/
LOCATION:Pittsburgh Botanic Garden\, 798 Pinkerton Run Road\, Oakdale\, PA\, 15071\, United States
CATEGORIES:Outdoor
GEO:40.4266934;-80.1770779
X-APPLE-STRUCTURED-LOCATION;VALUE=URI;X-ADDRESS=Pittsburgh Botanic Garden 798 Pinkerton Run Road Oakdale PA 15071 United States;X-APPLE-RADIUS=500;X-TITLE=798 Pinkerton Run Road:geo:-80.1770779,40.4266934
END:VEVENT
BEGIN:VEVENT
DTSTART;VALUE=DATE:20150401
DTEND;VALUE=DATE:20150402
DTSTAMP:20260422T213003
CREATED:20150326T190443Z
LAST-MODIFIED:20150326T190443Z
UID:5854-1427846400-1427932799@playpittsburgh.com
SUMMARY:Mommy and Me Classes at Parties and Playdates
DESCRIPTION:MOMMY AND ME CREATIVE CLASSES ON WEDNESDAY MORNINGS FROM 10-11AM – Register via email Dana@partiesplaydates.com\n$12/CLASS OR $40/MONTH
URL:https://playpittsburgh.com/event/mommy-and-me-classes-at-parties-and-playdates/2015-04-01/
LOCATION:Parties and Playdates\, 300 North Main Street\, Butler\, PA\, 16001\, United States
GEO:40.8635467;-79.8953528
X-APPLE-STRUCTURED-LOCATION;VALUE=URI;X-ADDRESS=Parties and Playdates 300 North Main Street Butler PA 16001 United States;X-APPLE-RADIUS=500;X-TITLE=300 North Main Street:geo:-79.8953528,40.8635467
END:VEVENT
BEGIN:VEVENT
DTSTART;VALUE=DATE:20150401
DTEND;VALUE=DATE:20150402
DTSTAMP:20260422T213003
CREATED:20150326T190008Z
LAST-MODIFIED:20150326T190008Z
UID:5845-1427846400-1427932799@playpittsburgh.com
SUMMARY:99 cent Kid Combo Meals at Fun Fore All
DESCRIPTION:Fun Fore all is Cranberry’s premier family fun center with tons of indoor AND outdoor attractions! Stop by on Wednesdays for their 99 cent Kid’s Combo Meals! Kid’s Combo Meals are for any kids 12 years old and under. \nPick One Entree \n\nChicken Tenders\nHamburger\nMac & Cheese\nGrilled Cheese\nPB & J\nMini Corn Dogs\nHot Dog\n\nPick 2 Sides \n\nFries\nTater Tots\nCookie\nApplesauce\nCheese and crackers\nFruit Cup\n\nPick 1 Drink \n\nRefillable Soft Drink\nWhite or chocolate milk\nApple juice
URL:https://playpittsburgh.com/event/99-cent-kid-combo-meals-at-fun-fore-all/2015-04-01/
LOCATION:Fun Fore All\, 8 Progress Ave\, Cranberry Twp\, PA\, 16066\, United States
GEO:40.709137;-80.105024
X-APPLE-STRUCTURED-LOCATION;VALUE=URI;X-ADDRESS=Fun Fore All 8 Progress Ave Cranberry Twp PA 16066 United States;X-APPLE-RADIUS=500;X-TITLE=8 Progress Ave:geo:-80.105024,40.709137
END:VEVENT
BEGIN:VEVENT
DTSTART;VALUE=DATE:20150401
DTEND;VALUE=DATE:20150402
DTSTAMP:20260422T213003
CREATED:20150326T182701Z
LAST-MODIFIED:20150326T182701Z
UID:5816-1427846400-1427932799@playpittsburgh.com
SUMMARY:April Fools Day!
DESCRIPTION:
URL:https://playpittsburgh.com/event/april-fools-day/
END:VEVENT
BEGIN:VEVENT
DTSTART;TZID=America/New_York:20150331T180000
DTEND;TZID=America/New_York:20150331T203000
DTSTAMP:20260422T213003
CREATED:20150326T175132Z
LAST-MODIFIED:20150326T175132Z
UID:5756-1427824800-1427833800@playpittsburgh.com
SUMMARY:Free College Financial Planning Workshop
DESCRIPTION:Free College Financial Planning Workshop by 123 College \nLocation: Community Room
URL:https://playpittsburgh.com/event/free-college-financial-planning-workshop/
LOCATION:Shaler North Hills Library\, 1822 Mt. Royal Blvd.\, Glenshaw \, PA\, 15116\, United States
GEO:40.528286;-79.9642889
X-APPLE-STRUCTURED-LOCATION;VALUE=URI;X-ADDRESS=Shaler North Hills Library 1822 Mt. Royal Blvd. Glenshaw  PA 15116 United States;X-APPLE-RADIUS=500;X-TITLE=1822 Mt. Royal Blvd.:geo:-79.9642889,40.528286
END:VEVENT
BEGIN:VEVENT
DTSTART;TZID=America/New_York:20150331T160000
DTEND;TZID=America/New_York:20150331T183000
DTSTAMP:20260422T213003
CREATED:20150326T181459Z
LAST-MODIFIED:20150326T181459Z
UID:5776-1427817600-1427826600@playpittsburgh.com
SUMMARY:Assemble After School Program
DESCRIPTION:Youth grades 4th – 8th are invited to participate in a free\, themed after school workshop Tuesdays\, Wednesdays\, and Thursdays from 4:00-6:30 pm\, (though June 4\, 2015) at Assemble. \n\nTuesdays – Imaginative Engineering\nWednesday – DIY Art\nThursday- Tech this out\n\nAssemble Afterschool is limited to 15 students. If you would like to sign up or have any further questions\, please email julia@assemblepgh.org
URL:https://playpittsburgh.com/event/assemble-after-school-program/2015-03-31/
LOCATION:Assemble\, 5125 Penn Ave\, Pittsburgh\, PA\, 15224\, United States
GEO:40.4650516;-79.9418044
X-APPLE-STRUCTURED-LOCATION;VALUE=URI;X-ADDRESS=Assemble 5125 Penn Ave Pittsburgh PA 15224 United States;X-APPLE-RADIUS=500;X-TITLE=5125 Penn Ave:geo:-79.9418044,40.4650516
END:VEVENT
BEGIN:VEVENT
DTSTART;TZID=America/New_York:20150331T160000
DTEND;TZID=America/New_York:20150331T173000
DTSTAMP:20260422T213003
CREATED:20150326T183525Z
LAST-MODIFIED:20150326T183525Z
UID:5818-1427817600-1427823000@playpittsburgh.com
SUMMARY:Sanctuary - A Support Group for Teens
DESCRIPTION:This support group is available to teens between the ages of 14 and 17 who may be depressed or struggling. Space is limited.\nWednesdays from 4:00pm to 5:30pm at Anchorpoint Counseling Ministry January 28th-April 1st (10 weeks). Call Michael (ext .127) or Cassy (ext. 129) to sign-up or if you have questions.
URL:https://playpittsburgh.com/event/sanctuary-a-support-group-for-teens/
LOCATION:Anchorpoint Counseling Ministry\,  800 McKnight Park Drive\, Suite 802 \, Pittsburgh\, PA\, 15237\, United States
GEO:40.5352049;-80.0072904
X-APPLE-STRUCTURED-LOCATION;VALUE=URI;X-ADDRESS=Anchorpoint Counseling Ministry  800 McKnight Park Drive Suite 802  Pittsburgh PA 15237 United States;X-APPLE-RADIUS=500;X-TITLE=800 McKnight Park Drive\, Suite 802:geo:-80.0072904,40.5352049
END:VEVENT
BEGIN:VEVENT
DTSTART;TZID=America/New_York:20150331T160000
DTEND;TZID=America/New_York:20150331T170000
DTSTAMP:20260422T213003
CREATED:20150326T174620Z
LAST-MODIFIED:20150326T174620Z
UID:5754-1427817600-1427821200@playpittsburgh.com
SUMMARY:Teen Tech Zone at Carnegie Music Hall Homestead
DESCRIPTION:Learn to remix your own music\, Photoshop a selfie\, create a short film\, or design a website! The Teen Tech Zone computers are loaded with software ready to help you unleash your skills and creativity on the world! This is a drop in class – come whenever you can!
URL:https://playpittsburgh.com/event/teen-tech-zone-at-carnegie-music-hall-homestead/
LOCATION:Carnegie Music Hall of Homestead\, 510 E 10th Ave\, Homestead\, PA\, 15120\, United States
GEO:40.4070139;-79.902948
X-APPLE-STRUCTURED-LOCATION;VALUE=URI;X-ADDRESS=Carnegie Music Hall of Homestead 510 E 10th Ave Homestead PA 15120 United States;X-APPLE-RADIUS=500;X-TITLE=510 E 10th Ave:geo:-79.902948,40.4070139
END:VEVENT
BEGIN:VEVENT
DTSTART;TZID=America/New_York:20150331T130000
DTEND;TZID=America/New_York:20150331T150000
DTSTAMP:20260422T213003
CREATED:20150326T045439Z
LAST-MODIFIED:20150326T045439Z
UID:5735-1427806800-1427814000@playpittsburgh.com
SUMMARY:Tiny Tots at Romp n’ Roll Skating Rink
DESCRIPTION:Tot Tuesday at Romp n’Roll: a skate session open just for children 9 and under and their parents. Runs from 1pm – 3 pm and the $5.00 covers entry\, roller skate rental\, a slice of pizza and a drink. \nIf the supervising adult just wants to walk on the rink next to the children\, they don’t have to pay admission. A slice of pizza and a soda will cost $2.00.
URL:https://playpittsburgh.com/event/tiny-tots-at-romp-n-roll-skating-rink/2015-03-31/
LOCATION:Romp N’ Roll\, 1661 East Sutter Road\,  Glenshaw\, 15116
GEO:40.5367968;-79.9663603
X-APPLE-STRUCTURED-LOCATION;VALUE=URI;X-ADDRESS=Romp N’ Roll 1661 East Sutter Road  Glenshaw 15116;X-APPLE-RADIUS=500;X-TITLE=1661 East Sutter Road:geo:-79.9663603,40.5367968
END:VEVENT
BEGIN:VEVENT
DTSTART;TZID=America/New_York:20150331T110000
DTEND;TZID=America/New_York:20150331T120000
DTSTAMP:20260422T213003
CREATED:20150326T173952Z
LAST-MODIFIED:20150326T173952Z
UID:5745-1427799600-1427803200@playpittsburgh.com
SUMMARY:Tot Time at the Children’s Museum
DESCRIPTION:This weekly class for children ages 18 months through 3 years and their caregivers helps children learn through hands-on activities. \n$6 for members\, $8 for non-members. Admission to the Museum not included. \n\nClass size is limited to 13 children and their caregivers.\nRegistration is on a first-come\, first serve basis.\nAdvance registration is strongly encouraged. Please register at the Admissions desk in the Museum\, or by calling (412) 322-5058\, ext. 240\,\nMonday – Friday\, 8:30 am – 4:30 pm\, up until one hour before start. Payment in full is required at the time of registration.\nNo refunds on advance payments. 24 hour notice is required to reschedule your reservation.\nSiblings under the age of 18 months may attend class free of charge.\nChildren ages 4 and older cannot attend Tot Time
URL:https://playpittsburgh.com/event/tot-time-at-the-childrens-museum-3/2015-03-31/
LOCATION:Children’s Museum of Pittsburgh\, 10 Children's Way\, Allegheny Square\, Pittsburgh\, PA\, 15212\, United States
GEO:40.4528353;-80.0064158
X-APPLE-STRUCTURED-LOCATION;VALUE=URI;X-ADDRESS=Children’s Museum of Pittsburgh 10 Children's Way Allegheny Square Pittsburgh PA 15212 United States;X-APPLE-RADIUS=500;X-TITLE=10 Children's Way\, Allegheny Square:geo:-80.0064158,40.4528353
END:VEVENT
BEGIN:VEVENT
DTSTART;TZID=America/New_York:20150331T100000
DTEND;TZID=America/New_York:20150331T170000
DTSTAMP:20260422T213003
CREATED:20150325T142308Z
LAST-MODIFIED:20150325T142308Z
UID:5655-1427796000-1427821200@playpittsburgh.com
SUMMARY:FREE Admission at The Warhol Museum
DESCRIPTION:You and the entire family can enjoy FREE admission to The Warhol courtesy of The Jack Buncher Foundation.  THREE days of free museum admission during Pittsburgh Public Schools’ Spring Break Week! \nFREE Admission Days: March 31st\, April 1st and April 4th \nEach day they’re offering family-friendly activities and events\, like art-making activities in the galleries and extended studio hours!
URL:https://playpittsburgh.com/event/free-admission-at-the-warhol-museum/
LOCATION:The Andy Warhol Museum\, 117 Sandusky Street\,\, Pittsburgh\, PA\, 15212\, United States
CATEGORIES:Free,Museums
GEO:40.4483754;-80.0024908
X-APPLE-STRUCTURED-LOCATION;VALUE=URI;X-ADDRESS=The Andy Warhol Museum 117 Sandusky Street Pittsburgh PA 15212 United States;X-APPLE-RADIUS=500;X-TITLE=117 Sandusky Street\,:geo:-80.0024908,40.4483754
END:VEVENT
BEGIN:VEVENT
DTSTART;TZID=America/New_York:20150331T100000
DTEND;TZID=America/New_York:20150331T110000
DTSTAMP:20260422T213003
CREATED:20150326T182503Z
LAST-MODIFIED:20150326T182503Z
UID:5815-1427796000-1427799600@playpittsburgh.com
SUMMARY:Toddler Story Time at Learning Express Robinson
DESCRIPTION:Story and craft: reading “Big Red Barn” and making a paper plate cow mask \n 
URL:https://playpittsburgh.com/event/toddler-story-time-at-learning-express-robinson/
LOCATION:United States
END:VEVENT
BEGIN:VEVENT
DTSTART;VALUE=DATE:20150331
DTEND;VALUE=DATE:20150401
DTSTAMP:20260422T213003
CREATED:20150326T182139Z
LAST-MODIFIED:20150326T182139Z
UID:5806-1427760000-1427846399@playpittsburgh.com
SUMMARY:50% Ticket Games at Fun Fore All
DESCRIPTION:Fun Fore All family entertainment center offers 50% off their ticket games all day on Tuesday! (Token games excluded)
URL:https://playpittsburgh.com/event/50-ticket-games-at-fun-fore-all/2015-03-31/
LOCATION:Fun Fore All\, 8 Progress Ave\, Cranberry Twp\, PA\, 16066\, United States
GEO:40.709137;-80.105024
X-APPLE-STRUCTURED-LOCATION;VALUE=URI;X-ADDRESS=Fun Fore All 8 Progress Ave Cranberry Twp PA 16066 United States;X-APPLE-RADIUS=500;X-TITLE=8 Progress Ave:geo:-80.105024,40.709137
END:VEVENT
BEGIN:VEVENT
DTSTART;VALUE=DATE:20150331
DTEND;VALUE=DATE:20150401
DTSTAMP:20260422T213003
CREATED:20150326T180839Z
LAST-MODIFIED:20150326T180839Z
UID:5766-1427760000-1427846399@playpittsburgh.com
SUMMARY:Bargain Movie Tuesday at North Versailles Stadium 18
DESCRIPTION:Take advantage of the best movie prices in Pittsburgh! $4 movie tickets all day!
URL:https://playpittsburgh.com/event/bargain-movie-tuesday-at-north-versailles-stadium-18/2015-03-31/
LOCATION:North Versailles Stadium 18\, 1701 Lincoln Highway\, North Versailles\, 15137
GEO:40.3714501;-79.7855224
X-APPLE-STRUCTURED-LOCATION;VALUE=URI;X-ADDRESS=North Versailles Stadium 18 1701 Lincoln Highway North Versailles 15137;X-APPLE-RADIUS=500;X-TITLE=1701 Lincoln Highway:geo:-79.7855224,40.3714501
END:VEVENT
BEGIN:VEVENT
DTSTART;VALUE=DATE:20150331
DTEND;VALUE=DATE:20150401
DTSTAMP:20260422T213003
CREATED:20150326T175436Z
LAST-MODIFIED:20150326T175436Z
UID:5757-1427760000-1427846399@playpittsburgh.com
SUMMARY:Discount Tuesdays at Cinemark Theaters
DESCRIPTION:Discount Tuesdays offers $5.50 admission at the Robinson Township location\, and $5 admission at the Galleria Pittsburgh Mills and Monaca locations.
URL:https://playpittsburgh.com/event/discount-tuesdays-at-cinemark-theaters-2/2015-03-31/
END:VEVENT
BEGIN:VEVENT
DTSTART;VALUE=DATE:20150331
DTEND;VALUE=DATE:20150401
DTSTAMP:20260422T213003
CREATED:20150325T221132Z
LAST-MODIFIED:20150325T221132Z
UID:5682-1427760000-1427846399@playpittsburgh.com
SUMMARY:Disney’s Beauty and the Beast at Heinz Hall
DESCRIPTION:Disney’s BEAUTY AND THE BEAST\, the smash hit Broadway musical\, is coming to Heinz Hall in Pittsburgh. \nShowtimes \n\nTue\, Mar 31\, 2015 7:30 PM\nWed\, Apr 1\, 2015 7:30 PM\nThu\, Apr 2\, 2015 1:00 PM & 7:30 PM\nFri\, Apr 3\, 2015 8:00 PM\nSat\, Apr 4\, 2015 2:00 PM & 8:00 PM\nSun\, Apr 5\, 2015 1:00 PM
URL:https://playpittsburgh.com/event/disneys-beauty-and-the-beast-at-heinz-hall/2015-03-31/
LOCATION:Heinz Hall\, 600 Penn Ave\, Pittsburgh\, PA\, 15222\, United States
GEO:40.4427239;-80.0017558
X-APPLE-STRUCTURED-LOCATION;VALUE=URI;X-ADDRESS=Heinz Hall 600 Penn Ave Pittsburgh PA 15222 United States;X-APPLE-RADIUS=500;X-TITLE=600 Penn Ave:geo:-80.0017558,40.4427239
END:VEVENT
END:VCALENDAR