BEGIN:VCALENDAR
VERSION:2.0
PRODID:-//Play Pittsburgh - ECPv6.15.20//NONSGML v1.0//EN
CALSCALE:GREGORIAN
METHOD:PUBLISH
X-WR-CALNAME:Play Pittsburgh
X-ORIGINAL-URL:https://playpittsburgh.com
X-WR-CALDESC:Events for Play Pittsburgh
REFRESH-INTERVAL;VALUE=DURATION:PT1H
X-Robots-Tag:noindex
X-PUBLISHED-TTL:PT1H
BEGIN:VTIMEZONE
TZID:America/New_York
BEGIN:DAYLIGHT
TZOFFSETFROM:-0500
TZOFFSETTO:-0400
TZNAME:EDT
DTSTART:20130310T070000
END:DAYLIGHT
BEGIN:STANDARD
TZOFFSETFROM:-0400
TZOFFSETTO:-0500
TZNAME:EST
DTSTART:20131103T060000
END:STANDARD
BEGIN:DAYLIGHT
TZOFFSETFROM:-0500
TZOFFSETTO:-0400
TZNAME:EDT
DTSTART:20140309T070000
END:DAYLIGHT
BEGIN:STANDARD
TZOFFSETFROM:-0400
TZOFFSETTO:-0500
TZNAME:EST
DTSTART:20141102T060000
END:STANDARD
BEGIN:DAYLIGHT
TZOFFSETFROM:-0500
TZOFFSETTO:-0400
TZNAME:EDT
DTSTART:20150308T070000
END:DAYLIGHT
BEGIN:STANDARD
TZOFFSETFROM:-0400
TZOFFSETTO:-0500
TZNAME:EST
DTSTART:20151101T060000
END:STANDARD
END:VTIMEZONE
BEGIN:VEVENT
DTSTART;TZID=America/New_York:20140607T150000
DTEND;TZID=America/New_York:20140607T210000
DTSTAMP:20260421T215731
CREATED:20140422T051332Z
LAST-MODIFIED:20140422T051332Z
UID:732-1402153200-1402174800@playpittsburgh.com
SUMMARY:Monster Mania Monster Truck Show
DESCRIPTION:Third Annual Monster Truck Show and figure 8 racing at the Pittsburgh Motor Speedway. Call to confirm times and pricing.
URL:https://playpittsburgh.com/event/monster-mania-monster-truck-show/
LOCATION:Pittsburgh Motor Speedway\, 23 Chestnut St\, Carnegie \, PA\, 15106\, United States
CATEGORIES:Sports Venue
GEO:40.4116498;-80.0832446
X-APPLE-STRUCTURED-LOCATION;VALUE=URI;X-ADDRESS=Pittsburgh Motor Speedway 23 Chestnut St Carnegie  PA 15106 United States;X-APPLE-RADIUS=500;X-TITLE=23 Chestnut St:geo:-80.0832446,40.4116498
END:VEVENT
BEGIN:VEVENT
DTSTART;TZID=America/New_York:20140525T110000
DTEND;TZID=America/New_York:20140525T130000
DTSTAMP:20260421T215731
CREATED:20140507T223054Z
LAST-MODIFIED:20140507T223054Z
UID:1252-1401015600-1401022800@playpittsburgh.com
SUMMARY:Kids Day at PNC Park
DESCRIPTION:Sundays are Kids Days! Every Sunday home game is a Kids Day. \nJoin in the fun and games at the #1 Cochran Family Fun Zone on Federal Street from 11am-1pm\, get a kid-friendly Pirates item at the gates (most Sundays) for kids ages 14 & younger with paid admission to the game\, and then stick around after the game when all kids are invited to “Run The Bases” right down on the field (weather permitting).
URL:https://playpittsburgh.com/event/kids-day-at-pnc-park/
LOCATION:PNC Park\, 115 Federal St\, Pittsburgh\, PA\, 15212\, United States
CATEGORIES:Outdoor,Sports Venue
GEO:40.4480946;-80.0042488
X-APPLE-STRUCTURED-LOCATION;VALUE=URI;X-ADDRESS=PNC Park 115 Federal St Pittsburgh PA 15212 United States;X-APPLE-RADIUS=500;X-TITLE=115 Federal St:geo:-80.0042488,40.4480946
END:VEVENT
BEGIN:VEVENT
DTSTART;TZID=America/New_York:20140523T160000
DTEND;TZID=America/New_York:20140523T190000
DTSTAMP:20260421T215731
CREATED:20140507T212114Z
LAST-MODIFIED:20140507T212114Z
UID:1231-1400860800-1400871600@playpittsburgh.com
SUMMARY:Kidz of Steel Physical Fitness Challenge
DESCRIPTION:As part of the Kids Zone at the Pittsburgh Fitness Expo\, Kidz of Steel will present the 60 Second Max-Rep Challenge. \nDo you have what it takes to set a new record? Prove it!  Free competition (male / female seperate divisions) \n\n[Elementary] 9 years old & under\n[Middle School] 10-13 years old\n[High School] 14+ years old\n\nFriday May 23rd 2014 4pm-7pm. This is an open invitation for youth to participate in the 2014 Kidz of Steel MAX REP Physical Fitness Challenge! This is a NON-PROFIT challenge and FREE competition for all participants:  In partnership with the Western PA Police Athletic League and Champions Association of Pittsburgh. \n\nOpen to all youth\, test your strength in free competitions\nAwards for 1st-3rd place awards in each division
URL:https://playpittsburgh.com/event/kidz-of-steel-physical-fitness-challenge/
LOCATION:Monroeville Convention Center\, 209 Mall Boulevard\, Monroeville \, PA\, 15146\, United States
CATEGORIES:Free,Indoor Play,Sports Venue
GEO:40.4326326;-79.790801
X-APPLE-STRUCTURED-LOCATION;VALUE=URI;X-ADDRESS=Monroeville Convention Center 209 Mall Boulevard Monroeville  PA 15146 United States;X-APPLE-RADIUS=500;X-TITLE=209 Mall Boulevard:geo:-79.790801,40.4326326
END:VEVENT
BEGIN:VEVENT
DTSTART;TZID=America/New_York:20140518T130000
DTEND;TZID=America/New_York:20140518T150000
DTSTAMP:20260421T215731
CREATED:20140507T164915Z
LAST-MODIFIED:20140507T164915Z
UID:1205-1400418000-1400425200@playpittsburgh.com
SUMMARY:Former Pittsburgh Pirate Jim Rooker Book Signing
DESCRIPTION:Former Pittsburgh Pirate Jim Rooker will be in our store this afternoon signing copies of his books\, Paul the Baseball\, Kitt the Mitt! and Matt the Bat! These books are perfect for children young and old\, and for baseball fans just the same.
URL:https://playpittsburgh.com/event/former-pittsburgh-pirate-jim-rooker-book-signing/
LOCATION:Barnes and Noble (Cranberry)\, Cranberry Square Shopping Center\, 1000 Cranberry Sq Dr.\, Cranberry Township\, PA\, 16066\, United States
CATEGORIES:Indoor Play,Sports Venue
GEO:40.6849626;-80.1071379
X-APPLE-STRUCTURED-LOCATION;VALUE=URI;X-ADDRESS=Barnes and Noble (Cranberry) Cranberry Square Shopping Center 1000 Cranberry Sq Dr. Cranberry Township PA 16066 United States;X-APPLE-RADIUS=500;X-TITLE=Cranberry Square Shopping Center\, 1000 Cranberry Sq Dr.:geo:-80.1071379,40.6849626
END:VEVENT
BEGIN:VEVENT
DTSTART;TZID=America/New_York:20140517T090000
DTEND;TZID=America/New_York:20140517T120000
DTSTAMP:20260421T215731
CREATED:20140516T145735Z
LAST-MODIFIED:20140516T145735Z
UID:1446-1400317200-1400328000@playpittsburgh.com
SUMMARY:Camp15
DESCRIPTION:As a part of “Bright Night: A Larimer Light Festival”\, Pittsburgh native Brandon Marshall will be conducting a camp that provides local youth a chance to develop both the on field skills necessary to performing at the next higher level as well as develop off field skills crucial to success at life in general. Pre-register online. 
URL:https://playpittsburgh.com/event/camp15/
LOCATION:Joe Natoli Field\, President Way\, Pittsburgh\, PA\, 15206\, United States
CATEGORIES:Festivals,Free,Outdoor,Sports Venue
ORGANIZER;CN="The Brandon Marshall Foundation":MAILTO:http://platform.thebrandonmarshall.com/
GEO:40.4845949;-79.9255552
X-APPLE-STRUCTURED-LOCATION;VALUE=URI;X-ADDRESS=Joe Natoli Field President Way Pittsburgh PA 15206 United States;X-APPLE-RADIUS=500;X-TITLE=President Way:geo:-79.9255552,40.4845949
END:VEVENT
END:VCALENDAR