BEGIN:VCALENDAR
VERSION:2.0
PRODID:-//Play Pittsburgh - ECPv6.15.20//NONSGML v1.0//EN
CALSCALE:GREGORIAN
METHOD:PUBLISH
X-WR-CALNAME:Play Pittsburgh
X-ORIGINAL-URL:https://playpittsburgh.com
X-WR-CALDESC:Events for Play Pittsburgh
REFRESH-INTERVAL;VALUE=DURATION:PT1H
X-Robots-Tag:noindex
X-PUBLISHED-TTL:PT1H
BEGIN:VTIMEZONE
TZID:America/New_York
BEGIN:DAYLIGHT
TZOFFSETFROM:-0500
TZOFFSETTO:-0400
TZNAME:EDT
DTSTART:20130310T070000
END:DAYLIGHT
BEGIN:STANDARD
TZOFFSETFROM:-0400
TZOFFSETTO:-0500
TZNAME:EST
DTSTART:20131103T060000
END:STANDARD
BEGIN:DAYLIGHT
TZOFFSETFROM:-0500
TZOFFSETTO:-0400
TZNAME:EDT
DTSTART:20140309T070000
END:DAYLIGHT
BEGIN:STANDARD
TZOFFSETFROM:-0400
TZOFFSETTO:-0500
TZNAME:EST
DTSTART:20141102T060000
END:STANDARD
BEGIN:DAYLIGHT
TZOFFSETFROM:-0500
TZOFFSETTO:-0400
TZNAME:EDT
DTSTART:20150308T070000
END:DAYLIGHT
BEGIN:STANDARD
TZOFFSETFROM:-0400
TZOFFSETTO:-0500
TZNAME:EST
DTSTART:20151101T060000
END:STANDARD
END:VTIMEZONE
BEGIN:VEVENT
DTSTART;TZID=America/New_York:20141018T073000
DTEND;TZID=America/New_York:20141018T110000
DTSTAMP:20260421T200721
CREATED:20140811T192553Z
LAST-MODIFIED:20140811T193626Z
UID:3223-1413617400-1413630000@playpittsburgh.com
SUMMARY:Ram Run 5K and 1 Mile Family Run/Walk
DESCRIPTION:The Wexford Elementary PTO invites you to attend our first annual Ram Run 5K and 1 Mile Family Run/Walk. This event is open to the public for\ncompetitive and casual runners and walkers- great event for families and children! \n• The 2 loop certiied course starts and ends at the South Ridge Swimming Pool at North Park. Course is lat with rolling hills.\n• All 5K runners will be issued a timing chip.\n• Race results will be posted at race site and on The Runners High website.\n• 5K trophies and prizes awarded to Top 3 Overall male/female\, Top 3 Masters male/ female (40 and over)\n• 5K trophies awarded to Top 3 in each age group male/female: 8 & under\, 9-11\, 12 – 15\, 16 -19\, 20 – 29\, 30 – 39\, 40 – 49\, 50 – 59\, and 60+\n• Free kids activities and family fun will follow the race!\n• Baby joggers and strollers are permitted\, however\, for the safety of our runners no pets\, bicycles\, skates or skateboards are allowed.\n• Packet pick up 7:30am\, October 18th\, at race registration table. \nSaturday\, October 18\, 2014 – Rain or Shine\n\n7:30AM Registration\n8:30AM 1 Mile Family Run/Walk Start\n9:15AM 5K Start\nKids Activities and Family Fun to follow the race!!\n\nIndividuals may register by mail (via ‘individual registration form) or online at Race360 (link is on brochure). Families who opt to do the 1 mile walk as a ‘family’ must register via mail by completing the ‘family’ registration form. \nProceeds will benefit the Wexford Elementary PTO. \nDownload the Registration form.
URL:https://playpittsburgh.com/event/ram-run-5k-and-1-mile-family-runwalk/
LOCATION:North Park\, Pearce Mill Road\, Pittsburgh\, PA\, 15101\, United States
CATEGORIES:Outdoor,Sports Venue
GEO:40.6060347;-80.0069905
X-APPLE-STRUCTURED-LOCATION;VALUE=URI;X-ADDRESS=North Park Pearce Mill Road Pittsburgh PA 15101 United States;X-APPLE-RADIUS=500;X-TITLE=Pearce Mill Road:geo:-80.0069905,40.6060347
END:VEVENT
BEGIN:VEVENT
DTSTART;TZID=America/New_York:20140930T100000
DTEND;TZID=America/New_York:20140930T150000
DTSTAMP:20260421T200721
CREATED:20140902T023505Z
LAST-MODIFIED:20140902T054027Z
UID:3594-1412071200-1412089200@playpittsburgh.com
SUMMARY:FREE Heinz Field Tours
DESCRIPTION:Home of the Pittsburgh Steelers\, Univeristy of Pittsburgh football and a host of special events and concerts. Tours on the hour; last tour starts at 3pm; limit 50 guests per hour; first come-first served. Enter under the FedEx Great Hall sign along Art Rooney Ave.
URL:https://playpittsburgh.com/event/free-heinz-field-tours/
LOCATION:Heinz Field\, 100 Art Rooney Ave\, Pittsburgh\, PA\, 15212\, United States
CATEGORIES:Free,RADical Days,Sports Venue
GEO:40.4460204;-80.0153356
X-APPLE-STRUCTURED-LOCATION;VALUE=URI;X-ADDRESS=Heinz Field 100 Art Rooney Ave Pittsburgh PA 15212 United States;X-APPLE-RADIUS=500;X-TITLE=100 Art Rooney Ave:geo:-80.0153356,40.4460204
END:VEVENT
BEGIN:VEVENT
DTSTART;TZID=America/New_York:20140924T100000
DTEND;TZID=America/New_York:20140924T150000
DTSTAMP:20260421T200721
CREATED:20140902T015247Z
LAST-MODIFIED:20140902T053454Z
UID:3590-1411552800-1411570800@playpittsburgh.com
SUMMARY:FREE PNC Park Tours
DESCRIPTION:Free Admission 10am-3pm (TOURS ONLY)\nTake a behind-the-scenes tour of The Best Ballpark in America. Places you may visit are the Legacy Theatre\, Batting Cages\, Dugout\, and Press Box. Tours take place on the hour from 10am-3pm with the last tour starting at 2pm; 60 guest maximum\, on a first-come\, first-served basis. No reservations will be taken. Please enter at the Allegheny Health Network Gate on Federal Street\, by the Willie Stargell Statue.
URL:https://playpittsburgh.com/event/free-pnc-park-tours/
LOCATION:PNC Park\, 115 Federal St\, Pittsburgh\, PA\, 15212\, United States
CATEGORIES:Free,RADical Days,Sports Venue
GEO:40.4480946;-80.0042488
X-APPLE-STRUCTURED-LOCATION;VALUE=URI;X-ADDRESS=PNC Park 115 Federal St Pittsburgh PA 15212 United States;X-APPLE-RADIUS=500;X-TITLE=115 Federal St:geo:-80.0042488,40.4480946
END:VEVENT
BEGIN:VEVENT
DTSTART;TZID=America/New_York:20140914T110000
DTEND;TZID=America/New_York:20140914T130000
DTSTAMP:20260421T200721
CREATED:20140507T223802Z
LAST-MODIFIED:20140507T223802Z
UID:1260-1410692400-1410699600@playpittsburgh.com
SUMMARY:Kids Day at PNC Park
DESCRIPTION:Sundays are Kids Days! Every Sunday home game is a Kids Day. \nJoin in the fun and games at the #1 Cochran Family Fun Zone on Federal Street from 11am-1pm\, get a kid-friendly Pirates item at the gates (most Sundays) for kids ages 14 & younger with paid admission to the game\, and then stick around after the game when all kids are invited to “Run The Bases” right down on the field (weather permitting).
URL:https://playpittsburgh.com/event/kids-day-at-pnc-park-8/2014-09-14/
LOCATION:PNC Park\, 115 Federal St\, Pittsburgh\, PA\, 15212\, United States
CATEGORIES:Outdoor,Sports Venue
GEO:40.4480946;-80.0042488
X-APPLE-STRUCTURED-LOCATION;VALUE=URI;X-ADDRESS=PNC Park 115 Federal St Pittsburgh PA 15212 United States;X-APPLE-RADIUS=500;X-TITLE=115 Federal St:geo:-80.0042488,40.4480946
END:VEVENT
BEGIN:VEVENT
DTSTART;TZID=America/New_York:20140831T110000
DTEND;TZID=America/New_York:20140831T130000
DTSTAMP:20260421T200721
CREATED:20140507T223655Z
LAST-MODIFIED:20140507T223655Z
UID:1259-1409482800-1409490000@playpittsburgh.com
SUMMARY:Kids Day at PNC Park
DESCRIPTION:Sundays are Kids Days! Every Sunday home game is a Kids Day. \nJoin in the fun and games at the #1 Cochran Family Fun Zone on Federal Street from 11am-1pm\, get a kid-friendly Pirates item at the gates (most Sundays) for kids ages 14 & younger with paid admission to the game\, and then stick around after the game when all kids are invited to “Run The Bases” right down on the field (weather permitting).
URL:https://playpittsburgh.com/event/kids-day-at-pnc-park-7/
LOCATION:PNC Park\, 115 Federal St\, Pittsburgh\, PA\, 15212\, United States
CATEGORIES:Outdoor,Sports Venue
GEO:40.4480946;-80.0042488
X-APPLE-STRUCTURED-LOCATION;VALUE=URI;X-ADDRESS=PNC Park 115 Federal St Pittsburgh PA 15212 United States;X-APPLE-RADIUS=500;X-TITLE=115 Federal St:geo:-80.0042488,40.4480946
END:VEVENT
BEGIN:VEVENT
DTSTART;TZID=America/New_York:20140810T110000
DTEND;TZID=America/New_York:20140810T130000
DTSTAMP:20260421T200721
CREATED:20140507T223610Z
LAST-MODIFIED:20140507T223610Z
UID:1258-1407668400-1407675600@playpittsburgh.com
SUMMARY:Kids Day at PNC Park
DESCRIPTION:Sundays are Kids Days! Every Sunday home game is a Kids Day. \nJoin in the fun and games at the #1 Cochran Family Fun Zone on Federal Street from 11am-1pm\, get a kid-friendly Pirates item at the gates (most Sundays) for kids ages 14 & younger with paid admission to the game\, and then stick around after the game when all kids are invited to “Run The Bases” right down on the field (weather permitting).
URL:https://playpittsburgh.com/event/kids-day-at-pnc-park-6/
LOCATION:PNC Park\, 115 Federal St\, Pittsburgh\, PA\, 15212\, United States
CATEGORIES:Outdoor,Sports Venue
GEO:40.4480946;-80.0042488
X-APPLE-STRUCTURED-LOCATION;VALUE=URI;X-ADDRESS=PNC Park 115 Federal St Pittsburgh PA 15212 United States;X-APPLE-RADIUS=500;X-TITLE=115 Federal St:geo:-80.0042488,40.4480946
END:VEVENT
BEGIN:VEVENT
DTSTART;TZID=America/New_York:20140720T110000
DTEND;TZID=America/New_York:20140720T130000
DTSTAMP:20260421T200721
CREATED:20140507T223459Z
LAST-MODIFIED:20140507T223459Z
UID:1257-1405854000-1405861200@playpittsburgh.com
SUMMARY:Kids Day at PNC Park
DESCRIPTION:Sundays are Kids Days! Every Sunday home game is a Kids Day. \nJoin in the fun and games at the #1 Cochran Family Fun Zone on Federal Street from 11am-1pm\, get a kid-friendly Pirates item at the gates (most Sundays) for kids ages 14 & younger with paid admission to the game\, and then stick around after the game when all kids are invited to “Run The Bases” right down on the field (weather permitting).
URL:https://playpittsburgh.com/event/kids-day-at-pnc-park-5/
LOCATION:PNC Park\, 115 Federal St\, Pittsburgh\, PA\, 15212\, United States
CATEGORIES:Outdoor,Sports Venue
GEO:40.4480946;-80.0042488
X-APPLE-STRUCTURED-LOCATION;VALUE=URI;X-ADDRESS=PNC Park 115 Federal St Pittsburgh PA 15212 United States;X-APPLE-RADIUS=500;X-TITLE=115 Federal St:geo:-80.0042488,40.4480946
END:VEVENT
BEGIN:VEVENT
DTSTART;TZID=America/New_York:20140706T110000
DTEND;TZID=America/New_York:20140706T130000
DTSTAMP:20260421T200721
CREATED:20140507T223342Z
LAST-MODIFIED:20140507T223342Z
UID:1256-1404644400-1404651600@playpittsburgh.com
SUMMARY:Kids Day at PNC Park
DESCRIPTION:Sundays are Kids Days! Every Sunday home game is a Kids Day. \nJoin in the fun and games at the #1 Cochran Family Fun Zone on Federal Street from 11am-1pm\, get a kid-friendly Pirates item at the gates (most Sundays) for kids ages 14 & younger with paid admission to the game\, and then stick around after the game when all kids are invited to “Run The Bases” right down on the field (weather permitting).
URL:https://playpittsburgh.com/event/kids-day-at-pnc-park-4/
LOCATION:PNC Park\, 115 Federal St\, Pittsburgh\, PA\, 15212\, United States
CATEGORIES:Outdoor,Sports Venue
GEO:40.4480946;-80.0042488
X-APPLE-STRUCTURED-LOCATION;VALUE=URI;X-ADDRESS=PNC Park 115 Federal St Pittsburgh PA 15212 United States;X-APPLE-RADIUS=500;X-TITLE=115 Federal St:geo:-80.0042488,40.4480946
END:VEVENT
BEGIN:VEVENT
DTSTART;TZID=America/New_York:20140629T110000
DTEND;TZID=America/New_York:20140629T130000
DTSTAMP:20260421T200721
CREATED:20140507T223237Z
LAST-MODIFIED:20140507T223237Z
UID:1255-1404039600-1404046800@playpittsburgh.com
SUMMARY:Kids Day at PNC Park
DESCRIPTION:Sundays are Kids Days! Every Sunday home game is a Kids Day. \nJoin in the fun and games at the #1 Cochran Family Fun Zone on Federal Street from 11am-1pm\, get a kid-friendly Pirates item at the gates (most Sundays) for kids ages 14 & younger with paid admission to the game\, and then stick around after the game when all kids are invited to “Run The Bases” right down on the field (weather permitting).
URL:https://playpittsburgh.com/event/kids-day-at-pnc-park-3/
LOCATION:PNC Park\, 115 Federal St\, Pittsburgh\, PA\, 15212\, United States
CATEGORIES:Outdoor,Sports Venue
GEO:40.4480946;-80.0042488
X-APPLE-STRUCTURED-LOCATION;VALUE=URI;X-ADDRESS=PNC Park 115 Federal St Pittsburgh PA 15212 United States;X-APPLE-RADIUS=500;X-TITLE=115 Federal St:geo:-80.0042488,40.4480946
END:VEVENT
BEGIN:VEVENT
DTSTART;TZID=America/New_York:20140608T110000
DTEND;TZID=America/New_York:20140608T130000
DTSTAMP:20260421T200721
CREATED:20140507T223144Z
LAST-MODIFIED:20140507T223144Z
UID:1254-1402225200-1402232400@playpittsburgh.com
SUMMARY:Kids Day at PNC Park
DESCRIPTION:Sundays are Kids Days! Every Sunday home game is a Kids Day. \nJoin in the fun and games at the #1 Cochran Family Fun Zone on Federal Street from 11am-1pm\, get a kid-friendly Pirates item at the gates (most Sundays) for kids ages 14 & younger with paid admission to the game\, and then stick around after the game when all kids are invited to “Run The Bases” right down on the field (weather permitting).
URL:https://playpittsburgh.com/event/kids-day-at-pnc-park-2/
LOCATION:PNC Park\, 115 Federal St\, Pittsburgh\, PA\, 15212\, United States
CATEGORIES:Outdoor,Sports Venue
GEO:40.4480946;-80.0042488
X-APPLE-STRUCTURED-LOCATION;VALUE=URI;X-ADDRESS=PNC Park 115 Federal St Pittsburgh PA 15212 United States;X-APPLE-RADIUS=500;X-TITLE=115 Federal St:geo:-80.0042488,40.4480946
END:VEVENT
BEGIN:VEVENT
DTSTART;TZID=America/New_York:20140607T150000
DTEND;TZID=America/New_York:20140607T210000
DTSTAMP:20260421T200721
CREATED:20140422T051332Z
LAST-MODIFIED:20140422T051332Z
UID:732-1402153200-1402174800@playpittsburgh.com
SUMMARY:Monster Mania Monster Truck Show
DESCRIPTION:Third Annual Monster Truck Show and figure 8 racing at the Pittsburgh Motor Speedway. Call to confirm times and pricing.
URL:https://playpittsburgh.com/event/monster-mania-monster-truck-show/
LOCATION:Pittsburgh Motor Speedway\, 23 Chestnut St\, Carnegie \, PA\, 15106\, United States
CATEGORIES:Sports Venue
GEO:40.4116498;-80.0832446
X-APPLE-STRUCTURED-LOCATION;VALUE=URI;X-ADDRESS=Pittsburgh Motor Speedway 23 Chestnut St Carnegie  PA 15106 United States;X-APPLE-RADIUS=500;X-TITLE=23 Chestnut St:geo:-80.0832446,40.4116498
END:VEVENT
BEGIN:VEVENT
DTSTART;TZID=America/New_York:20140525T110000
DTEND;TZID=America/New_York:20140525T130000
DTSTAMP:20260421T200721
CREATED:20140507T223054Z
LAST-MODIFIED:20140507T223054Z
UID:1252-1401015600-1401022800@playpittsburgh.com
SUMMARY:Kids Day at PNC Park
DESCRIPTION:Sundays are Kids Days! Every Sunday home game is a Kids Day. \nJoin in the fun and games at the #1 Cochran Family Fun Zone on Federal Street from 11am-1pm\, get a kid-friendly Pirates item at the gates (most Sundays) for kids ages 14 & younger with paid admission to the game\, and then stick around after the game when all kids are invited to “Run The Bases” right down on the field (weather permitting).
URL:https://playpittsburgh.com/event/kids-day-at-pnc-park/
LOCATION:PNC Park\, 115 Federal St\, Pittsburgh\, PA\, 15212\, United States
CATEGORIES:Outdoor,Sports Venue
GEO:40.4480946;-80.0042488
X-APPLE-STRUCTURED-LOCATION;VALUE=URI;X-ADDRESS=PNC Park 115 Federal St Pittsburgh PA 15212 United States;X-APPLE-RADIUS=500;X-TITLE=115 Federal St:geo:-80.0042488,40.4480946
END:VEVENT
BEGIN:VEVENT
DTSTART;TZID=America/New_York:20140523T160000
DTEND;TZID=America/New_York:20140523T190000
DTSTAMP:20260421T200721
CREATED:20140507T212114Z
LAST-MODIFIED:20140507T212114Z
UID:1231-1400860800-1400871600@playpittsburgh.com
SUMMARY:Kidz of Steel Physical Fitness Challenge
DESCRIPTION:As part of the Kids Zone at the Pittsburgh Fitness Expo\, Kidz of Steel will present the 60 Second Max-Rep Challenge. \nDo you have what it takes to set a new record? Prove it!  Free competition (male / female seperate divisions) \n\n[Elementary] 9 years old & under\n[Middle School] 10-13 years old\n[High School] 14+ years old\n\nFriday May 23rd 2014 4pm-7pm. This is an open invitation for youth to participate in the 2014 Kidz of Steel MAX REP Physical Fitness Challenge! This is a NON-PROFIT challenge and FREE competition for all participants:  In partnership with the Western PA Police Athletic League and Champions Association of Pittsburgh. \n\nOpen to all youth\, test your strength in free competitions\nAwards for 1st-3rd place awards in each division
URL:https://playpittsburgh.com/event/kidz-of-steel-physical-fitness-challenge/
LOCATION:Monroeville Convention Center\, 209 Mall Boulevard\, Monroeville \, PA\, 15146\, United States
CATEGORIES:Free,Indoor Play,Sports Venue
GEO:40.4326326;-79.790801
X-APPLE-STRUCTURED-LOCATION;VALUE=URI;X-ADDRESS=Monroeville Convention Center 209 Mall Boulevard Monroeville  PA 15146 United States;X-APPLE-RADIUS=500;X-TITLE=209 Mall Boulevard:geo:-79.790801,40.4326326
END:VEVENT
BEGIN:VEVENT
DTSTART;TZID=America/New_York:20140518T130000
DTEND;TZID=America/New_York:20140518T150000
DTSTAMP:20260421T200721
CREATED:20140507T164915Z
LAST-MODIFIED:20140507T164915Z
UID:1205-1400418000-1400425200@playpittsburgh.com
SUMMARY:Former Pittsburgh Pirate Jim Rooker Book Signing
DESCRIPTION:Former Pittsburgh Pirate Jim Rooker will be in our store this afternoon signing copies of his books\, Paul the Baseball\, Kitt the Mitt! and Matt the Bat! These books are perfect for children young and old\, and for baseball fans just the same.
URL:https://playpittsburgh.com/event/former-pittsburgh-pirate-jim-rooker-book-signing/
LOCATION:Barnes and Noble (Cranberry)\, Cranberry Square Shopping Center\, 1000 Cranberry Sq Dr.\, Cranberry Township\, PA\, 16066\, United States
CATEGORIES:Indoor Play,Sports Venue
GEO:40.6849626;-80.1071379
X-APPLE-STRUCTURED-LOCATION;VALUE=URI;X-ADDRESS=Barnes and Noble (Cranberry) Cranberry Square Shopping Center 1000 Cranberry Sq Dr. Cranberry Township PA 16066 United States;X-APPLE-RADIUS=500;X-TITLE=Cranberry Square Shopping Center\, 1000 Cranberry Sq Dr.:geo:-80.1071379,40.6849626
END:VEVENT
BEGIN:VEVENT
DTSTART;TZID=America/New_York:20140517T090000
DTEND;TZID=America/New_York:20140517T120000
DTSTAMP:20260421T200721
CREATED:20140516T145735Z
LAST-MODIFIED:20140516T145735Z
UID:1446-1400317200-1400328000@playpittsburgh.com
SUMMARY:Camp15
DESCRIPTION:As a part of “Bright Night: A Larimer Light Festival”\, Pittsburgh native Brandon Marshall will be conducting a camp that provides local youth a chance to develop both the on field skills necessary to performing at the next higher level as well as develop off field skills crucial to success at life in general. Pre-register online. 
URL:https://playpittsburgh.com/event/camp15/
LOCATION:Joe Natoli Field\, President Way\, Pittsburgh\, PA\, 15206\, United States
CATEGORIES:Festivals,Free,Outdoor,Sports Venue
ORGANIZER;CN="The Brandon Marshall Foundation":MAILTO:http://platform.thebrandonmarshall.com/
GEO:40.4845949;-79.9255552
X-APPLE-STRUCTURED-LOCATION;VALUE=URI;X-ADDRESS=Joe Natoli Field President Way Pittsburgh PA 15206 United States;X-APPLE-RADIUS=500;X-TITLE=President Way:geo:-79.9255552,40.4845949
END:VEVENT
END:VCALENDAR