BEGIN:VCALENDAR
VERSION:2.0
PRODID:-//Play Pittsburgh - ECPv6.15.20//NONSGML v1.0//EN
CALSCALE:GREGORIAN
METHOD:PUBLISH
X-WR-CALNAME:Play Pittsburgh
X-ORIGINAL-URL:https://playpittsburgh.com
X-WR-CALDESC:Events for Play Pittsburgh
REFRESH-INTERVAL;VALUE=DURATION:PT1H
X-Robots-Tag:noindex
X-PUBLISHED-TTL:PT1H
BEGIN:VTIMEZONE
TZID:America/New_York
BEGIN:DAYLIGHT
TZOFFSETFROM:-0500
TZOFFSETTO:-0400
TZNAME:EDT
DTSTART:20130310T070000
END:DAYLIGHT
BEGIN:STANDARD
TZOFFSETFROM:-0400
TZOFFSETTO:-0500
TZNAME:EST
DTSTART:20131103T060000
END:STANDARD
BEGIN:DAYLIGHT
TZOFFSETFROM:-0500
TZOFFSETTO:-0400
TZNAME:EDT
DTSTART:20140309T070000
END:DAYLIGHT
BEGIN:STANDARD
TZOFFSETFROM:-0400
TZOFFSETTO:-0500
TZNAME:EST
DTSTART:20141102T060000
END:STANDARD
BEGIN:DAYLIGHT
TZOFFSETFROM:-0500
TZOFFSETTO:-0400
TZNAME:EDT
DTSTART:20150308T070000
END:DAYLIGHT
BEGIN:STANDARD
TZOFFSETFROM:-0400
TZOFFSETTO:-0500
TZNAME:EST
DTSTART:20151101T060000
END:STANDARD
END:VTIMEZONE
BEGIN:VEVENT
DTSTART;TZID=America/New_York:20140601T193000
DTEND;TZID=America/New_York:20140601T210000
DTSTAMP:20260422T094107
CREATED:20140528T162159Z
LAST-MODIFIED:20140528T162159Z
UID:1810-1401651000-1401656400@playpittsburgh.com
SUMMARY:Hartwood Acres Summer Concert Series
DESCRIPTION:Bring a blanket or a lawn chair and enjoy a free\, outdoor concert at Hartwood Acres. The concerts are open to the public and FREE for all (excluding the Blues Festival). \n\nJune 1: The Abby Lee Dance Company’s Kick-Off to Summer!  7:30 pm\nJune 8: 28 North with 7Horse (Rock)  7:30 pm\nJune 15: Father’s Day Car Cruise followed by Pure Gold (Oldies) Cruise: 2-7 pm\, Concert:  7:30 pm\nJune 22: Sonny Landreth with Kevin Garrett (Delta Blues/Guitar) 7:30 pm\nJune 29: Bruce Hornsby and the Noisemakers (Pop/Folk/Jazz/Jam) 7:30 pm\nJuly 6: Pittsburgh Symphony Orchestra  8:00 pm\nJuly 13: BNY Mellon Jazz Presents Pittsburgh Jazz Orchestra with Special Guest Paquito D’Rivera (Jazz) 7:30 pm\nJuly 20: Lake Street Dive with Brooke Annibale (Indie Pop/Jazz/Soul) 7:30 pm\nJuly 25-27: 20th Annual Pittsburgh Blues Festival\, Friday 4-10:30 pm\, Sat & Sun  1:30-10:30 pm\nAugust 3: Jerry Douglas with Nameless in August (Bluegrass) 7:30 pm\nAugust 10: Macy Gray (R&B/Soul) 7:30 pm\nAugust 17: Pittsburgh Ballet Theatre  7:30 pm\nAugust 24: Duquesne Tamburitzans
URL:https://playpittsburgh.com/event/hartwood-acres-summer-concert-series/2014-06-01/
LOCATION:Hartwood Acres\, 200 Hartwood Acres\, Pittsburgh\, PA\, 15238\, United States
CATEGORIES:Festivals,Free,Outdoor,Performing Arts
GEO:40.5702568;-79.909023
X-APPLE-STRUCTURED-LOCATION;VALUE=URI;X-ADDRESS=Hartwood Acres 200 Hartwood Acres Pittsburgh PA 15238 United States;X-APPLE-RADIUS=500;X-TITLE=200 Hartwood Acres:geo:-79.909023,40.5702568
END:VEVENT
BEGIN:VEVENT
DTSTART;TZID=America/New_York:20140601T170000
DTEND;TZID=America/New_York:20140601T210000
DTSTAMP:20260422T094107
CREATED:20140528T013024Z
LAST-MODIFIED:20140528T013024Z
UID:1801-1401642000-1401656400@playpittsburgh.com
SUMMARY:Weather Permitting Opening Party at Shadyside Nursery
DESCRIPTION:Now in its second year\, Weather Permitting is a promotional outdoor weekly concert series held at the Shadyside Nursery. Each Sunday\, the nursery transforms into a vibrant event space that features bands\, beer from local breweries\, food trucks and a farmer’s marketplace. They have also have been known to have squirt gun battles and hula-hoop fun for kids of all ages. More than just an event\, this collaboration of local folks was built with the intention of supporting and promoting small businesses. With a permit that allows for expansion\, this year Weather Permitting is growing and able to offer additional space for local farm stands and other vendors to promote and sell their goods on site.
URL:https://playpittsburgh.com/event/weather-permitting-opening-party-at-shadyside-nursery/
LOCATION:Shadyside Nursery\, 510 Maryland Ave\, Shadyside\, PA\, 15213\, United States
CATEGORIES:Outdoor,Performing Arts
GEO:40.456264;-79.931201
X-APPLE-STRUCTURED-LOCATION;VALUE=URI;X-ADDRESS=Shadyside Nursery 510 Maryland Ave Shadyside PA 15213 United States;X-APPLE-RADIUS=500;X-TITLE=510 Maryland Ave:geo:-79.931201,40.456264
END:VEVENT
BEGIN:VEVENT
DTSTART;TZID=America/New_York:20140517T111500
DTEND;TZID=America/New_York:20140517T130000
DTSTAMP:20260422T094107
CREATED:20140422T010008Z
LAST-MODIFIED:20140422T010008Z
UID:689-1400325300-1400331600@playpittsburgh.com
SUMMARY:Fiddlesticks: A Salute to America
DESCRIPTION:A family friendly performance from the Pittsburgh Symphony Orchestra at Heinz Hall. The PSO and conductor Lawrence Loh salute our nation by performing a program of music inspired by America. From the heart-pounding drum line to the moving “Stars and Stripes Forever\,” you will happily march along with the PSO throughout this concert. And\, don’t miss the sing-along with Katy Williams in “You’re a Grand Ol’ Flag!” Arrive early for a chance to make crafts\, participate in sing-a-longs and look at the instruments up close.
URL:https://playpittsburgh.com/event/fiddlesticks-a-salute-to-america/
LOCATION:Heinz Hall\, 600 Penn Ave\, Pittsburgh\, PA\, 15222\, United States
CATEGORIES:Performing Arts
GEO:40.4427239;-80.0017558
X-APPLE-STRUCTURED-LOCATION;VALUE=URI;X-ADDRESS=Heinz Hall 600 Penn Ave Pittsburgh PA 15222 United States;X-APPLE-RADIUS=500;X-TITLE=600 Penn Ave:geo:-80.0017558,40.4427239
END:VEVENT
BEGIN:VEVENT
DTSTART;TZID=America/New_York:20140514T080000
DTEND;TZID=America/New_York:20140518T170000
DTSTAMP:20260422T094107
CREATED:20140422T023707Z
LAST-MODIFIED:20140422T023707Z
UID:6036-1400054400-1400432400@playpittsburgh.com
SUMMARY:Pittsburgh International Children's Festival
DESCRIPTION:Live performances engage people from different cultures and perspectives\, showing them different ways to express ideas. This year the 28th Festival moves to downtown Pittsburgh’s vibrant Cultural District\, showcasing classic Festival experiences as well as new adventures\, performances and theater. See website for showtimes and ticket prices.  \nOther Events & Activities: \n\n30 or more FREE hands-on educational and cultural activities\nFREE outdoor Community Stage featuring local and regional artists\nStories and activities from Citiparks’ Alphabet Trail & Tales and Roving Art Cart\nPop-up LilyPad Park at the center of the Festival footprint\nFrog Stop Scavenger Hunt throughout the Cultural District
URL:https://playpittsburgh.com/event/pittsburgh-international-childrens-festival-2/
LOCATION:Pittsburgh Cultural District\, 803 Liberty Ave\, Pittsburgh\, PA\, 15222\, United States
CATEGORIES:Festivals,Free,Outdoor,Performing Arts
GEO:40.4427812;-79.9991389
X-APPLE-STRUCTURED-LOCATION;VALUE=URI;X-ADDRESS=Pittsburgh Cultural District 803 Liberty Ave Pittsburgh PA 15222 United States;X-APPLE-RADIUS=500;X-TITLE=803 Liberty Ave:geo:-79.9991389,40.4427812
END:VEVENT
BEGIN:VEVENT
DTSTART;TZID=America/New_York:20140514T080000
DTEND;TZID=America/New_York:20140518T170000
DTSTAMP:20260422T094107
CREATED:20140422T023707Z
LAST-MODIFIED:20140422T023707Z
UID:713-1400054400-1400432400@playpittsburgh.com
SUMMARY:Pittsburgh International Children's Festival
DESCRIPTION:Live performances engage people from different cultures and perspectives\, showing them different ways to express ideas. This year the 28th Festival moves to downtown Pittsburgh’s vibrant Cultural District\, showcasing classic Festival experiences as well as new adventures\, performances and theater. See website for showtimes and ticket prices.  \nOther Events & Activities: \n\n30 or more FREE hands-on educational and cultural activities\nFREE outdoor Community Stage featuring local and regional artists\nStories and activities from Citiparks’ Alphabet Trail & Tales and Roving Art Cart\nPop-up LilyPad Park at the center of the Festival footprint\nFrog Stop Scavenger Hunt throughout the Cultural District
URL:https://playpittsburgh.com/event/pittsburgh-international-childrens-festival/
LOCATION:Pittsburgh Cultural District\, 803 Liberty Ave\, Pittsburgh\, PA\, 15222\, United States
CATEGORIES:Festivals,Free,Outdoor,Performing Arts
GEO:40.4427812;-79.9991389
X-APPLE-STRUCTURED-LOCATION;VALUE=URI;X-ADDRESS=Pittsburgh Cultural District 803 Liberty Ave Pittsburgh PA 15222 United States;X-APPLE-RADIUS=500;X-TITLE=803 Liberty Ave:geo:-79.9991389,40.4427812
END:VEVENT
BEGIN:VEVENT
DTSTART;TZID=America/New_York:20140510T140000
DTEND;TZID=America/New_York:20140510T153000
DTSTAMP:20260422T094107
CREATED:20140506T184040Z
LAST-MODIFIED:20140506T184040Z
UID:1175-1399730400-1399735800@playpittsburgh.com
SUMMARY:Hush: An Interview w/ America
DESCRIPTION:Pittsburgh Playhouse Jr. presents “Hush: An Interview with America.” \nAppropriate for 6th – 8th grade \nField Trip Performances: May 8-30\, 2014\nPublic Performances: Weekends\, May 10-25\, 2014 \n\nSaturday\, May 10th @ 2:00pm\nSaturday\, May 10th @ 7:00pm\nSunday\, May 11th @ 2:00pm\nSaturday\, May 17th @ 2:00pm\nSaturday\, May 17th @ 7:00pm\nSunday\, May 18th @ 2:00pm\nSaturday\, May 24th @ 2:00pm\nSaturday\, May 24th @ 7:00pm\nSunday\, May 24th @ 2:00pm\n\nSynopsis: What can Maggie Parks see that the rest of the world cannot? When a national news reporter thinks she’s found a great feel-good story about the young girl with mystical visions from Hush\, Kansas\, the attention has uncomfortable consequences. Using rich symbolism and surreal imagery\, Hush is an allegory about growing up\, individuality and the perils of celebrity.
URL:https://playpittsburgh.com/event/hush-an-interview-w-america/2014-05-10/
LOCATION:Pittsburgh Playhouse Jr.\, 222 Craft Ave\, Pittsburgh \, PA\, 15201\, United States
CATEGORIES:Performing Arts
GEO:40.4366392;-79.9626264
X-APPLE-STRUCTURED-LOCATION;VALUE=URI;X-ADDRESS=Pittsburgh Playhouse Jr. 222 Craft Ave Pittsburgh  PA 15201 United States;X-APPLE-RADIUS=500;X-TITLE=222 Craft Ave:geo:-79.9626264,40.4366392
END:VEVENT
BEGIN:VEVENT
DTSTART;TZID=America/New_York:20140501T193000
DTEND;TZID=America/New_York:20140511T140000
DTSTAMP:20260422T094107
CREATED:20140422T061434Z
LAST-MODIFIED:20140422T061434Z
UID:742-1398972600-1399816800@playpittsburgh.com
SUMMARY:Seussical the Musical
DESCRIPTION:Oh\, the Things You Can Think! Seussical is a fantastical\, magical\, musical extravaganza that brings to life all of your favorite Dr. Seuss friends. Bursting with frivolity and imagination\, the colorful characters transport us from the Jungle of Nool to the Circus McGurkus to the invisible world of the Whos. The musical score is top notch and reinforces the show themes of kindness\, acceptance and self-esteem includes “Oh\, the Things You Can Think”\, “It’s Possible\,” “How Lucky You Are\,” and “All For You”. \n\n\n\n\nThu\, May 1\, 2014 @  7:30 PM\nFri\, May 2\, 2014 @ 7:30 PM\nSat\, May 3\, 2014 @  7:30 PM\nSun\, May 4\, 2014 @ 2:00 PM\nFri\, May 9\, 2014 @ 7:30 PM\nSat\, May 10\, 2014 @ 7:30 PM\nSun\, May 11\, 2014 @ 2:00 PM
URL:https://playpittsburgh.com/event/seussical-the-musical/
LOCATION:Byham Theater\, 101 6th St\, Pittsburgh\, PA\, 15222\, United States
CATEGORIES:Performing Arts
GEO:40.4439183;-80.0018125
X-APPLE-STRUCTURED-LOCATION;VALUE=URI;X-ADDRESS=Byham Theater 101 6th St Pittsburgh PA 15222 United States;X-APPLE-RADIUS=500;X-TITLE=101 6th St:geo:-80.0018125,40.4439183
END:VEVENT
END:VCALENDAR