BEGIN:VCALENDAR
VERSION:2.0
PRODID:-//Play Pittsburgh - ECPv6.15.20//NONSGML v1.0//EN
CALSCALE:GREGORIAN
METHOD:PUBLISH
X-WR-CALNAME:Play Pittsburgh
X-ORIGINAL-URL:https://playpittsburgh.com
X-WR-CALDESC:Events for Play Pittsburgh
REFRESH-INTERVAL;VALUE=DURATION:PT1H
X-Robots-Tag:noindex
X-PUBLISHED-TTL:PT1H
BEGIN:VTIMEZONE
TZID:America/New_York
BEGIN:DAYLIGHT
TZOFFSETFROM:-0500
TZOFFSETTO:-0400
TZNAME:EDT
DTSTART:20150308T070000
END:DAYLIGHT
BEGIN:STANDARD
TZOFFSETFROM:-0400
TZOFFSETTO:-0500
TZNAME:EST
DTSTART:20151101T060000
END:STANDARD
BEGIN:DAYLIGHT
TZOFFSETFROM:-0500
TZOFFSETTO:-0400
TZNAME:EDT
DTSTART:20160313T070000
END:DAYLIGHT
BEGIN:STANDARD
TZOFFSETFROM:-0400
TZOFFSETTO:-0500
TZNAME:EST
DTSTART:20161106T060000
END:STANDARD
BEGIN:DAYLIGHT
TZOFFSETFROM:-0500
TZOFFSETTO:-0400
TZNAME:EDT
DTSTART:20170312T070000
END:DAYLIGHT
BEGIN:STANDARD
TZOFFSETFROM:-0400
TZOFFSETTO:-0500
TZNAME:EST
DTSTART:20171105T060000
END:STANDARD
END:VTIMEZONE
BEGIN:VEVENT
DTSTART;TZID=America/New_York:20160701T190000
DTEND;TZID=America/New_York:20160701T203000
DTSTAMP:20260423T201731
CREATED:20160701T023738Z
LAST-MODIFIED:20160701T023738Z
UID:9331-1467399600-1467405000@playpittsburgh.com
SUMMARY:Free Pittsburgh Symphony Concert at Soldiers and Sailors
DESCRIPTION:Presented in collaboration with Soldiers & Sailors Memorial Hall\, The Pittsburgh Symphony Orchestra returns to Soldiers & Sailors for a second concert celebrating the United States and those who protect it. This fun-for-the-whole-family concert is in support of Pittsburgh’s Bicentennial Celebration. \nAdmission is free\, but you must RSVP. Tickets can be reserved now.
URL:https://playpittsburgh.com/event/free-pittsburgh-symphony-concert-soldiers-sailors/
LOCATION:Soldiers and Sailors Memorial Hall and Museum\, 4141 Fifth Avenue\, Pittsburgh\, 15213
CATEGORIES:Free,Performing Arts
GEO:40.445051;-79.956439
X-APPLE-STRUCTURED-LOCATION;VALUE=URI;X-ADDRESS=Soldiers and Sailors Memorial Hall and Museum 4141 Fifth Avenue Pittsburgh 15213;X-APPLE-RADIUS=500;X-TITLE=4141 Fifth Avenue:geo:-79.956439,40.445051
END:VEVENT
BEGIN:VEVENT
DTSTART;TZID=America/New_York:20160706T121500
DTEND;TZID=America/New_York:20160706T130000
DTSTAMP:20260423T201731
CREATED:20160705T112002Z
LAST-MODIFIED:20160705T112002Z
UID:9596-1467807300-1467810000@playpittsburgh.com
SUMMARY:Solar Concert Series
DESCRIPTION:Enjoy free live music outside in the sunshine at Buhl Community Park at Allegheny Square. Bring your lunch and enjoy family-friendly concerts on a solar-powered sound system Wednesdays at 12:15 p.m. in July and August. This year’s lineup and links where you can learn more about each artist/band: \nJuly 6 – Truth and Rites – TnR is a Roots Reggae band based in Pittsburgh\nJuly 13 – Mike Why – Beatboxer\, vocalist\, and maker of funny sounds\nJuly 20 – City Dwelling Nature Seekers – City Dwelling Nature Seekers is a folk/rock band that has been performing locally and touring for the past 8 years\nJuly 27 – Meeting of Important People Acoustic! – Pittsburgh-based rock and roll band with a new album called Troika\nAugust 8 – SLB All Stars – Musicians from the Saturday Light Brigade playing your favorite songs\nAugust 10 – Lee Robinson and Iska – Exciting\, powerful musical journey through jazz styles of contemporary funk\, classical and original compositions.\nAugust 17 – Jakob’s Ferry Stragglers – The Jakob’s Ferry Stragglers draw freely from old-time\, bluegrass\, country\, jazz\, rockabilly and swing styles to create their tight\, high-energy string band music.\nAugust 24 – Heather Kropf – Pittsburgh-based artist Heather Kropf has forged a reputation as a talented\, dedicated songwriter and performer\, producing albums with attention to details that feature some of the city’s best players.\nAugust 31 – Ben Shannon – Ben Shannon is a performing songwriter in the American folk music tradition.
URL:https://playpittsburgh.com/event/solar-concert-series/2016-07-06/
LOCATION:Buhl Community Park\, 10 Children's Way\, Pittsburgh \, PA\, 15212
CATEGORIES:Free,Outdoor,Performing Arts
GEO:40.4527589;-80.0065519
X-APPLE-STRUCTURED-LOCATION;VALUE=URI;X-ADDRESS=Buhl Community Park 10 Children's Way Pittsburgh  PA 15212;X-APPLE-RADIUS=500;X-TITLE=10 Children's Way:geo:-80.0065519,40.4527589
END:VEVENT
BEGIN:VEVENT
DTSTART;VALUE=DATE:20160708
DTEND;VALUE=DATE:20160709
DTSTAMP:20260423T201731
CREATED:20160708T131638Z
LAST-MODIFIED:20160708T131638Z
UID:9657-1467936000-1468022399@playpittsburgh.com
SUMMARY:Deutschtown Music Festival
DESCRIPTION:  \nThe 4th annual Deutschtown Music fest will feature 185+ bands\, 22 stages\, 6 outdoor stages\, 20+ food vendors\, a beer garden and will be held on 2 days this year\, July 8th and 9th. All performances are FREE. Be sure to check the schedule as some performances are 21+ \nFriday\, July 8\, 2016 \nPENN BREWERY – Ratskeller – 800 Vinial St. (All Ages)\nFormally the Park Stage – moved indoors due to impending weather conditions.\n4 PM – Rox Academy\n5 PM – The Annajames Band\n6 PM – Chase the Monkey\n7 PM – PATTON\n8 PM – Pet Clinic \nJames St. Restaurant (Ground Floor) 422 Foreland St. ALL-AGES\n7 PM – The Chiodi Trio\n8 PM – Dennis Malley\n8:30 PM – Douglas Lowell Blevins\n9 PM – Vit DeBacco\n9:30PM – Samantha Sears\n10 PM – Seth Pfannenschmidt \nJames St. Speakeasy (Downstairs) – 422 Foreland St. 21+\n6 PM – Super Fun Time Awesome Party Band\n7 PM – Swiss Army\n8 PM – Young Fox\n9 PM – Blue Clutch\n10 PM – PL>Y \nJames St. Ballroom (Upstairs) 422 Foreland St. 21+\n5 PM – The Buckle Downs\n6 PM – Melinda\n7 PM – Avi Diamond\n8 PM – MVT\n9 PM – The Telephone Line\n10 PM – Diego\n11 PM – Gypsy & His Band of Ghosts \nScratch Food & Beverage – 1720 Lowrie Street ALL-AGES\n6 PM – Cranberry Sanders\n7 PM – The Rents\n8 PM – Ben Valasek & The Growlers\n9 PM – Slim Forsythe Band\n10 PM – Sun Hound\n11 PM – The Dovewires \nHuszar (formerly The Recovery Room) – 627 E North Avenue ALL-AGES\n6pm – 10pm – AcoustiCafe hosted by Paul Tabbachneck.\n– Open Stage and special guest performances by many of Pittsburgh’s premier singer-songwriters.\n10pm – Charlie Hustle & The Grifters \nThe Park House – 403 East Ohio St. 21+\n9:30 PM – Nameless in August \nSaturday\, July 9\, 2016 \nPark Stage (Outside) – Allegheny Commons East ALL-AGES\n11:00 AM – Ferdinand The Bull\n12:00 PM – Metacara\n1:00 PM – Strange Monsters\n2:00 PM – Paddy The Wanderer\n3:00 PM – Old Soles & Seedy Players\n4:00 PM – Delicious Pastries\n5:00 PM – Buffalo Buffalo Buffalo \nMain Stage (Outside) – Middle and Foreland Ave. ALL-AGES\nPresented by First National Bank\n2:00 PM – Memphis Hill\n3:00 PM – Bindley Hardware Co.\n4:00 PM – Devin Moses & The Saved\n5:00 PM – The Red Western\n6:00 PM – Jimbo & The Soupbones\n7:00 PM – The Hawkeyes\n8:00 PM – Meeting of Important People\n9:00 PM – Gene the Werewolf\n10:00 PM – Bastard Bearded Irishmen \nWigle Whiskey Barrelhouse and Whiskey Garden (Outside) – 1055 Spring Garden Ave. ALL-AGES\n12:00 PM – The Fed\n1:00 PM – As Ladders\n2:00 PM – The Mixus Brothers\n3:00 PM – Heather Kropf\n4:00 PM – Some Kind of Animal\n5:00 PM – Paul Tabachneck\n6:00 PM – Brewer’s Row\n7:00 PM – Morgan Erina\n8:00 PM – Brooke Annibale\n9:00 PM – Agnes Wired for Sound \nJames St. Ballroom (Upstairs) 422 Foreland St. 21+\n2:00 PM – The Full Counts\n3:00 PM – Working Breed\n4:00 PM – Flock of Walri\n5:00 PM – Essential Machine\n6:00 PM – The Nox Boys\n7:00 PM – Lofi Delphi\n8:00 PM – The Garment District\n9:00 PM – Misaligned Mind\n10:00 PM – Grand Piano\n11:00 PM – 28 North \nJames St. Speakeasy (Downstairs) – 422 Foreland St. 21+\n12:00 PM – Doors in the Labrynth\n1:00 PM – Shannon & The Merger\n2:00 PM – Good Ship Gibraltar\n3:00 PM – Nameless in August\n4:00 PM – Different Places in SPACE\n5:00 PM – Decaffeinated Grapefruit\n6:00 PM – For Dizzier Heights\n7:00 PM – Spacefish\n8:00 PM – The Wire Riots\n9:00 PM – Wolves in Sheeps Clothing\n10:00 PM – The Show\n11:00 PM – Ye Olde Royal Shithouse Players\n12:00 AM – Rat Tits \nJames St. Restaurant (Ground Floor) 422 Foreland St. ALL-AGES\n11:00 AM – J. Trafford\n12:00 PM – Jeremy Caywood / Clay McLeod\n1:00 PM – Swampwalk / The Anonymous Chronicles\n2:00 PM – we speak in colors/ Katie Dee & The Quaking Aspens\n3:00 PM – Bill Jasper Acoustics / Willis Tree\n4:00 PM – Bryan McQuaid / Brett Staggs\n5:00 PM – Flot Boi\n6:00 PM – Aaron Jaye / Nick M.\n7:00 PM – Jesse Prentiss / Corey James\n8:00 PM – Angela Cash / Van Blue\n9:00 PM – H&T / Epik Moss\n10:00 PM – Pyro / Edon Jacobs \nMax’s Allegheny Tavern Rathskeller – 537 Suismon St. 21+\n6:00 PM – Native Alloys\n7:00 PM – The Mutiny\n8:00 PM – The Me Toos\n9:00 PM – Orange Mammoth\n10:00 PM – Egomyth\n11:00 PM – Pro Wrestler \nPenn Brewery -The Terrace (All Ages) (Outside) – 800 Vinial St.\n8:00 PM – Thirty Years Later\n9:00 PM – Mind Explosion\n10:00 PM – TeraChain Sky\n11:00 PM – Robin Vote \nPenn Brewery The Biergarten (Outside) – ALL-AGES\n2:00 PM – Bobby V\n3:00 PM – Walker & the Rebellion\n4:00 PM – Dan Bubien\n5:00 PM – The Mike Medved Band\n6:00 PM – Cory Eaux \nPenn Brewery Restaurant – 800 Vinial St. ALL-AGES\n2:00 PM – The Hipsters\n3:00 PM – The Shiners\n4:00 PM – Whiskey River Panhandlers\n5:00 PM – Music From Another Room\n6:00 PM – Suisideburns\n7:00 PM – Charm & Chain\n8:00 PM – David Dickinson\n9:00 PM – Transcontinental Boozehounds \nAllegheny Elks Lodge #339 – 400 Cedar Ave. 21+\n7:00 PM – André Costello and the Cool Minors\n8:00 PM – Wreck Loose\n9:00 PM – The Commonheart\n10:00 PM – Chrome Moses\n11:00 PM – Bad Custer \nArnolds Tea Room – 502 East Ohio St. ALL-AGES\n12:00 PM – The Ray Lanich Band\n1:00 PM – The Lo-Fi Project\n2:00 PM – The Dark Lines\n3:00 PM – Blithehound\n4:00 PM – Dan Getkin\n5:00 PM – Machete Kisumontao\n6:00 PM – Ishtar Vintage Bellydance Band\n7:00 PM – Yo Mama’s Samba \nAllegheny City Brewing – 507 Foreland St.\n3:00 PM – Hedonism Bots\n4:00 PM – Denzell\n5:00 PM – The Danzas\n6:00 PM – ATLAS\n7:00 PM – The Clock Reads\n8:00 PM – The Turbosonics\n9:00 PM – The Filthy Lowdown\n10:00 PM – World’s Scariest Police Chases\n11:00 PM – 13 Saints \nDouble R Café – 709 East St. 21+\n6:00 PM – Solarburn\n7:00 PM – Elkhound\n8:00 PM – Fourth River Revival\n9:00 PM – There You Are\n10:00 PM – The Love Letters\n11:00 PM – Byron Nash & Plan B\n12:00 AM – The Weird Paul Rock Band \nVerdetto’s – 814 Madison Ave. 21+\n8:00 PM – Three River Revival\n9:00 PM – Chris Vipond & The Stanley Street Band\n10:00 PM – Them Labs\n11:00 PM – Circles & Squares\n12:00 AM – Eastend Mile \nYMR Club – 631 Suismon St. 21+\n6:00 PM – Mickey & Snake Oil Boys\n7:00 PM – Brett Staggs\n8:00 PM – Dirty Charms\n9:00 PM – SuperMonkey\n10:00PM – Honeyriders \nThe Modern Café – 862 Western Ave. 21+\n7:00 PM – Hepcat Dilemna\n8:00 PM – The Shifted Past\n9:00 PM – Sea Rights\n10:00 PM – William Forrest\n11:00 PM – Emerson Jay \nSt. Mary’s Lyceum – 910 Chestnut St.\n6:00 PM – Turnpike Gardens\n7:00 PM – St. Dude\n8:00 PM – Action Camp\n9:00 PM – The Freshes\n10:00 PM – The Semi-Supervillians \nScratch Food & Beverage – 1720 Lowrie St. ALL-AGES\n6:00 PM – Scott & Rosanna\n7:00 PM – Andy Van Lewis\n8:00 PM – Wine & Spirit\n9:00 PM – Absolution Key\n10:00 PM – Brash Teeth\n11:00 PM – Red Room Effect \nHuszar (formerly The Recovery Room) – 627 E North Avenue ALL-AGES\n2pm Bat Zuppel\n3pm Murder for Girls\n4pm The Redlines\n5pm Street Pigeons\n6pm Ugly Blondes\n7pm Those Gorgeous Bastards\n8pm CHANGE SOUND TO INDOOR\n9pm Mike Cali\n10pm Victory at the Crossroads\n11pm Clay McLeod & Pittsburgh Rare \nCarmi Soul Food Restaurant – 917 Western Ave. ALL-AGES\n6:00 PM – Vox Imago\n7:00 PM – Lee Robinson\n8:00 PM – Kyle Greene: Bass Cadet \nThe Park House – 403 East Ohio St. 21+\n6:00 PM – Grant Street Grifters\n9:00 PM – Chillent \nAllegheny Center Alliance Church Stage – E. Ohio and Union Ave.\n3pm Escape Music Group\n4pm CIY / DJ Party\n5pm Radical 4 Christ
URL:https://playpittsburgh.com/event/deutschtown-music-festival-3/2016-07-08/
LOCATION:North Side\, East Ohio Street \, Pittsburgh\, PA\, United States
CATEGORIES:Performing Arts
GEO:40.4642989;-79.9803274
X-APPLE-STRUCTURED-LOCATION;VALUE=URI;X-ADDRESS=North Side East Ohio Street  Pittsburgh PA United States;X-APPLE-RADIUS=500;X-TITLE=East Ohio Street:geo:-79.9803274,40.4642989
END:VEVENT
BEGIN:VEVENT
DTSTART;TZID=America/New_York:20160710T120000
DTEND;TZID=America/New_York:20160710T170000
DTSTAMP:20260423T201731
CREATED:20160704T144154Z
LAST-MODIFIED:20160709T024505Z
UID:9407-1468152000-1468170000@playpittsburgh.com
SUMMARY:Kids Day at SouthSide Works Exposed
DESCRIPTION:It’s time for the 12th Annual SouthSide Works Exposed! Showcasing 60+ local artists that will line South 27th Street plus live music and local food trucks! \nFestivities will be going on Friday\, Saturday and Sunday – special kids activities on Sunday from 12-5pm. \nDiscover local artists\, musicians\, food activities and more. Kids’ Day at SouthSide Works features live animals\, a magic show\, kids zumba and Kelsey Friday and the Rest of the Week Band! Come hungry… food trucks galore!
URL:https://playpittsburgh.com/event/kids-day-southside-works-exposed/
LOCATION:South Side Works\, 425 Cinema Dr\, Pittsburgh\, PA\, 15203\, United States
CATEGORIES:Festivals,Performing Arts
GEO:40.4282911;-79.965345
X-APPLE-STRUCTURED-LOCATION;VALUE=URI;X-ADDRESS=South Side Works 425 Cinema Dr Pittsburgh PA 15203 United States;X-APPLE-RADIUS=500;X-TITLE=425 Cinema Dr:geo:-79.965345,40.4282911
END:VEVENT
END:VCALENDAR