BEGIN:VCALENDAR
VERSION:2.0
PRODID:-//Play Pittsburgh - ECPv6.15.20//NONSGML v1.0//EN
CALSCALE:GREGORIAN
METHOD:PUBLISH
X-ORIGINAL-URL:https://playpittsburgh.com
X-WR-CALDESC:Events for Play Pittsburgh
REFRESH-INTERVAL;VALUE=DURATION:PT1H
X-Robots-Tag:noindex
X-PUBLISHED-TTL:PT1H
BEGIN:VTIMEZONE
TZID:America/New_York
BEGIN:DAYLIGHT
TZOFFSETFROM:-0500
TZOFFSETTO:-0400
TZNAME:EDT
DTSTART:20130310T070000
END:DAYLIGHT
BEGIN:STANDARD
TZOFFSETFROM:-0400
TZOFFSETTO:-0500
TZNAME:EST
DTSTART:20131103T060000
END:STANDARD
BEGIN:DAYLIGHT
TZOFFSETFROM:-0500
TZOFFSETTO:-0400
TZNAME:EDT
DTSTART:20140309T070000
END:DAYLIGHT
BEGIN:STANDARD
TZOFFSETFROM:-0400
TZOFFSETTO:-0500
TZNAME:EST
DTSTART:20141102T060000
END:STANDARD
BEGIN:DAYLIGHT
TZOFFSETFROM:-0500
TZOFFSETTO:-0400
TZNAME:EDT
DTSTART:20150308T070000
END:DAYLIGHT
BEGIN:STANDARD
TZOFFSETFROM:-0400
TZOFFSETTO:-0500
TZNAME:EST
DTSTART:20151101T060000
END:STANDARD
END:VTIMEZONE
BEGIN:VEVENT
DTSTART;TZID=America/New_York:20140516T110000
DTEND;TZID=America/New_York:20140518T200000
DTSTAMP:20260422T185647
CREATED:20140422T033625Z
LAST-MODIFIED:20140422T033625Z
UID:717-1400238000-1400443200@playpittsburgh.com
SUMMARY:National Pike Road Festival
DESCRIPTION:Celebrate at Nemacolin Castle National Pike Road Festival\, or Pike Days as its popularly known\, which will take place on the castle grounds May 16-17-18. Along with food\, craft vendors\, Colonial and Civil War reenactments and musical entertainment\, there will be special hours for History Tours (Fri: noon to 5pm / Sat. & Sun: 11am to 5pm) and Ghost Tours (Fri. & Sat: 6pm to 10pm – No Sunday Ghost Tours) All events outside the castle on the grounds are open to the public free of charge. Standard History and Ghost Tour rates apply. \nHistory Tours $8.00 adults / $4.00 children 12 & under \nGhost Tours $9.00 adults / $4.00 children 12 & under
URL:https://playpittsburgh.com/event/national-pike-road-festival/
LOCATION:Nemacolin Castle\, 136 Front St\, Brownsville\, 15417\, United States
CATEGORIES:Festivals,Free,Museums,Outdoor
GEO:40.022674;-79.883655
X-APPLE-STRUCTURED-LOCATION;VALUE=URI;X-ADDRESS=Nemacolin Castle 136 Front St Brownsville 15417 United States;X-APPLE-RADIUS=500;X-TITLE=136 Front St:geo:-79.883655,40.022674
END:VEVENT
BEGIN:VEVENT
DTSTART;TZID=America/New_York:20140510T080000
DTEND;TZID=America/New_York:20140510T100000
DTSTAMP:20260422T185647
CREATED:20140506T181136Z
LAST-MODIFIED:20140506T181136Z
UID:1172-1399708800-1399716000@playpittsburgh.com
SUMMARY:Breakfast with Dinosaurs
DESCRIPTION:Let your little ones dress up as their favorite dinosaurs and come to the museum for a truly amazing family event! Eat a hearty breakfast with a pterosaur-eye view of your favorite Mesozoic herbivores and carnivores in Dinosaurs in Their Time! At 8:40 a.m.\, the tables are cleared for very special hands-on activities developed especially for Breakfast with Dinosaurs families. Investigate dinosaur tracks and touch real fossil specimens\, then enjoy a private guided tour of Dinosaurs in Their Time. It is a family experience your dinosaur-loving child will never forget! \nSame-day admission is included in the ticket price. High chairs and boosters are not provided\, but you are welcome to bring your own. Dinosaur dress-up optional. Seating is limited\, so be sure to register early! \nWhat are the activities? \nThe hands-on activity is dinosaur tracking. There will be wet sand or clay to make imprints with plastic dinosaurs to find out whether the dinosaur’s tail drags\, a characteristic related to the animal’s anatomical structure. Children may also touch real fossils and fossil casts. \nIs there an age limit? \nNo\, the program focuses on families. There is no charge for children under 6 months. \nWhat is the menu? \nFrench toast\, egg strata\, assorted pastries\, yogurt\, granola\, chunked fresh fruit\, and cereal \nFee\nMembers: $65 per adult/child pair; $10 per additional guest (up to two per adult/child pair)\nNon-Members: $80 per adult/child pair; $15 per additional guest (up to two per adult/child pair) \nRegistration\nContact Program Registration at 412.622.3288 or ProgramRegistration@carnegiemuseums.org. \n 
URL:https://playpittsburgh.com/event/breakfast-with-dinosaurs/
LOCATION:Carnegie Museum of Natural History\, 4400 Forbes Avenue\, Pittsburgh\, 15213\, United States
CATEGORIES:Museums
ORGANIZER;CN="Carnegie Museum of Natural History":MAILTO:ProgramRegistration@carnegiemuseums.org
GEO:40.4435041;-79.9495881
X-APPLE-STRUCTURED-LOCATION;VALUE=URI;X-ADDRESS=Carnegie Museum of Natural History 4400 Forbes Avenue Pittsburgh 15213 United States;X-APPLE-RADIUS=500;X-TITLE=4400 Forbes Avenue:geo:-79.9495881,40.4435041
END:VEVENT
BEGIN:VEVENT
DTSTART;TZID=America/New_York:20140509T180000
DTEND;TZID=America/New_York:20140510T093000
DTSTAMP:20260422T185647
CREATED:20140422T003212Z
LAST-MODIFIED:20140422T003212Z
UID:683-1399658400-1399714200@playpittsburgh.com
SUMMARY:Science Center Sleepover
DESCRIPTION:The Carnegie Science Center hosts overnight sleepovers. Bring your family or Scout troop on a science siesta! Discover the science of shuteye as you explore circadian rhythms and hibernation. Investigate ultraviolet light in our glow room. Test your reflexes in our simulated sleep deprivation challenge and make a sleep mask to help you slumber the night away. You might get to snooze next to R2-D2\, dream beside seahorses\, or catch some Z’s near a space station. \nCheck-in begins at 6 pm the evening of your sleepover\, where you will receive a detailed schedule of the night’s happenings. The overnight experience will begin with a brief orientation\, after which participants will enjoy a night of themed activities. Lights-out is at midnight. All sleepover gear must be removed from the building by 9:30 am\, but you are welcome to stay the day after and explore even more with your general admission\, included in your sleepover cost! \nAll Science Center sleepovers include: \n\nThemed activities\nOmnimax movie\nPlanetarium or laser show\nLive theater show\nScience workshop\nSleeping among our exciting exhibits\nOfficial Science Center patch\nLate-night snack\nContinental breakfast\nFree admission for the day following the sleepover\, including Highmark SportsWorks® and USS Requin\nParking
URL:https://playpittsburgh.com/event/science-center-sleepover-2/
LOCATION:Carnegie Science Center\, One Allegheny Ave.\, Pittsburgh\, PA\, 15212\, United States
CATEGORIES:Museums
GEO:40.4456737;-80.0180996
X-APPLE-STRUCTURED-LOCATION;VALUE=URI;X-ADDRESS=Carnegie Science Center One Allegheny Ave. Pittsburgh PA 15212 United States;X-APPLE-RADIUS=500;X-TITLE=One Allegheny Ave.:geo:-80.0180996,40.4456737
END:VEVENT
BEGIN:VEVENT
DTSTART;TZID=America/New_York:20140509T100000
DTEND;TZID=America/New_York:20140509T220000
DTSTAMP:20260422T185647
CREATED:20140422T001024Z
LAST-MODIFIED:20140422T001024Z
UID:675-1399629600-1399672800@playpittsburgh.com
SUMMARY:Youth Invasion at Warhol
DESCRIPTION:Teens take over The Warhol! This multi-faceted program features teens’ unique take on Warhol and their creative expressions infusing and energizing the entire museum—its programming\, interpretation\, and display. \nHighlights of the program are: \n\nFashion show\nVarious performances\nVisiting artists\nArt making\nDance party with DJ\nRefreshments
URL:https://playpittsburgh.com/event/youth-invasion-at-warhol/
LOCATION:The Andy Warhol Museum\, 117 Sandusky Street\,\, Pittsburgh\, PA\, 15212\, United States
CATEGORIES:Museums
GEO:40.4483754;-80.0024908
X-APPLE-STRUCTURED-LOCATION;VALUE=URI;X-ADDRESS=The Andy Warhol Museum 117 Sandusky Street Pittsburgh PA 15212 United States;X-APPLE-RADIUS=500;X-TITLE=117 Sandusky Street\,:geo:-80.0024908,40.4483754
END:VEVENT
BEGIN:VEVENT
DTSTART;TZID=America/New_York:20140507T110000
DTEND;TZID=America/New_York:20140507T120000
DTSTAMP:20260422T185647
CREATED:20140507T161848Z
LAST-MODIFIED:20140507T162846Z
UID:1188-1399460400-1399464000@playpittsburgh.com
SUMMARY:Tot Time
DESCRIPTION:This weekly program at the Children’s Museum is ideal for children ages 18 months through 3 years and their caregivers. Children will learn through hands-on activities\, songs\, creative movement and storytime inspired by each week’s theme. \nOffered every Tuesday and Wednesday\, 11:00 am – noon.  Check the Children’s Museum Calendar of Events for the weekly Tot Time theme and activities. \nSingle Class:  $6 for members\, $8 for non-members Admits one child and one adult caregiver \n\nClass size is limited to 13 children and their caregivers.\nRegistration is on a first-come\, first serve basis.\nAdvance registration is strongly encouraged. Please register at the Admissions desk in the Museum\, or by calling (412) 322-5058\, ext. 240\, Monday – Friday\, 8:30 am – 4:30 pm\, up until one hour before start. Payment in full is required at the time of registration.\nNo refunds on advance payments. 24 hour notice is required to reschedule your reservation.\nSiblings under the age of 18 months may attend class free of charge.\nChildren ages 4 and older cannot attend Tot Time
URL:https://playpittsburgh.com/event/tot-time/2014-05-07/
LOCATION:Children’s Museum of Pittsburgh\, 10 Children's Way\, Allegheny Square\, Pittsburgh\, PA\, 15212\, United States
CATEGORIES:Indoor Play,Museums
GEO:40.4528353;-80.0064158
X-APPLE-STRUCTURED-LOCATION;VALUE=URI;X-ADDRESS=Children’s Museum of Pittsburgh 10 Children's Way Allegheny Square Pittsburgh PA 15212 United States;X-APPLE-RADIUS=500;X-TITLE=10 Children's Way\, Allegheny Square:geo:-80.0064158,40.4528353
END:VEVENT
BEGIN:VEVENT
DTSTART;TZID=America/New_York:20140503T110000
DTEND;TZID=America/New_York:20140503T114500
DTSTAMP:20260422T185647
CREATED:20140422T011440Z
LAST-MODIFIED:20140422T011454Z
UID:693-1399114800-1399117500@playpittsburgh.com
SUMMARY:ArtKids : Not So Still
DESCRIPTION:The Frick Art and Historical hosts a family friendly event. Fruits and vegetables may stay put but young artists don’t!  Come along as they wiggle and giggle around the gallery in this lively look at the still life paintings in the Warner Collection. 
URL:https://playpittsburgh.com/event/artkids-not-so-still/
LOCATION:The Frick Art & History Museum\, 7227 Reynolds Street \, Pittsburgh\, PA\, 15208\, United States
CATEGORIES:Free,Museums
GEO:40.4484869;-79.9012971
X-APPLE-STRUCTURED-LOCATION;VALUE=URI;X-ADDRESS=The Frick Art & History Museum 7227 Reynolds Street  Pittsburgh PA 15208 United States;X-APPLE-RADIUS=500;X-TITLE=7227 Reynolds Street:geo:-79.9012971,40.4484869
END:VEVENT
BEGIN:VEVENT
DTSTART;TZID=America/New_York:20140502T180000
DTEND;TZID=America/New_York:20140503T093000
DTSTAMP:20260422T185647
CREATED:20140422T003035Z
LAST-MODIFIED:20140422T003035Z
UID:680-1399053600-1399109400@playpittsburgh.com
SUMMARY:Science Center Sleepover
DESCRIPTION:The Carnegie Science Center hosts overnight sleepovers. Bring your family or Scout troop on a science siesta! Discover the science of shuteye as you explore circadian rhythms and hibernation. Investigate ultraviolet light in our glow room. Test your reflexes in our simulated sleep deprivation challenge and make a sleep mask to help you slumber the night away. You might get to snooze next to R2-D2\, dream beside seahorses\, or catch some Z’s near a space station. \nCheck-in begins at 6 pm the evening of your sleepover\, where you will receive a detailed schedule of the night’s happenings. The overnight experience will begin with a brief orientation\, after which participants will enjoy a night of themed activities. Lights-out is at midnight. All sleepover gear must be removed from the building by 9:30 am\, but you are welcome to stay the day after and explore even more with your general admission\, included in your sleepover cost! \nAll Science Center sleepovers include: \n\nThemed activities\nOmnimax movie\nPlanetarium or laser show\nLive theater show\nScience workshop\nSleeping among our exciting exhibits\nOfficial Science Center patch\nLate-night snack\nContinental breakfast\nFree admission for the day following the sleepover\, including Highmark SportsWorks® and USS Requin\nParking
URL:https://playpittsburgh.com/event/science-center-sleepover/
LOCATION:Carnegie Science Center\, One Allegheny Ave.\, Pittsburgh\, PA\, 15212\, United States
CATEGORIES:Museums
GEO:40.4456737;-80.0180996
X-APPLE-STRUCTURED-LOCATION;VALUE=URI;X-ADDRESS=Carnegie Science Center One Allegheny Ave. Pittsburgh PA 15212 United States;X-APPLE-RADIUS=500;X-TITLE=One Allegheny Ave.:geo:-80.0180996,40.4456737
END:VEVENT
BEGIN:VEVENT
DTSTART;TZID=America/New_York:20140501T110000
DTEND;TZID=America/New_York:20140501T113000
DTSTAMP:20260422T185647
CREATED:20140507T163246Z
LAST-MODIFIED:20140507T163246Z
UID:1196-1398942000-1398943800@playpittsburgh.com
SUMMARY:Tot Moves
DESCRIPTION:The Children’s Museum presents Tot Moves every Thursday from 11:00am – 11:30am. The program is designed to bring out each child’s creative side\, tots dance\, play and express themselves through a variety of movement and music activities. This special program is for toddlers ages 18 months through 4 years old and their caregivers. \nSessions are free with Museum Admission. \n 
URL:https://playpittsburgh.com/event/tot-moves/2014-05-01/
LOCATION:Children’s Museum of Pittsburgh\, 10 Children's Way\, Allegheny Square\, Pittsburgh\, PA\, 15212\, United States
CATEGORIES:Indoor Play,Museums
GEO:40.4528353;-80.0064158
X-APPLE-STRUCTURED-LOCATION;VALUE=URI;X-ADDRESS=Children’s Museum of Pittsburgh 10 Children's Way Allegheny Square Pittsburgh PA 15212 United States;X-APPLE-RADIUS=500;X-TITLE=10 Children's Way\, Allegheny Square:geo:-80.0064158,40.4528353
END:VEVENT
BEGIN:VEVENT
DTSTART;TZID=America/New_York:20140501T100000
DTEND;TZID=America/New_York:20140501T120000
DTSTAMP:20260422T185647
CREATED:20140422T155100Z
LAST-MODIFIED:20140422T155753Z
UID:790-1398938400-1398945600@playpittsburgh.com
SUMMARY:Mini-Factory Preschool Workshop
DESCRIPTION:Mini-Factory is a FREE interactive learning program at the Mattress Factory Museum. It’s designed specifically for children ages 3-6 years old and their parents and/or caregivers that uses contemporary installation art as the basis for enabling parents and educators to explore education ideas. \nYoung children will explore a variety of themes and installations at the Mattress Factory\, participate in story time with our partners form Reading is FUNdamental and the Carnegie Library of Pittsburgh – Allegheny and work on a collaborative project in our Mini-Factory. The Mini-Factory is a mobile\, adaptable pop-up space that children can help to build and use to explore new ideas and concepts. Young artists will participate in projects that promote making and sharing. \n\nMini-Factory : COLOR @ 10am\nMini-Factory : MY FACTORY @ 10am\nMini-Factory : VIEWPOINT @ 11am\n\nMINI-FACTORY is FREE but you must RSVP to felice[at]mattress.org or at 412.231.3169 because space is limited. \nYou can sign up for workshops individually. Please let us know if you are unable to attend so we can contact those people on our waiting list. Parents must accompany children and participate in the activities with their child. \n  \n 
URL:https://playpittsburgh.com/event/mini-factory-color/
LOCATION:Mattress Factory Art Museum\, 500 Sampsonia Way\, Pittsburgh\, PA\, 15212\, United States
CATEGORIES:Free,Museums
GEO:40.4571477;-80.012187
X-APPLE-STRUCTURED-LOCATION;VALUE=URI;X-ADDRESS=Mattress Factory Art Museum 500 Sampsonia Way Pittsburgh PA 15212 United States;X-APPLE-RADIUS=500;X-TITLE=500 Sampsonia Way:geo:-80.012187,40.4571477
END:VEVENT
BEGIN:VEVENT
DTSTART;TZID=America/New_York:20140427T090000
DTEND;TZID=America/New_York:20140427T100000
DTSTAMP:20260422T185647
CREATED:20140422T004622Z
LAST-MODIFIED:20140422T004622Z
UID:687-1398589200-1398592800@playpittsburgh.com
SUMMARY:Sensory Sunday
DESCRIPTION:The Children’s Museum of Pittsburgh will open one hour early for families with individuals on the Autism Spectrum. \nRegular admission rates apply. The Museum will open to the public at 10:00 am and families are welcome to stay and continue to explore the Museum.
URL:https://playpittsburgh.com/event/sensory-sunday/
LOCATION:Children’s Museum of Pittsburgh\, 10 Children's Way\, Allegheny Square\, Pittsburgh\, PA\, 15212\, United States
CATEGORIES:Museums
GEO:40.4528353;-80.0064158
X-APPLE-STRUCTURED-LOCATION;VALUE=URI;X-ADDRESS=Children’s Museum of Pittsburgh 10 Children's Way Allegheny Square Pittsburgh PA 15212 United States;X-APPLE-RADIUS=500;X-TITLE=10 Children's Way\, Allegheny Square:geo:-80.0064158,40.4528353
END:VEVENT
END:VCALENDAR