BEGIN:VCALENDAR
VERSION:2.0
PRODID:-//Play Pittsburgh - ECPv6.15.20//NONSGML v1.0//EN
CALSCALE:GREGORIAN
METHOD:PUBLISH
X-ORIGINAL-URL:https://playpittsburgh.com
X-WR-CALDESC:Events for Play Pittsburgh
REFRESH-INTERVAL;VALUE=DURATION:PT1H
X-Robots-Tag:noindex
X-PUBLISHED-TTL:PT1H
BEGIN:VTIMEZONE
TZID:America/New_York
BEGIN:DAYLIGHT
TZOFFSETFROM:-0500
TZOFFSETTO:-0400
TZNAME:EDT
DTSTART:20140309T070000
END:DAYLIGHT
BEGIN:STANDARD
TZOFFSETFROM:-0400
TZOFFSETTO:-0500
TZNAME:EST
DTSTART:20141102T060000
END:STANDARD
BEGIN:DAYLIGHT
TZOFFSETFROM:-0500
TZOFFSETTO:-0400
TZNAME:EDT
DTSTART:20150308T070000
END:DAYLIGHT
BEGIN:STANDARD
TZOFFSETFROM:-0400
TZOFFSETTO:-0500
TZNAME:EST
DTSTART:20151101T060000
END:STANDARD
BEGIN:DAYLIGHT
TZOFFSETFROM:-0500
TZOFFSETTO:-0400
TZNAME:EDT
DTSTART:20160313T070000
END:DAYLIGHT
BEGIN:STANDARD
TZOFFSETFROM:-0400
TZOFFSETTO:-0500
TZNAME:EST
DTSTART:20161106T060000
END:STANDARD
END:VTIMEZONE
BEGIN:VEVENT
DTSTART;TZID=America/New_York:20150327T180000
DTEND;TZID=America/New_York:20150327T230000
DTSTAMP:20260424T024647
CREATED:20150324T173755Z
LAST-MODIFIED:20150324T173755Z
UID:5466-1427479200-1427497200@playpittsburgh.com
SUMMARY:Science Sleepovers at the Carnegie Science Center
DESCRIPTION:Carnegie Science Center will offer an overnight opportunity to children and their families. \nAll Science Center sleepovers include: \n\nThemed activities\nOmnimax movie\nPlanetarium or laser show\nLive theater show\nScience workshop\nSleeping among our exciting exhibits\nOfficial Science Center patch\nLate-night snack\nContinental breakfast\nFree admission for the day following the sleepover\, including Highmark SportsWorks® and USS Requin\n\nFee for all sleepovers is $35 per person. Groups need to provide one adult chaperone for every eight children. Families or those not part of a group must also have a parent or guardian present. \nCheck-in begins at 6 pm the evening of your sleepover\, where you will receive a detailed schedule of the night’s happenings. The overnight experience will begin with a brief orientation\, after which participants will enjoy a night of themed activities. Lights-out is at midnight. All sleepover gear must be removed from the building by 9:30 am\, but you are welcome to stay the day after and explore even more with your general admission\, included in your sleepover cost!
URL:https://playpittsburgh.com/event/science-sleepovers-at-the-carnegie-science-center-2/
LOCATION:Carnegie Science Center\, One Allegheny Ave.\, Pittsburgh\, PA\, 15212\, United States
CATEGORIES:Museums
GEO:40.4456737;-80.0180996
X-APPLE-STRUCTURED-LOCATION;VALUE=URI;X-ADDRESS=Carnegie Science Center One Allegheny Ave. Pittsburgh PA 15212 United States;X-APPLE-RADIUS=500;X-TITLE=One Allegheny Ave.:geo:-80.0180996,40.4456737
END:VEVENT
BEGIN:VEVENT
DTSTART;TZID=America/New_York:20150328T100000
DTEND;TZID=America/New_York:20150328T110000
DTSTAMP:20260424T024647
CREATED:20150325T000621Z
LAST-MODIFIED:20150325T000621Z
UID:5594-1427536800-1427540400@playpittsburgh.com
SUMMARY:Mini-Factory at the Mattress Factory
DESCRIPTION:The Mattress Factory Art Museum has created an interactive learning program designed specifically for children ages 3-5 years old and their parents and/or caregivers that uses contemporary installation art as the basis for enabling exploration. \nFREE + museum admission not required. RSVP to education@mattress.org as space is limited.
URL:https://playpittsburgh.com/event/mini-factory-at-the-mattress-factory/
LOCATION:Mattress Factory Art Museum\, 500 Sampsonia Way\, Pittsburgh\, PA\, 15212\, United States
CATEGORIES:Free,Museums
GEO:40.4571477;-80.012187
X-APPLE-STRUCTURED-LOCATION;VALUE=URI;X-ADDRESS=Mattress Factory Art Museum 500 Sampsonia Way Pittsburgh PA 15212 United States;X-APPLE-RADIUS=500;X-TITLE=500 Sampsonia Way:geo:-80.012187,40.4571477
END:VEVENT
BEGIN:VEVENT
DTSTART;TZID=America/New_York:20150328T123000
DTEND;TZID=America/New_York:20150328T170000
DTSTAMP:20260424T024647
CREATED:20150324T191147Z
LAST-MODIFIED:20150324T191147Z
UID:5498-1427545800-1427562000@playpittsburgh.com
SUMMARY:Open Studio at Westmoreland Museum of Art
DESCRIPTION:Every Saturday & Sunday from 12:30-5 PM\, children of all ages and their favorite adult can stop by the Museum and create their own art in the studio! There is a different art project featured each week.
URL:https://playpittsburgh.com/event/open-studio-at-westmoreland-museum-of-art/2015-03-28/
LOCATION:How to Submit a Listing
CATEGORIES:Museums
END:VEVENT
BEGIN:VEVENT
DTSTART;TZID=America/New_York:20150329T123000
DTEND;TZID=America/New_York:20150329T180000
DTSTAMP:20260424T024647
CREATED:20150324T191455Z
LAST-MODIFIED:20150324T191455Z
UID:5512-1427632200-1427652000@playpittsburgh.com
SUMMARY:Open Studio at Westmoreland Museum of Art
DESCRIPTION:Every Saturday & Sunday from 12:30-5 PM\, children of all ages and their favorite adult can stop by the Museum and create their own art in the studio! There is a different art project featured each week.
URL:https://playpittsburgh.com/event/open-studio-at-westmoreland-museum-of-art-2/2015-03-29/
LOCATION:How to Submit a Listing
CATEGORIES:Museums
END:VEVENT
BEGIN:VEVENT
DTSTART;TZID=America/New_York:20150330T110000
DTEND;TZID=America/New_York:20150330T120000
DTSTAMP:20260424T024647
CREATED:20150325T224804Z
LAST-MODIFIED:20150325T224804Z
UID:5714-1427713200-1427716800@playpittsburgh.com
SUMMARY:Maker Story Time Mondays at the Children's Museum
DESCRIPTION:Listen to stories and then explore tools\, materials and processes inspired by books. Free with admission to the museum.
URL:https://playpittsburgh.com/event/maker-story-time-mondays-at-the-childrens-museum/2015-03-30/
LOCATION:Children’s Museum of Pittsburgh\, 10 Children's Way\, Allegheny Square\, Pittsburgh\, PA\, 15212\, United States
CATEGORIES:Museums
GEO:40.4528353;-80.0064158
X-APPLE-STRUCTURED-LOCATION;VALUE=URI;X-ADDRESS=Children’s Museum of Pittsburgh 10 Children's Way Allegheny Square Pittsburgh PA 15212 United States;X-APPLE-RADIUS=500;X-TITLE=10 Children's Way\, Allegheny Square:geo:-80.0064158,40.4528353
END:VEVENT
BEGIN:VEVENT
DTSTART;TZID=America/New_York:20150331T100000
DTEND;TZID=America/New_York:20150331T170000
DTSTAMP:20260424T024647
CREATED:20150325T142308Z
LAST-MODIFIED:20150325T142308Z
UID:5655-1427796000-1427821200@playpittsburgh.com
SUMMARY:FREE Admission at The Warhol Museum
DESCRIPTION:You and the entire family can enjoy FREE admission to The Warhol courtesy of The Jack Buncher Foundation.  THREE days of free museum admission during Pittsburgh Public Schools’ Spring Break Week! \nFREE Admission Days: March 31st\, April 1st and April 4th \nEach day they’re offering family-friendly activities and events\, like art-making activities in the galleries and extended studio hours!
URL:https://playpittsburgh.com/event/free-admission-at-the-warhol-museum/
LOCATION:The Andy Warhol Museum\, 117 Sandusky Street\,\, Pittsburgh\, PA\, 15212\, United States
CATEGORIES:Free,Museums
GEO:40.4483754;-80.0024908
X-APPLE-STRUCTURED-LOCATION;VALUE=URI;X-ADDRESS=The Andy Warhol Museum 117 Sandusky Street Pittsburgh PA 15212 United States;X-APPLE-RADIUS=500;X-TITLE=117 Sandusky Street\,:geo:-80.0024908,40.4483754
END:VEVENT
BEGIN:VEVENT
DTSTART;TZID=America/New_York:20150401T100000
DTEND;TZID=America/New_York:20150401T170000
DTSTAMP:20260424T024647
CREATED:20150325T142537Z
LAST-MODIFIED:20150325T142537Z
UID:5656-1427882400-1427907600@playpittsburgh.com
SUMMARY:FREE Admission at The Warhol Museum
DESCRIPTION:You and the entire family can enjoy FREE admission to The Warhol courtesy of The Jack Buncher Foundation.  THREE days of free museum admission during Pittsburgh Public Schools’ Spring Break Week! \nFREE Admission Days: March 31st\, April 1st and April 4th \nEach day they’re offering family-friendly activities and events\, like art-making activities in the galleries and extended studio hours!
URL:https://playpittsburgh.com/event/free-admission-at-the-warhol-museum-2/
LOCATION:The Andy Warhol Museum\, 117 Sandusky Street\,\, Pittsburgh\, PA\, 15212\, United States
CATEGORIES:Free,Museums
GEO:40.4483754;-80.0024908
X-APPLE-STRUCTURED-LOCATION;VALUE=URI;X-ADDRESS=The Andy Warhol Museum 117 Sandusky Street Pittsburgh PA 15212 United States;X-APPLE-RADIUS=500;X-TITLE=117 Sandusky Street\,:geo:-80.0024908,40.4483754
END:VEVENT
BEGIN:VEVENT
DTSTART;TZID=America/New_York:20150404T100000
DTEND;TZID=America/New_York:20150404T170000
DTSTAMP:20260424T024647
CREATED:20150325T143003Z
LAST-MODIFIED:20150325T143003Z
UID:5657-1428141600-1428166800@playpittsburgh.com
SUMMARY:FREE Admission at The Warhol Museum
DESCRIPTION:You and the entire family can enjoy FREE admission to The Warhol courtesy of The Jack Buncher Foundation.  THREE days of free museum admission during Pittsburgh Public Schools’ Spring Break Week! \nFREE Admission Days: March 31st\, April 1st and April 4th \nEach day they’re offering family-friendly activities and events\, like art-making activities in the galleries and extended studio hours!
URL:https://playpittsburgh.com/event/free-admission-at-the-warhol-museum-3/
LOCATION:The Andy Warhol Museum\, 117 Sandusky Street\,\, Pittsburgh\, PA\, 15212\, United States
CATEGORIES:Free,Museums
GEO:40.4483754;-80.0024908
X-APPLE-STRUCTURED-LOCATION;VALUE=URI;X-ADDRESS=The Andy Warhol Museum 117 Sandusky Street Pittsburgh PA 15212 United States;X-APPLE-RADIUS=500;X-TITLE=117 Sandusky Street\,:geo:-80.0024908,40.4483754
END:VEVENT
BEGIN:VEVENT
DTSTART;TZID=America/New_York:20150410T180000
DTEND;TZID=America/New_York:20150410T230000
DTSTAMP:20260424T024647
CREATED:20150324T173933Z
LAST-MODIFIED:20150324T173933Z
UID:5467-1428688800-1428706800@playpittsburgh.com
SUMMARY:Science Sleepovers at the Carnegie Science Center
DESCRIPTION:Carnegie Science Center will offer an overnight opportunity to children and their families. \nAll Science Center sleepovers include: \n\nThemed activities\nOmnimax movie\nPlanetarium or laser show\nLive theater show\nScience workshop\nSleeping among our exciting exhibits\nOfficial Science Center patch\nLate-night snack\nContinental breakfast\nFree admission for the day following the sleepover\, including Highmark SportsWorks® and USS Requin\n\nFee for all sleepovers is $35 per person. Groups need to provide one adult chaperone for every eight children. Families or those not part of a group must also have a parent or guardian present. \nCheck-in begins at 6 pm the evening of your sleepover\, where you will receive a detailed schedule of the night’s happenings. The overnight experience will begin with a brief orientation\, after which participants will enjoy a night of themed activities. Lights-out is at midnight. All sleepover gear must be removed from the building by 9:30 am\, but you are welcome to stay the day after and explore even more with your general admission\, included in your sleepover cost!
URL:https://playpittsburgh.com/event/science-sleepovers-at-the-carnegie-science-center-3/
LOCATION:Carnegie Science Center\, One Allegheny Ave.\, Pittsburgh\, PA\, 15212\, United States
CATEGORIES:Museums
GEO:40.4456737;-80.0180996
X-APPLE-STRUCTURED-LOCATION;VALUE=URI;X-ADDRESS=Carnegie Science Center One Allegheny Ave. Pittsburgh PA 15212 United States;X-APPLE-RADIUS=500;X-TITLE=One Allegheny Ave.:geo:-80.0180996,40.4456737
END:VEVENT
BEGIN:VEVENT
DTSTART;TZID=America/New_York:20150417T180000
DTEND;TZID=America/New_York:20150417T230000
DTSTAMP:20260424T024647
CREATED:20150324T173604Z
LAST-MODIFIED:20150324T173604Z
UID:5465-1429293600-1429311600@playpittsburgh.com
SUMMARY:Science Sleepovers at the Carnegie Science Center
DESCRIPTION:Carnegie Science Center will offer an overnight opportunity to children and their families. \nAll Science Center sleepovers include: \n\nThemed activities\nOmnimax movie\nPlanetarium or laser show\nLive theater show\nScience workshop\nSleeping among our exciting exhibits\nOfficial Science Center patch\nLate-night snack\nContinental breakfast\nFree admission for the day following the sleepover\, including Highmark SportsWorks® and USS Requin\n\nFee for all sleepovers is $35 per person. Groups need to provide one adult chaperone for every eight children. Families or those not part of a group must also have a parent or guardian present. \nCheck-in begins at 6 pm the evening of your sleepover\, where you will receive a detailed schedule of the night’s happenings. The overnight experience will begin with a brief orientation\, after which participants will enjoy a night of themed activities. Lights-out is at midnight. All sleepover gear must be removed from the building by 9:30 am\, but you are welcome to stay the day after and explore even more with your general admission\, included in your sleepover cost!
URL:https://playpittsburgh.com/event/science-sleepovers-at-the-carnegie-science-center/
LOCATION:Carnegie Science Center\, One Allegheny Ave.\, Pittsburgh\, PA\, 15212\, United States
CATEGORIES:Museums
GEO:40.4456737;-80.0180996
X-APPLE-STRUCTURED-LOCATION;VALUE=URI;X-ADDRESS=Carnegie Science Center One Allegheny Ave. Pittsburgh PA 15212 United States;X-APPLE-RADIUS=500;X-TITLE=One Allegheny Ave.:geo:-80.0180996,40.4456737
END:VEVENT
END:VCALENDAR