BEGIN:VCALENDAR
VERSION:2.0
PRODID:-//Play Pittsburgh - ECPv6.15.20//NONSGML v1.0//EN
CALSCALE:GREGORIAN
METHOD:PUBLISH
X-WR-CALNAME:Play Pittsburgh
X-ORIGINAL-URL:https://playpittsburgh.com
X-WR-CALDESC:Events for Play Pittsburgh
REFRESH-INTERVAL;VALUE=DURATION:PT1H
X-Robots-Tag:noindex
X-PUBLISHED-TTL:PT1H
BEGIN:VTIMEZONE
TZID:America/New_York
BEGIN:DAYLIGHT
TZOFFSETFROM:-0500
TZOFFSETTO:-0400
TZNAME:EDT
DTSTART:20130310T070000
END:DAYLIGHT
BEGIN:STANDARD
TZOFFSETFROM:-0400
TZOFFSETTO:-0500
TZNAME:EST
DTSTART:20131103T060000
END:STANDARD
BEGIN:DAYLIGHT
TZOFFSETFROM:-0500
TZOFFSETTO:-0400
TZNAME:EDT
DTSTART:20140309T070000
END:DAYLIGHT
BEGIN:STANDARD
TZOFFSETFROM:-0400
TZOFFSETTO:-0500
TZNAME:EST
DTSTART:20141102T060000
END:STANDARD
BEGIN:DAYLIGHT
TZOFFSETFROM:-0500
TZOFFSETTO:-0400
TZNAME:EDT
DTSTART:20150308T070000
END:DAYLIGHT
BEGIN:STANDARD
TZOFFSETFROM:-0400
TZOFFSETTO:-0500
TZNAME:EST
DTSTART:20151101T060000
END:STANDARD
BEGIN:DAYLIGHT
TZOFFSETFROM:-0500
TZOFFSETTO:-0400
TZNAME:EDT
DTSTART:20160313T070000
END:DAYLIGHT
BEGIN:STANDARD
TZOFFSETFROM:-0400
TZOFFSETTO:-0500
TZNAME:EST
DTSTART:20161106T060000
END:STANDARD
BEGIN:DAYLIGHT
TZOFFSETFROM:-0500
TZOFFSETTO:-0400
TZNAME:EDT
DTSTART:20170312T070000
END:DAYLIGHT
BEGIN:STANDARD
TZOFFSETFROM:-0400
TZOFFSETTO:-0500
TZNAME:EST
DTSTART:20171105T060000
END:STANDARD
END:VTIMEZONE
BEGIN:VEVENT
DTSTART;VALUE=DATE:20141118
DTEND;VALUE=DATE:20141124
DTSTAMP:20260422T165909
CREATED:20141103T015208Z
LAST-MODIFIED:20141103T015208Z
UID:4317-1416268800-1416787199@playpittsburgh.com
SUMMARY:White Christmas at the Benedum
DESCRIPTION:The classic holiday movie “White Christmas” comes to the stage at last! This new musical shines with classic Irving Berlin hits like “Blue Skies\,” “How Deep is the Ocean?” and\, of course\, the unforgettable title song. Irving Berlin’s White Christmas tells the story of two buddies putting on a show in a magical Vermont inn and finding their perfect mates in the process. Full of dancing\, laughter and some of the greatest songs ever written\, Irving Berlin’s White Christmas promises a merry and bright theatrical experience for the whole family! \nPerformance Schedule \n\nTue\, Nov 18\, 2014 7:30 PM\nWed\, Nov 19\, 2014 7:30 PM\nThu\, Nov 20\, 2014 7:30 PM\nFri\, Nov 21\, 2014 8:00 PM\nSat\, Nov 22\, 2014 2:00 PM\, 8:00 PM\nSun\, Nov 23\, 2014 1:00 PM\, 6:30 PM
URL:https://playpittsburgh.com/event/white-christmas-at-the-benedum/
LOCATION:PA\, United States
CATEGORIES:Indoor Play,Performing Arts
ATTACH;FMTTYPE=:
END:VEVENT
BEGIN:VEVENT
DTSTART;TZID=America/New_York:20141119T183000
DTEND;TZID=America/New_York:20141119T200000
DTSTAMP:20260422T165909
CREATED:20141103T015951Z
LAST-MODIFIED:20141103T015951Z
UID:6918-1416421800-1416427200@playpittsburgh.com
SUMMARY:Family Movie Night\, "How to Train a Dragon 2" at Baldwin Library
DESCRIPTION:PJs\, Pillows\, and Popcorn – Family Movie Nights at 6:30 pm / No registration required \nEvery month\, as part of the Patron Appreciation Day\, the Baldwin Library will feature a new release family movie that your whole family will enjoy! Kids can bring their blankets\, pillows and stuffed friend – we will provide the popcorn!
URL:https://playpittsburgh.com/event/family-movie-night-how-to-train-a-dragon-2-at-baldwin-library/
LOCATION:Baldwin Library\, 41 Macek Dr #115\, Pittsburgh\, PA\, 15227\, United States
CATEGORIES:Indoor Play
ATTACH;FMTTYPE=:
GEO:40.3575878;-79.9642672
X-APPLE-STRUCTURED-LOCATION;VALUE=URI;X-ADDRESS=Baldwin Library 41 Macek Dr #115 Pittsburgh PA 15227 United States;X-APPLE-RADIUS=500;X-TITLE=41 Macek Dr #115:geo:-79.9642672,40.3575878
END:VEVENT
BEGIN:VEVENT
DTSTART;TZID=America/New_York:20160701T173000
DTEND;TZID=America/New_York:20160701T203000
DTSTAMP:20260422T165909
CREATED:20160701T024428Z
LAST-MODIFIED:20160701T024428Z
UID:9332-1467394200-1467405000@playpittsburgh.com
SUMMARY:Snapology Parents Night Out
DESCRIPTION:Parents Night Out is a 2-3 hour window of opportunity for kids to play and create in the Discovery Center while parents and caregivers have some time to do whatever what they’d like! \nSnapology‘s educated and caring staff will watch over and guide your kiddos in building\, creating\, and using their imaginations. \nChildren ages 5+ may be dropped off. Children ages 1-4 are welcome\, but a parent must stay to supervise them.
URL:https://playpittsburgh.com/event/snapology-parents-night/2016-07-01/
LOCATION:Snapology (Bethel Park)\, 1699 Washington Rd\, Mt Lebanon\, PA\, 15228\, United States
CATEGORIES:Indoor Play
GEO:40.3491516;-80.0514502
X-APPLE-STRUCTURED-LOCATION;VALUE=URI;X-ADDRESS=Snapology (Bethel Park) 1699 Washington Rd Mt Lebanon PA 15228 United States;X-APPLE-RADIUS=500;X-TITLE=1699 Washington Rd:geo:-80.0514502,40.3491516
END:VEVENT
BEGIN:VEVENT
DTSTART;TZID=America/New_York:20160706T100000
DTEND;TZID=America/New_York:20160706T113000
DTSTAMP:20260422T165909
CREATED:20160706T150135Z
LAST-MODIFIED:20160706T150135Z
UID:9608-1467799200-1467804600@playpittsburgh.com
SUMMARY:Monroeville Cinemark $1 Summer Movie Club
DESCRIPTION:All showtimes at 10am on Wednesdays. Just $1 per show! \n7/6 – Home \n7/13  – Box Trolls \n7/20 – The Sandlot \n7/27 – Norm of the North \n8/3 – Shawn the Sheep Movie \n8/10 – Max
URL:https://playpittsburgh.com/event/monroeville-cinemark-1-summer-movie-club/2016-07-06/
LOCATION:Cinemark Monroeville Mall\, 600 Monroeville Mall\, Monroeville\, PA\, 15146\, United States
CATEGORIES:Indoor Play
GEO:40.4291856;-79.795702
X-APPLE-STRUCTURED-LOCATION;VALUE=URI;X-ADDRESS=Cinemark Monroeville Mall 600 Monroeville Mall Monroeville PA 15146 United States;X-APPLE-RADIUS=500;X-TITLE=600 Monroeville Mall:geo:-79.795702,40.4291856
END:VEVENT
BEGIN:VEVENT
DTSTART;TZID=America/New_York:20160708T173000
DTEND;TZID=America/New_York:20160708T203000
DTSTAMP:20260422T165909
CREATED:20160701T024428Z
LAST-MODIFIED:20160701T024428Z
UID:9333-1467999000-1468009800@playpittsburgh.com
SUMMARY:Snapology Parents Night Out
DESCRIPTION:Parents Night Out is a 2-3 hour window of opportunity for kids to play and create in the Discovery Center while parents and caregivers have some time to do whatever what they’d like! \nSnapology‘s educated and caring staff will watch over and guide your kiddos in building\, creating\, and using their imaginations. \nChildren ages 5+ may be dropped off. Children ages 1-4 are welcome\, but a parent must stay to supervise them.
URL:https://playpittsburgh.com/event/snapology-parents-night/2016-07-08/
LOCATION:Snapology (Bethel Park)\, 1699 Washington Rd\, Mt Lebanon\, PA\, 15228\, United States
CATEGORIES:Indoor Play
GEO:40.3491516;-80.0514502
X-APPLE-STRUCTURED-LOCATION;VALUE=URI;X-ADDRESS=Snapology (Bethel Park) 1699 Washington Rd Mt Lebanon PA 15228 United States;X-APPLE-RADIUS=500;X-TITLE=1699 Washington Rd:geo:-80.0514502,40.3491516
END:VEVENT
BEGIN:VEVENT
DTSTART;TZID=America/New_York:20160713T100000
DTEND;TZID=America/New_York:20160713T113000
DTSTAMP:20260422T165909
CREATED:20160706T150135Z
LAST-MODIFIED:20160706T150135Z
UID:9610-1468404000-1468409400@playpittsburgh.com
SUMMARY:Monroeville Cinemark $1 Summer Movie Club
DESCRIPTION:All showtimes at 10am on Wednesdays. Just $1 per show! \n7/6 – Home \n7/13  – Box Trolls \n7/20 – The Sandlot \n7/27 – Norm of the North \n8/3 – Shawn the Sheep Movie \n8/10 – Max
URL:https://playpittsburgh.com/event/monroeville-cinemark-1-summer-movie-club/2016-07-13/
LOCATION:Cinemark Monroeville Mall\, 600 Monroeville Mall\, Monroeville\, PA\, 15146\, United States
CATEGORIES:Indoor Play
GEO:40.4291856;-79.795702
X-APPLE-STRUCTURED-LOCATION;VALUE=URI;X-ADDRESS=Cinemark Monroeville Mall 600 Monroeville Mall Monroeville PA 15146 United States;X-APPLE-RADIUS=500;X-TITLE=600 Monroeville Mall:geo:-79.795702,40.4291856
END:VEVENT
BEGIN:VEVENT
DTSTART;TZID=America/New_York:20160715T173000
DTEND;TZID=America/New_York:20160715T203000
DTSTAMP:20260422T165909
CREATED:20160701T024428Z
LAST-MODIFIED:20160701T024428Z
UID:9334-1468603800-1468614600@playpittsburgh.com
SUMMARY:Snapology Parents Night Out
DESCRIPTION:Parents Night Out is a 2-3 hour window of opportunity for kids to play and create in the Discovery Center while parents and caregivers have some time to do whatever what they’d like! \nSnapology‘s educated and caring staff will watch over and guide your kiddos in building\, creating\, and using their imaginations. \nChildren ages 5+ may be dropped off. Children ages 1-4 are welcome\, but a parent must stay to supervise them.
URL:https://playpittsburgh.com/event/snapology-parents-night/2016-07-15/
LOCATION:Snapology (Bethel Park)\, 1699 Washington Rd\, Mt Lebanon\, PA\, 15228\, United States
CATEGORIES:Indoor Play
GEO:40.3491516;-80.0514502
X-APPLE-STRUCTURED-LOCATION;VALUE=URI;X-ADDRESS=Snapology (Bethel Park) 1699 Washington Rd Mt Lebanon PA 15228 United States;X-APPLE-RADIUS=500;X-TITLE=1699 Washington Rd:geo:-80.0514502,40.3491516
END:VEVENT
BEGIN:VEVENT
DTSTART;TZID=America/New_York:20160720T100000
DTEND;TZID=America/New_York:20160720T113000
DTSTAMP:20260422T165909
CREATED:20160706T150135Z
LAST-MODIFIED:20160706T150135Z
UID:9611-1469008800-1469014200@playpittsburgh.com
SUMMARY:Monroeville Cinemark $1 Summer Movie Club
DESCRIPTION:All showtimes at 10am on Wednesdays. Just $1 per show! \n7/6 – Home \n7/13  – Box Trolls \n7/20 – The Sandlot \n7/27 – Norm of the North \n8/3 – Shawn the Sheep Movie \n8/10 – Max
URL:https://playpittsburgh.com/event/monroeville-cinemark-1-summer-movie-club/2016-07-20/
LOCATION:Cinemark Monroeville Mall\, 600 Monroeville Mall\, Monroeville\, PA\, 15146\, United States
CATEGORIES:Indoor Play
GEO:40.4291856;-79.795702
X-APPLE-STRUCTURED-LOCATION;VALUE=URI;X-ADDRESS=Cinemark Monroeville Mall 600 Monroeville Mall Monroeville PA 15146 United States;X-APPLE-RADIUS=500;X-TITLE=600 Monroeville Mall:geo:-79.795702,40.4291856
END:VEVENT
BEGIN:VEVENT
DTSTART;TZID=America/New_York:20160722T173000
DTEND;TZID=America/New_York:20160722T203000
DTSTAMP:20260422T165909
CREATED:20160701T024428Z
LAST-MODIFIED:20160701T024428Z
UID:9335-1469208600-1469219400@playpittsburgh.com
SUMMARY:Snapology Parents Night Out
DESCRIPTION:Parents Night Out is a 2-3 hour window of opportunity for kids to play and create in the Discovery Center while parents and caregivers have some time to do whatever what they’d like! \nSnapology‘s educated and caring staff will watch over and guide your kiddos in building\, creating\, and using their imaginations. \nChildren ages 5+ may be dropped off. Children ages 1-4 are welcome\, but a parent must stay to supervise them.
URL:https://playpittsburgh.com/event/snapology-parents-night/2016-07-22/
LOCATION:Snapology (Bethel Park)\, 1699 Washington Rd\, Mt Lebanon\, PA\, 15228\, United States
CATEGORIES:Indoor Play
GEO:40.3491516;-80.0514502
X-APPLE-STRUCTURED-LOCATION;VALUE=URI;X-ADDRESS=Snapology (Bethel Park) 1699 Washington Rd Mt Lebanon PA 15228 United States;X-APPLE-RADIUS=500;X-TITLE=1699 Washington Rd:geo:-80.0514502,40.3491516
END:VEVENT
BEGIN:VEVENT
DTSTART;TZID=America/New_York:20160727T100000
DTEND;TZID=America/New_York:20160727T113000
DTSTAMP:20260422T165909
CREATED:20160706T150135Z
LAST-MODIFIED:20160706T150135Z
UID:9612-1469613600-1469619000@playpittsburgh.com
SUMMARY:Monroeville Cinemark $1 Summer Movie Club
DESCRIPTION:All showtimes at 10am on Wednesdays. Just $1 per show! \n7/6 – Home \n7/13  – Box Trolls \n7/20 – The Sandlot \n7/27 – Norm of the North \n8/3 – Shawn the Sheep Movie \n8/10 – Max
URL:https://playpittsburgh.com/event/monroeville-cinemark-1-summer-movie-club/2016-07-27/
LOCATION:Cinemark Monroeville Mall\, 600 Monroeville Mall\, Monroeville\, PA\, 15146\, United States
CATEGORIES:Indoor Play
GEO:40.4291856;-79.795702
X-APPLE-STRUCTURED-LOCATION;VALUE=URI;X-ADDRESS=Cinemark Monroeville Mall 600 Monroeville Mall Monroeville PA 15146 United States;X-APPLE-RADIUS=500;X-TITLE=600 Monroeville Mall:geo:-79.795702,40.4291856
END:VEVENT
BEGIN:VEVENT
DTSTART;TZID=America/New_York:20160729T173000
DTEND;TZID=America/New_York:20160729T203000
DTSTAMP:20260422T165909
CREATED:20160701T024428Z
LAST-MODIFIED:20160701T024428Z
UID:9336-1469813400-1469824200@playpittsburgh.com
SUMMARY:Snapology Parents Night Out
DESCRIPTION:Parents Night Out is a 2-3 hour window of opportunity for kids to play and create in the Discovery Center while parents and caregivers have some time to do whatever what they’d like! \nSnapology‘s educated and caring staff will watch over and guide your kiddos in building\, creating\, and using their imaginations. \nChildren ages 5+ may be dropped off. Children ages 1-4 are welcome\, but a parent must stay to supervise them.
URL:https://playpittsburgh.com/event/snapology-parents-night/2016-07-29/
LOCATION:Snapology (Bethel Park)\, 1699 Washington Rd\, Mt Lebanon\, PA\, 15228\, United States
CATEGORIES:Indoor Play
GEO:40.3491516;-80.0514502
X-APPLE-STRUCTURED-LOCATION;VALUE=URI;X-ADDRESS=Snapology (Bethel Park) 1699 Washington Rd Mt Lebanon PA 15228 United States;X-APPLE-RADIUS=500;X-TITLE=1699 Washington Rd:geo:-80.0514502,40.3491516
END:VEVENT
BEGIN:VEVENT
DTSTART;TZID=America/New_York:20160803T100000
DTEND;TZID=America/New_York:20160803T113000
DTSTAMP:20260422T165909
CREATED:20160706T150135Z
LAST-MODIFIED:20160706T150135Z
UID:9613-1470218400-1470223800@playpittsburgh.com
SUMMARY:Monroeville Cinemark $1 Summer Movie Club
DESCRIPTION:All showtimes at 10am on Wednesdays. Just $1 per show! \n7/6 – Home \n7/13  – Box Trolls \n7/20 – The Sandlot \n7/27 – Norm of the North \n8/3 – Shawn the Sheep Movie \n8/10 – Max
URL:https://playpittsburgh.com/event/monroeville-cinemark-1-summer-movie-club/2016-08-03/
LOCATION:Cinemark Monroeville Mall\, 600 Monroeville Mall\, Monroeville\, PA\, 15146\, United States
CATEGORIES:Indoor Play
GEO:40.4291856;-79.795702
X-APPLE-STRUCTURED-LOCATION;VALUE=URI;X-ADDRESS=Cinemark Monroeville Mall 600 Monroeville Mall Monroeville PA 15146 United States;X-APPLE-RADIUS=500;X-TITLE=600 Monroeville Mall:geo:-79.795702,40.4291856
END:VEVENT
BEGIN:VEVENT
DTSTART;TZID=America/New_York:20160805T173000
DTEND;TZID=America/New_York:20160805T203000
DTSTAMP:20260422T165909
CREATED:20160701T024428Z
LAST-MODIFIED:20160701T024428Z
UID:9337-1470418200-1470429000@playpittsburgh.com
SUMMARY:Snapology Parents Night Out
DESCRIPTION:Parents Night Out is a 2-3 hour window of opportunity for kids to play and create in the Discovery Center while parents and caregivers have some time to do whatever what they’d like! \nSnapology‘s educated and caring staff will watch over and guide your kiddos in building\, creating\, and using their imaginations. \nChildren ages 5+ may be dropped off. Children ages 1-4 are welcome\, but a parent must stay to supervise them.
URL:https://playpittsburgh.com/event/snapology-parents-night/2016-08-05/
LOCATION:Snapology (Bethel Park)\, 1699 Washington Rd\, Mt Lebanon\, PA\, 15228\, United States
CATEGORIES:Indoor Play
GEO:40.3491516;-80.0514502
X-APPLE-STRUCTURED-LOCATION;VALUE=URI;X-ADDRESS=Snapology (Bethel Park) 1699 Washington Rd Mt Lebanon PA 15228 United States;X-APPLE-RADIUS=500;X-TITLE=1699 Washington Rd:geo:-80.0514502,40.3491516
END:VEVENT
BEGIN:VEVENT
DTSTART;TZID=America/New_York:20160810T100000
DTEND;TZID=America/New_York:20160810T113000
DTSTAMP:20260422T165909
CREATED:20160706T150135Z
LAST-MODIFIED:20160706T150135Z
UID:9614-1470823200-1470828600@playpittsburgh.com
SUMMARY:Monroeville Cinemark $1 Summer Movie Club
DESCRIPTION:All showtimes at 10am on Wednesdays. Just $1 per show! \n7/6 – Home \n7/13  – Box Trolls \n7/20 – The Sandlot \n7/27 – Norm of the North \n8/3 – Shawn the Sheep Movie \n8/10 – Max
URL:https://playpittsburgh.com/event/monroeville-cinemark-1-summer-movie-club/2016-08-10/
LOCATION:Cinemark Monroeville Mall\, 600 Monroeville Mall\, Monroeville\, PA\, 15146\, United States
CATEGORIES:Indoor Play
GEO:40.4291856;-79.795702
X-APPLE-STRUCTURED-LOCATION;VALUE=URI;X-ADDRESS=Cinemark Monroeville Mall 600 Monroeville Mall Monroeville PA 15146 United States;X-APPLE-RADIUS=500;X-TITLE=600 Monroeville Mall:geo:-79.795702,40.4291856
END:VEVENT
BEGIN:VEVENT
DTSTART;TZID=America/New_York:20160812T173000
DTEND;TZID=America/New_York:20160812T203000
DTSTAMP:20260422T165909
CREATED:20160701T024428Z
LAST-MODIFIED:20160701T024428Z
UID:9338-1471023000-1471033800@playpittsburgh.com
SUMMARY:Snapology Parents Night Out
DESCRIPTION:Parents Night Out is a 2-3 hour window of opportunity for kids to play and create in the Discovery Center while parents and caregivers have some time to do whatever what they’d like! \nSnapology‘s educated and caring staff will watch over and guide your kiddos in building\, creating\, and using their imaginations. \nChildren ages 5+ may be dropped off. Children ages 1-4 are welcome\, but a parent must stay to supervise them.
URL:https://playpittsburgh.com/event/snapology-parents-night/2016-08-12/
LOCATION:Snapology (Bethel Park)\, 1699 Washington Rd\, Mt Lebanon\, PA\, 15228\, United States
CATEGORIES:Indoor Play
GEO:40.3491516;-80.0514502
X-APPLE-STRUCTURED-LOCATION;VALUE=URI;X-ADDRESS=Snapology (Bethel Park) 1699 Washington Rd Mt Lebanon PA 15228 United States;X-APPLE-RADIUS=500;X-TITLE=1699 Washington Rd:geo:-80.0514502,40.3491516
END:VEVENT
BEGIN:VEVENT
DTSTART;TZID=America/New_York:20160819T173000
DTEND;TZID=America/New_York:20160819T203000
DTSTAMP:20260422T165909
CREATED:20160701T024428Z
LAST-MODIFIED:20160701T024428Z
UID:9339-1471627800-1471638600@playpittsburgh.com
SUMMARY:Snapology Parents Night Out
DESCRIPTION:Parents Night Out is a 2-3 hour window of opportunity for kids to play and create in the Discovery Center while parents and caregivers have some time to do whatever what they’d like! \nSnapology‘s educated and caring staff will watch over and guide your kiddos in building\, creating\, and using their imaginations. \nChildren ages 5+ may be dropped off. Children ages 1-4 are welcome\, but a parent must stay to supervise them.
URL:https://playpittsburgh.com/event/snapology-parents-night/2016-08-19/
LOCATION:Snapology (Bethel Park)\, 1699 Washington Rd\, Mt Lebanon\, PA\, 15228\, United States
CATEGORIES:Indoor Play
GEO:40.3491516;-80.0514502
X-APPLE-STRUCTURED-LOCATION;VALUE=URI;X-ADDRESS=Snapology (Bethel Park) 1699 Washington Rd Mt Lebanon PA 15228 United States;X-APPLE-RADIUS=500;X-TITLE=1699 Washington Rd:geo:-80.0514502,40.3491516
END:VEVENT
BEGIN:VEVENT
DTSTART;TZID=America/New_York:20160826T173000
DTEND;TZID=America/New_York:20160826T203000
DTSTAMP:20260422T165909
CREATED:20160701T024428Z
LAST-MODIFIED:20160701T024428Z
UID:9340-1472232600-1472243400@playpittsburgh.com
SUMMARY:Snapology Parents Night Out
DESCRIPTION:Parents Night Out is a 2-3 hour window of opportunity for kids to play and create in the Discovery Center while parents and caregivers have some time to do whatever what they’d like! \nSnapology‘s educated and caring staff will watch over and guide your kiddos in building\, creating\, and using their imaginations. \nChildren ages 5+ may be dropped off. Children ages 1-4 are welcome\, but a parent must stay to supervise them.
URL:https://playpittsburgh.com/event/snapology-parents-night/2016-08-26/
LOCATION:Snapology (Bethel Park)\, 1699 Washington Rd\, Mt Lebanon\, PA\, 15228\, United States
CATEGORIES:Indoor Play
GEO:40.3491516;-80.0514502
X-APPLE-STRUCTURED-LOCATION;VALUE=URI;X-ADDRESS=Snapology (Bethel Park) 1699 Washington Rd Mt Lebanon PA 15228 United States;X-APPLE-RADIUS=500;X-TITLE=1699 Washington Rd:geo:-80.0514502,40.3491516
END:VEVENT
BEGIN:VEVENT
DTSTART;TZID=America/New_York:20160902T173000
DTEND;TZID=America/New_York:20160902T203000
DTSTAMP:20260422T165909
CREATED:20160701T024428Z
LAST-MODIFIED:20160701T024428Z
UID:9341-1472837400-1472848200@playpittsburgh.com
SUMMARY:Snapology Parents Night Out
DESCRIPTION:Parents Night Out is a 2-3 hour window of opportunity for kids to play and create in the Discovery Center while parents and caregivers have some time to do whatever what they’d like! \nSnapology‘s educated and caring staff will watch over and guide your kiddos in building\, creating\, and using their imaginations. \nChildren ages 5+ may be dropped off. Children ages 1-4 are welcome\, but a parent must stay to supervise them.
URL:https://playpittsburgh.com/event/snapology-parents-night/2016-09-02/
LOCATION:Snapology (Bethel Park)\, 1699 Washington Rd\, Mt Lebanon\, PA\, 15228\, United States
CATEGORIES:Indoor Play
GEO:40.3491516;-80.0514502
X-APPLE-STRUCTURED-LOCATION;VALUE=URI;X-ADDRESS=Snapology (Bethel Park) 1699 Washington Rd Mt Lebanon PA 15228 United States;X-APPLE-RADIUS=500;X-TITLE=1699 Washington Rd:geo:-80.0514502,40.3491516
END:VEVENT
BEGIN:VEVENT
DTSTART;TZID=America/New_York:20160909T173000
DTEND;TZID=America/New_York:20160909T203000
DTSTAMP:20260422T165909
CREATED:20160701T024428Z
LAST-MODIFIED:20160701T024428Z
UID:9342-1473442200-1473453000@playpittsburgh.com
SUMMARY:Snapology Parents Night Out
DESCRIPTION:Parents Night Out is a 2-3 hour window of opportunity for kids to play and create in the Discovery Center while parents and caregivers have some time to do whatever what they’d like! \nSnapology‘s educated and caring staff will watch over and guide your kiddos in building\, creating\, and using their imaginations. \nChildren ages 5+ may be dropped off. Children ages 1-4 are welcome\, but a parent must stay to supervise them.
URL:https://playpittsburgh.com/event/snapology-parents-night/2016-09-09/
LOCATION:Snapology (Bethel Park)\, 1699 Washington Rd\, Mt Lebanon\, PA\, 15228\, United States
CATEGORIES:Indoor Play
GEO:40.3491516;-80.0514502
X-APPLE-STRUCTURED-LOCATION;VALUE=URI;X-ADDRESS=Snapology (Bethel Park) 1699 Washington Rd Mt Lebanon PA 15228 United States;X-APPLE-RADIUS=500;X-TITLE=1699 Washington Rd:geo:-80.0514502,40.3491516
END:VEVENT
BEGIN:VEVENT
DTSTART;TZID=America/New_York:20160916T173000
DTEND;TZID=America/New_York:20160916T203000
DTSTAMP:20260422T165909
CREATED:20160701T024428Z
LAST-MODIFIED:20160701T024428Z
UID:9343-1474047000-1474057800@playpittsburgh.com
SUMMARY:Snapology Parents Night Out
DESCRIPTION:Parents Night Out is a 2-3 hour window of opportunity for kids to play and create in the Discovery Center while parents and caregivers have some time to do whatever what they’d like! \nSnapology‘s educated and caring staff will watch over and guide your kiddos in building\, creating\, and using their imaginations. \nChildren ages 5+ may be dropped off. Children ages 1-4 are welcome\, but a parent must stay to supervise them.
URL:https://playpittsburgh.com/event/snapology-parents-night/2016-09-16/
LOCATION:Snapology (Bethel Park)\, 1699 Washington Rd\, Mt Lebanon\, PA\, 15228\, United States
CATEGORIES:Indoor Play
GEO:40.3491516;-80.0514502
X-APPLE-STRUCTURED-LOCATION;VALUE=URI;X-ADDRESS=Snapology (Bethel Park) 1699 Washington Rd Mt Lebanon PA 15228 United States;X-APPLE-RADIUS=500;X-TITLE=1699 Washington Rd:geo:-80.0514502,40.3491516
END:VEVENT
BEGIN:VEVENT
DTSTART;TZID=America/New_York:20160923T173000
DTEND;TZID=America/New_York:20160923T203000
DTSTAMP:20260422T165909
CREATED:20160701T024428Z
LAST-MODIFIED:20160701T024428Z
UID:9344-1474651800-1474662600@playpittsburgh.com
SUMMARY:Snapology Parents Night Out
DESCRIPTION:Parents Night Out is a 2-3 hour window of opportunity for kids to play and create in the Discovery Center while parents and caregivers have some time to do whatever what they’d like! \nSnapology‘s educated and caring staff will watch over and guide your kiddos in building\, creating\, and using their imaginations. \nChildren ages 5+ may be dropped off. Children ages 1-4 are welcome\, but a parent must stay to supervise them.
URL:https://playpittsburgh.com/event/snapology-parents-night/2016-09-23/
LOCATION:Snapology (Bethel Park)\, 1699 Washington Rd\, Mt Lebanon\, PA\, 15228\, United States
CATEGORIES:Indoor Play
GEO:40.3491516;-80.0514502
X-APPLE-STRUCTURED-LOCATION;VALUE=URI;X-ADDRESS=Snapology (Bethel Park) 1699 Washington Rd Mt Lebanon PA 15228 United States;X-APPLE-RADIUS=500;X-TITLE=1699 Washington Rd:geo:-80.0514502,40.3491516
END:VEVENT
BEGIN:VEVENT
DTSTART;TZID=America/New_York:20160930T173000
DTEND;TZID=America/New_York:20160930T203000
DTSTAMP:20260422T165909
CREATED:20160701T024428Z
LAST-MODIFIED:20160701T024428Z
UID:9346-1475256600-1475267400@playpittsburgh.com
SUMMARY:Snapology Parents Night Out
DESCRIPTION:Parents Night Out is a 2-3 hour window of opportunity for kids to play and create in the Discovery Center while parents and caregivers have some time to do whatever what they’d like! \nSnapology‘s educated and caring staff will watch over and guide your kiddos in building\, creating\, and using their imaginations. \nChildren ages 5+ may be dropped off. Children ages 1-4 are welcome\, but a parent must stay to supervise them.
URL:https://playpittsburgh.com/event/snapology-parents-night/2016-09-30/
LOCATION:Snapology (Bethel Park)\, 1699 Washington Rd\, Mt Lebanon\, PA\, 15228\, United States
CATEGORIES:Indoor Play
GEO:40.3491516;-80.0514502
X-APPLE-STRUCTURED-LOCATION;VALUE=URI;X-ADDRESS=Snapology (Bethel Park) 1699 Washington Rd Mt Lebanon PA 15228 United States;X-APPLE-RADIUS=500;X-TITLE=1699 Washington Rd:geo:-80.0514502,40.3491516
END:VEVENT
END:VCALENDAR